Workbook

Sheet Cover page
A1: =_xlfn.CONCAT("Safe Work Australia – Traumatic Injury Fatalities detailed data file ",$A$5) -> Safe Work Australia – Traumatic Injury Fatalities detailed data file 2025
A5: 2025
A6: Published:
A7: 46304
A9: Reference information:
A10: Work-related fatalities catalogue page [Link 1]
A11: Australian and New Zealand Standard Industrial Classification (ANZSIC) [Link 2]
A12: Australian and New Zealand Standard Classification of Occupations (ANZSCO) [Link 3]
A13: Type of Occurrence Classification System (TOOCS) 3rd Edition [Link 4]
A15: Contents:
A16: TIF by Industry
A17: =_xlfn.CONCAT("Table 1.1. Fatalities (count) by Industry (ANZSIC Subdivision), 10 years (calendar) to ",$A$5) -> Table 1.1. Fatalities (count) by Industry (ANZSIC Subdivision), 10 years (calendar) to 2025 | B17: Link
A18: =_xlfn.CONCAT("Table 1.2. Fatalities (rate) by Industry (ANZSIC Subdivision), 10 years (calendar) to ",$A$5) -> Table 1.2. Fatalities (rate) by Industry (ANZSIC Subdivision), 10 years (calendar) to 2025 | B18: Link
A19: =_xlfn.CONCAT("Table 1.3. Fatalities (count) by Industry (ANZSIC Subdivision), 10 years (financial) to ",_xlfn.CONCAT($A$5-1,"-",RIGHT($A$5,2))) -> Table 1.3. Fatalities (count) by Industry (ANZSIC Subdivision), 10 years (financial) to 2024-25 | B19: Link
A20: =_xlfn.CONCAT("Table 1.4. Fatalities (rate) by Industry (ANZSIC Subdivision), 10 years (financial) to ",_xlfn.CONCAT($A$5-1,"-",RIGHT($A$5,2))) -> Table 1.4. Fatalities (rate) by Industry (ANZSIC Subdivision), 10 years (financial) to 2024-25 | B20: Link
A21: TIF by Occupation
A22: =_xlfn.CONCAT("Table 2.1. Fatalities (count) by Occupation (ANZSCO Sub major group), 10 years (calendar) to ",$A$5) -> Table 2.1. Fatalities (count) by Occupation (ANZSCO Sub major group), 10 years (calendar) to 2025 | B22: Link
A23: =_xlfn.CONCAT("Table 2.2. Fatalities (rate) by Occupation (ANZSCO Sub major group), 10 years (calendar) to ",$A$5) -> Table 2.2. Fatalities (rate) by Occupation (ANZSCO Sub major group), 10 years (calendar) to 2025 | B23: Link
A24: =_xlfn.CONCAT("Table 2.3. Fatalities (count) by Occupation (ANZSCO Sub major group), 10 years (financial) to ",_xlfn.CONCAT($A$5-1,"-",RIGHT($A$5,2))) -> Table 2.3. Fatalities (count) by Occupation (ANZSCO Sub major group), 10 years (financial) to 2024-25 | B24: Link
A25: =_xlfn.CONCAT("Table 2.4. Fatalities (rate) by Occupation (ANZSCO Sub major group), 10 years (financial) to ",_xlfn.CONCAT($A$5-1,"-",RIGHT($A$5,2))) -> Table 2.4. Fatalities (rate) by Occupation (ANZSCO Sub major group), 10 years (financial) to 2024-25 | B25: Link
A26: TIF by Mechanism
A27: =_xlfn.CONCAT("Table 3.1. Fatalities (count) by Mechanism (TOOCS Sub major group), 10 years (calendar) to ",$A$5) -> Table 3.1. Fatalities (count) by Mechanism (TOOCS Sub major group), 10 years (calendar) to 2025 | B27: Link
A28: =_xlfn.CONCAT("Table 3.2. Fatalities (count) by Mechanism (TOOCS Sub major group), 10 years (financial) to ",_xlfn.CONCAT($A$5-1,"-",RIGHT($A$5,2))) -> Table 3.2. Fatalities (count) by Mechanism (TOOCS Sub major group), 10 years (financial) to 2024-25 | B28: Link
A29: TIF by Breakdown Agency
A30: =_xlfn.CONCAT("Table 4.1. Fatalities (count) by Breakdown Agency (TOOCS Sub major group), 10 years (calendar) to ",$A$5) -> Table 4.1. Fatalities (count) by Breakdown Agency (TOOCS Sub major group), 10 years (calendar) to 2025 | B30: Link
A31: =_xlfn.CONCAT("Table 4.2. Fatalities (count) by Breakdown Agency (TOOCS Sub major group), 10 years (financial) to ",_xlfn.CONCAT($A$5-1,"-",RIGHT($A$5,2))) -> Table 4.2. Fatalities (count) by Breakdown Agency (TOOCS Sub major group), 10 years (financial) to 2024-25 | B31: Link
A32: TIF by Agency
A33: =_xlfn.CONCAT("Table 5.1. Fatalities (count) by Agency (TOOCS Sub major group), 10 years (calendar) to ",$A$5) -> Table 5.1. Fatalities (count) by Agency (TOOCS Sub major group), 10 years (calendar) to 2025 | B33: Link
A34: =_xlfn.CONCAT("Table 5.2. Fatalities (count) by Agency (TOOCS Sub major group), 10 years (financial) to ",_xlfn.CONCAT($A$5-1,"-",RIGHT($A$5,2))) -> Table 5.2. Fatalities (count) by Agency (TOOCS Sub major group), 10 years (financial) to 2024-25 | B34: Link
A35: TIF by Demographic Characteristics
A36: =_xlfn.CONCAT("Table 6.1. Fatalities (count) by Demographics (Age group and Sex), 10 years (calendar) to ",$A$5) -> Table 6.1. Fatalities (count) by Demographics (Age group and Sex), 10 years (calendar) to 2025 | B36: Link
A37: =_xlfn.CONCAT("Table 6.2. Fatalities (rate) by Demographics (Age group and Sex), 10 years (calendar) to ",$A$5) -> Table 6.2. Fatalities (rate) by Demographics (Age group and Sex), 10 years (calendar) to 2025 | B37: Link
A38: =_xlfn.CONCAT("Table 6.3. Fatalities (count) by Demographics (Age group and Sex), 10 years (financial) to ",_xlfn.CONCAT($A$5-1,"-",RIGHT($A$5,2))) -> Table 6.3. Fatalities (count) by Demographics (Age group and Sex), 10 years (financial) to 2024-25 | B38: Link
A39: =_xlfn.CONCAT("Table 6.4. Fatalities (rate) by Demographics (Age group and Sex), 10 years (financial) to ",_xlfn.CONCAT($A$5-1,"-",RIGHT($A$5,2))) -> Table 6.4. Fatalities (rate) by Demographics (Age group and Sex), 10 years (financial) to 2024-25 | B39: Link
A40: TIF by Location
A41: =_xlfn.CONCAT("Table 7.1. Fatalities (count) by Location (State/Territory), 10 years (calendar) to ",$A$5) -> Table 7.1. Fatalities (count) by Location (State/Territory), 10 years (calendar) to 2025 | B41: Link
A42: =_xlfn.CONCAT("Table 7.2. Fatalities (rate) by Location (State/Territory), 10 years (calendar) to ",$A$5) -> Table 7.2. Fatalities (rate) by Location (State/Territory), 10 years (calendar) to 2025 | B42: Link
A43: =_xlfn.CONCAT("Table 7.3. Fatalities (count) by Location (State/Territory), 10 years (financial) to ",_xlfn.CONCAT($A$5-1,"-",RIGHT($A$5,2))) -> Table 7.3. Fatalities (count) by Location (State/Territory), 10 years (financial) to 2024-25 | B43: Link
A44: =_xlfn.CONCAT("Table 7.4. Fatalities (rate) by Location (State/Territory), 10 years (financial) to ",_xlfn.CONCAT($A$5-1,"-",RIGHT($A$5,2))) -> Table 7.4. Fatalities (rate) by Location (State/Territory), 10 years (financial) to 2024-25 | B44: Link
A45: TIF by Jurisdiction
A46: =_xlfn.CONCAT("Table 8.1. Fatalities (count) by Jurisdiction (TIF Jurisdiction and Public road status), 5 years (calendar) to ",$A$5) -> Table 8.1. Fatalities (count) by Jurisdiction (TIF Jurisdiction and Public road status), 5 years (calendar) to 2025 | B46: Link
A47: =_xlfn.CONCAT("Table 8.2. Fatalities (count) by Jurisdiction (TIF Jurisdiction and Public road status), 5 years (financial) to ",_xlfn.CONCAT($A$5-1,"-",RIGHT($A$5,2))) -> Table 8.2. Fatalities (count) by Jurisdiction (TIF Jurisdiction and Public road status), 5 years (financial) to 2024-25 | B47: Link
A48: TIF Vehicle fatalities
A49: =_xlfn.CONCAT("Table 9.1. Fatalities involving vehicles (count) by Deceased's vehicle type, 10 years (calendar) to ",$A$5) -> Table 9.1. Fatalities involving vehicles (count) by Deceased's vehicle type, 10 years (calendar) to 2025 | B49: Link
A50: =_xlfn.CONCAT("Table 9.2. Fatalities involving vehicles (count) by Deceased's vehicle type, 10 years (financial) to ",_xlfn.CONCAT($A$5-1,"-",RIGHT($A$5,2))) -> Table 9.2. Fatalities involving vehicles (count) by Deceased's vehicle type, 10 years (financial) to 2024-25 | B50: Link
A51: =_xlfn.CONCAT("Table 9.3. Fatalities involving vehicles (count) by Deceased's activity type, 10 years (calendar) to ",$A$5) -> Table 9.3. Fatalities involving vehicles (count) by Deceased's activity type, 10 years (calendar) to 2025 | B51: Link
A52: =_xlfn.CONCAT("Table 9.4. Fatalities involving vehicles (count) by Deceased's activity type, 10 years (financial) to ",_xlfn.CONCAT($A$5-1,"-",RIGHT($A$5,2))) -> Table 9.4. Fatalities involving vehicles (count) by Deceased's activity type, 10 years (financial) to 2024-25 | B52: Link
A53: TIF by Gig worker status
A54: =_xlfn.CONCAT("Table 10.1. Fatalities (count) by Gig worker status, 5 years (calendar) to 2023") -> Table 10.1. Fatalities (count) by Gig worker status, 5 years (calendar) to 2023 | B54: Link
A55: =_xlfn.CONCAT("Table 10.2. Fatalities (count) by Gig worker status, 5 years (financial) to 2022-23") -> Table 10.2. Fatalities (count) by Gig worker status, 5 years (financial) to 2022-23 | B55: Link

Sheet Table 1.1
A1: ='Cover page'!$A$17 -> Table 1.1. Fatalities (count) by Industry (ANZSIC Subdivision), 10 years (calendar) to 2025
A2: Return to Cover page
A3: Top_10_Cal_Year_Indicator | B3: TRUE
A4: NFD_2digit_Flag | B4: 0
A6: Fatalities (count)
B7: 2016 | C7: 2017 | D7: 2018 | E7: 2019 | F7: 2020 | G7: 2021 | H7: 2022 | I7: 2023 | J7: 2024 | K7: 2025
A8: A Agriculture, forestry and fishing | B8: 47 | C8: 54 | D8: 36 | E8: 32 | F8: 48 | G8: 34 | H8: 46 | I8: 28 | J8: 46 | K8: 38
A9: 01 Agriculture | B9: 33 | C9: 43 | D9: 30 | E9: 26 | F9: 43 | G9: 26 | H9: 40 | I9: 22 | J9: 41 | K9: 33
A10: 02 Aquaculture | B10: 0 | C10: 0 | D10: 0 | E10: 0 | F10: 0 | G10: 0 | H10: 0 | I10: 0 | J10: 0 | K10: 0
A11: 03 Forestry and logging | B11: 6 | C11: 1 | D11: 2 | E11: 3 | F11: 0 | G11: 2 | H11: 1 | I11: 1 | J11: 1 | K11: 1
A12: 04 Fishing, hunting and trapping | B12: 6 | C12: 6 | D12: 2 | E12: 2 | F12: 3 | G12: 3 | H12: 0 | I12: 0 | J12: 0 | K12: 4
A13: 05 Agriculture, forestry and fishing support services | B13: 2 | C13: 4 | D13: 2 | E13: 1 | F13: 2 | G13: 3 | H13: 5 | I13: 5 | J13: 4 | K13: 0
A14: B Mining | B14: 6 | C14: 4 | D14: 7 | E14: 7 | F14: 7 | G14: 6 | H14: 7 | I14: 6 | J14: 10 | K14: 7
A15: 06 Coal mining | B15: 0 | C15: 1 | D15: 1 | E15: 4 | F15: 1 | G15: 2 | H15: 1 | I15: 0 | J15: 5 | K15: 0
A16: 07 Oil and gas extraction | B16: 0 | C16: 1 | D16: 0 | E16: 0 | F16: 0 | G16: 0 | H16: 0 | I16: 1 | J16: 0 | K16: 0
A17: 08 Metal ore mining | B17: 3 | C17: 1 | D17: 2 | E17: 2 | F17: 3 | G17: 3 | H17: 1 | I17: 4 | J17: 1 | K17: 4
A18: 09 Non-metallic mineral mining and quarrying | B18: 3 | C18: 0 | D18: 2 | E18: 1 | F18: 2 | G18: 1 | H18: 2 | I18: 1 | J18: 0 | K18: 2
A19: 10 Exploration and other mining support services | B19: 0 | C19: 1 | D19: 2 | E19: 0 | F19: 1 | G19: 0 | H19: 3 | I19: 0 | J19: 4 | K19: 1
... A113: Total | B113: 190 | C113: 192 | D113: 144 | E113: 193 | F113: 199 | G113: 174 | H113: 197 | I113: 201 | J113: 192 | K113: 222

Sheet Table 1.2
A1: ='Cover page'!$A$18 -> Table 1.2. Fatalities (rate) by Industry (ANZSIC Subdivision), 10 years (calendar) to 2025
A2: Return to Cover page
A3: Top_10_Cal_Year_Indicator | B3: TRUE
A4: NFD_2digit_Flag | B4: 0
A6: Fatalities (rate)
B7: 2016 | C7: 2017 | D7: 2018 | E7: 2019 | F7: 2020 | G7: 2021 | H7: 2022 | I7: 2023 | J7: 2024 | K7: 2025
A8: A Agriculture, forestry and fishing | B8: 15.028698 | C8: 16.684453 | D8: 10.802145 | E8: 9.7774263 | F8: 13.903028 | G8: 10.361116 | H8: 15.335581 | I8: 9.2758288 | J8: 14.319043 | K8: 12.962706
A9: 01 Agriculture | B9: 12.343029 | C9: 15.96202 | D9: 10.426059 | E9: 9.2324764 | F9: 14.171743 | G9: 9.2246943 | H9: 15.675916 | I9: 8.5452307 | J9: 14.953199 | K9: 13.341932
A10: 02 Aquaculture | B10: NP | C10: NP | D10: NP | E10: NP | F10: NP | G10: NP | H10: NP | I10: NP | J10: NP | K10: NP
A11: 03 Forestry and logging | B11: 76.569267 | C11: 12.680464 | D11: 26.513431 | E11: 44.253924 | F11: NP | G11: 29.975633 | H11: 16.375163 | I11: 23.129205 | J11: 18.480841 | K11: 14.374705
A12: 04 Fishing, hunting and trapping | B12: 92.230981 | C12: 84.635531 | D12: 36.820379 | E12: 31.440464 | F12: 44.30812 | G12: 62.586364 | H12: NP | I12: NP | J12: NP | K12: 81.551663
A13: 05 Agriculture, forestry and fishing support services | B13: 8.7817569 | C13: 12.707953 | D13: 8.0503548 | E13: 3.6911403 | F13: 8.4003879 | G13: 10.466644 | H13: 17.91879 | I13: 16.689758 | J13: 12.675507 | K13: NP
A14: B Mining | B14: 3.0123893 | C14: 1.8090654 | D14: 2.7923683 | E14: 2.6924599 | F14: 2.6662472 | G14: 2.1278486 | H14: 2.332086 | I14: 1.933349 | J14: 3.3785737 | K14: 2.3518745
A15: 06 Coal mining | B15: NP | C15: 2.0933637 | D15: 1.8059445 | E15: 7.2600296 | F15: 1.8461961 | G15: 4.1815492 | H15: 2.2041733 | I15: NP | J15: 10.830105 | K15: NP
A16: 07 Oil and gas extraction | B16: NP | C16: 4.4800263 | D16: NP | E16: NP | F16: NP | G16: NP | H16: NP | I16: 4.7041501 | J16: NP | K16: NP
A17: 08 Metal ore mining | B17: 4.5027663 | C17: 1.2057104 | D17: 2.1056311 | E17: 1.6876342 | F17: 2.5341817 | G17: 2.3197189 | H17: 0.72397237 | I17: 2.8044458 | J17: 0.7866268 | K17: 3.0232565
A18: 09 Non-metallic mineral mining and quarrying | B18: 29.715974 | C18: NP | D18: 13.353626 | E18: 6.6415768 | F18: 17.385493 | G18: 6.805 | H18: 15.187785 | I18: 5.2841185 | J18: NP | K18: 11.233824
A19: 10 Exploration and other mining support services | B19: NP | C19: 1.7683717 | D19: 3.5505634 | E19: NP | F19: 1.9130128 | G19: NP | H19: 3.7122101 | I19: NP | J19: 4.7375257 | K19: 1.3441321
A20: C Manufacturing | B20: 0.81243002 | C20: 0.69646941 | D20: 1.4134669 | E20: 1.5936021 | F20: 2.0926578 | G20: 1.7842959 | H20: 1.1843684 | I20: 1.3329284 | J20: 0.78808176 | K20: 1.7534087
A21: 11 Food product manufacturing | B21: NP | C21: 1.0433908 | D21: NP | E21: 0.98849034 | F21: 1.5220098 | G21: 1.8949204 | H21: 1.5500539 | I21: 1.0279428 | J21: 0.5027818 | K21: 1.0215528
A22: 12 Beverage and tobacco product manufacturing | B22: NP | C22: NP | D22: 3.0259183 | E22: NP | F22: NP | G22: 2.6897646 | H22: NP | I22: NP | J22: NP | K22: NP
A23: 13 Textile, leather, clothing and footwear manufacturing | B23: NP | C23: NP | D23: NP | E23: NP | F23: NP | G23: NP | H23: NP | I23: NP | J23: NP | K23: NP
A24: 14 Wood product manufacturing | B24: 2.437221 | C24: NP | D24: 4.189626 | E24: 4.428034 | F24: 9.4297352 | G24: 2.7068117 | H24: 2.6001139 | I24: 2.5460462 | J24: 2.8265652 | K24: 3.1823355
A25: 15 Pulp, paper and converted paper product manufacturing | B25: NP | C25: NP | D25: 12.392034 | E25: NP | F25: NP | G25: NP | H25: NP | I25: NP | J25: NP | K25: NP
A26: 16 Printing (including the reproduction of recorded media) | B26: NP | C26: NP | D26: NP | E26: NP | F26: NP | G26: NP | H26: NP | I26: 3.3462533 | J26: NP | K26: NP
A27: 17 Petroleum and coal product manufacturing | B27: NP | C27: NP | D27: NP | E27: NP | F27: NP | G27: NP | H27: NP | I27: NP | J27: NP | K27: NP
A28: 18 Basic chemical and chemical product manufacturing | B28: NP | C28: NP | D28: 3.5606117 | E28: NP | F28: 1.7420006 | G28: 1.8451585 | H28: NP | I28: 3.8925971 | J28: NP | K28: NP
A29: 19 Polymer product and rubber product manufacturing | B29: NP | C29: 3.501189 | D29: NP | E29: 2.7877657 | F29: NP | G29: 3.1969538 | H29: NP | I29: 6.489024 | J29: NP | K29: NP
A30: 20 Non-metallic mineral product manufacturing | B30: 5.7729007 | C30: 6.0690105 | D30: 2.5297722 | E30: 8.0000517 | F30: NP | G30: 2.7293149 | H30: 3.4023029 | I30: NP | J30: 9.4400606 | K30: 5.5932728
A31: 21 Primary metal and metal product manufacturing | B31: NP | C31: 1.7154501 | D31: NP | E31: NP | F31: 1.3660011 | G31: NP | H31: 1.7694145 | I31: 1.4062233 | J31: NP | K31: 1.7630075
A32: 22 Fabricated metal product manufacturing | B32: 4.8930221 | C32: NP | D32: 1.3883859 | E32: 2.8392268 | F32: 4.7680191 | G32: 4.0751326 | H32: 2.546733 | I32: 2.9465866 | J32: 1.282117 | K32: 6.6473241
A33: 23 Transport equipment manufacturing | B33: NP | C33: NP | D33: 3.2469073 | E33: 2.9506826 | F33: 4.7531993 | G33: 2.9703044 | H33: 1.3312767 | I33: NP | J33: 1.3872452 | K33: 3.1134712
A34: 24 Machinery and equipment manufacturing | B34: 0.8385334 | C34: NP | D34: 1.5700886 | E34: 1.7830629 | F34: 0.91624343 | G34: 1.5936383 | H34: NP | I34: 0.81860867 | J34: NP | K34: 0.8175523
A35: 25 Furniture and other manufacturing | B35: NP | C35: NP | D35: NP | E35: NP | F35: 2.917374 | G35: NP | H35: 1.5326154 | I35: NP | J35: NP | K35: 1.2856879
A36: D Electricity, gas, water and waste services | B36: 5.1440101 | C36: 1.4364759 | D36: 1.9503969 | E36: 3.7934497 | F36: 1.9613962 | G36: 2.0543457 | H36: 3.5987467 | I36: 2.4685485 | J36: 3.0371865 | K36: 3.3403365
A37: 26 Electricity supply | B37: NP | C37: NP | D37: 1.4407886 | E37: 1.4824823 | F37: NP | G37: 1.4817323 | H37: 1.3462633 | I37: 1.3911099 | J37: 1.0303707 | K37: 0.91763344
A38: 27 Gas supply | B38: NP | C38: NP | D38: NP | E38: NP | F38: NP | G38: NP | H38: NP | I38: NP | J38: NP | K38: NP
A39: 28 Water supply, sewerage and drainage services | B39: NP | C39: NP | D39: NP | E39: NP | F39: NP | G39: NP | H39: NP | I39: NP | J39: NP | K39: NP
A40: 29 Waste collection, treatment and disposal services | B40: 21.31196 | C40: 5.766517 | D40: 5.3850561 | E40: 11.516842 | F40: 8.3448301 | G40: 5.5671456 | H40: 10.925085 | I40: 6.4209955 | J40: 10.392759 | K40: 12.619454
A41: E Construction | B41: 3.471473 | C41: 2.6774661 | D41: 2.0571961 | E41: 2.4008489 | F41: 3.0924508 | G41: 2.2809363 | H41: 2.3731461 | I41: 3.5045087 | J41: 2.6282754 | K41: 3.0585664
A42: 30 Building construction | B42: 4.7375022 | C42: 4.1746454 | D42: 1.5749072 | E42: 2.9170105 | F42: 2.1267561 | G42: 2.2932105 | H42: 1.8325314 | I42: 2.8454472 | J42: 2.6056512 | K42: 1.9302564
A43: 31 Heavy and civil engineering construction | B43: 2.8964337 | C43: 5.8351459 | D43: 6.1350506 | E43: 0.89836032 | F43: 3.4529748 | G43: 5.8317807 | H43: 4.2688583 | I43: 8.6817962 | J43: 3.967716 | K43: 3.3950886
A44: 32 Construction services | B44: 3.0278251 | C44: 1.7395374 | D44: 1.6325221 | E44: 2.4115589 | F44: 3.4763584 | G44: 1.6792566 | H44: 2.315222 | I44: 2.9163873 | J44: 2.4334648 | K44: 3.4882345
A45: F Wholesale trade | B45: NP | C45: 1.6853708 | D45: 0.80511387 | E45: 2.0432058 | F45: 0.51938753 | G45: 1.0971188 | H45: 0.84825802 | I45: 1.0627046 | J45: 0.52962249 | K45: 0.90034992
A46: 33 Basic material wholesaling | B46: NP | C46: 4.3499 | D46: NP | E46: 1.1057425 | F46: 1.1663771 | G46: 1.0967402 | H46: 1.2025938 | I46: 1.0160725 | J46: NP | K46: NP
A47: 34 Machinery and equipment wholesaling | B47: NP | C47: 1.1497049 | D47: 1.0476476 | E47: 0.88268188 | F47: NP | G47: 1.15841 | H47: NP | I47: NP | J47: NP | K47: 1.1352846
A48: 35 Motor vehicle and motor vehicle parts wholesaling | B48: NP | C48: NP | D48: 5.4852594 | E48: 11.118951 | F48: NP | G48: 3.306622 | H48: 4.2172914 | I48: 7.4360447 | J48: NP | K48: 4.6333489
A49: 36 Grocery, liquor and tobacco product wholesaling | B49: NP | C49: NP | D49: NP | E49: 4.4513027 | F49: 1.5511705 | G49: 1.5929581 | H49: 1.5408756 | I49: 1.7822784 | J49: 3.167635 | K49: 1.6827233
A50: 37 Other goods wholesaling | B50: NP | C50: 1.234306 | D50: NP | E50: NP | F50: NP | G50: NP | H50: NP | I50: NP | J50: NP | K50: NP
A51: 38 Commission-based wholesaling | B51: NP | C51: NP | D51: 10.462712 | E51: NP | F51: NP | G51: NP | H51: NP | I51: NP | J51: NP | K51: NP
A52: G Retail trade | B52: 0.33425762 | C52: 0.32501273 | D52: NP | E52: NP | F52: 0.16378792 | G52: 0.15739357 | H52: 0.076357149 | I52: 0.3009439 | J52: NP | K52: 0.22482216
A53: 39 Motor vehicle and motor vehicle parts retailing | B53: NP | C53: NP | D53: NP | E53: NP | F53: NP | G53: 0.99184748 | H53: NP | I53: NP | J53: NP | K53: 0.9923261
A54: 40 Fuel retailing | B54: NP | C54: 2.8077259 | D54: NP | E54: NP | F54: NP | G54: 2.7674018 | H54: NP | I54: NP | J54: NP | K54: NP
A55: 41 Food retailing | B55: 0.50189599 | C55: NP | D55: NP | E55: NP | F55: NP | G55: NP | H55: 0.237639 | I55: 0.49261355 | J55: NP | K55: 0.23305861
A56: 42 Other store-based retailing | B56: 0.15471194 | C56: 0.4411255 | D56: NP | E56: NP | F56: 0.29391671 | G56: NP | H56: NP | I56: 0.13203165 | J56: NP | K56: 0.13453301
A57: 43 Non-store retailing and retail commission-based buying and/or selling | B57: 6.6282768 | C57: NP | D57: NP | E57: NP | F57: NP | G57: NP | H57: NP | I57: 2.9951895 | J57: NP | K57: NP
A58: H Accommodation and food services | B58: 0.1184506 | C58: 0.57580611 | D58: 0.11416127 | E58: 0.22129549 | F58: 0.25295082 | G58: 0.23693974 | H58: 0.32703093 | I58: 0.54147944 | J58: NP | K58: 0.52065349
A59: 44 Accommodation | B59: 0.85019478 | C59: 1.9274327 | D59: NP | E59: NP | F59: NP | G59: 1.1041359 | H59: NP | I59: NP | J59: NP | K59: 2.811352
A60: 45 Food and beverage services | B60: NP | C60: 0.39237081 | D60: 0.13022013 | E60: 0.24863079 | F60: 0.28368608 | G60: 0.13270909 | H60: 0.36693369 | I60: 0.60789285 | J60: NP | K60: 0.23429591
A61: I Transport, postal and warehousing | B61: 7.6790044 | C61: 8.5140746 | D61: 6.1201849 | E61: 9.1119265 | F61: 8.1759941 | G61: 7.9845825 | H61: 9.3369547 | I61: 7.0808648 | J61: 7.5386641 | K61: 8.3124394
A62: 46 Road transport | B62: 14.555117 | C62: 11.946757 | D62: 9.8454425 | E62: 15.625111 | F62: 10.97404 | G62: 16.203209 | H62: 13.998662 | I62: 13.803313 | J62: 13.564975 | K62: 16.062546
A63: 47 Rail transport | B63: 2.4395063 | C63: 2.31807 | D63: NP | E63: 2.0569132 | F63: 4.0841922 | G63: 2.1434562 | H63: 4.7013414 | I63: 4.3122845 | J63: 1.8821919 | K63: NP
A64: 48 Water transport | B64: NP | C64: 12.567227 | D64: NP | E64: NP | F64: 8.5395739 | G64: 12.048611 | H64: 8.8293499 | I64: NP | J64: NP | K64: NP
A65: 49 Air and space transport | B65: 5.5207356 | C65: 11.472474 | D65: 7.9622947 | E65: 12.673283 | F65: 19.415481 | G65: 7.3670692 | H65: 21.891472 | I65: 1.8597656 | J65: NP | K65: 7.4811585
A66: 50 Other transport | B66: 14.774656 | C66: 69.261322 | D66: NP | E66: 22.033616 | F66: 28.43399 | G66: NP | H66: 20.637473 | I66: NP | J66: 21.988209 | K66: 15.551638
A67: 51 Postal and courier pick-up and delivery services | B67: NP | C67: 1.2121389 | D67: 2.3160984 | E67: 4.1609048 | F67: 6.2332115 | G67: 0.91141869 | H67: 3.9674718 | I67: 3.6240873 | J67: 7.7364124 | K67: 4.982876
A68: 52 Transport support services | B68: 3.657051 | C68: 3.7198286 | D68: 3.5215905 | E68: 1.1539168 | F68: 2.7894337 | G68: NP | H68: 3.2960065 | I68: NP | J68: 1.9780349 | K68: 2.7099679
A69: 53 Warehousing and storage services | B69: NP | C69: 1.6038388 | D69: 1.6344354 | E69: NP | F69: NP | G69: NP | H69: 1.0242931 | I69: 2.1698728 | J69: 0.97301451 | K69: 0.9183884
A70: J Information media and telecommunications | B70: 0.96143944 | C70: NP | D70: 0.90090574 | E70: NP | F70: NP | G70: NP | H70: 0.50737901 | I70: NP | J70: NP | K70: 1.0717648
A71: 54 Publishing (except internet and music publishing) | B71: NP | C71: NP | D71: NP | E71: NP | F71: NP | G71: NP | H71: NP | I71: NP | J71: NP | K71: NP
A72: 55 Motion picture and sound recording activities | B72: NP | C72: NP | D72: NP | E72: NP | F72: NP | G72: NP | H72: NP | I72: NP | J72: NP | K72: NP
A73: 56 Broadcasting (except internet) | B73: NP | C73: NP | D73: NP | E73: NP | F73: NP | G73: NP | H73: NP | I73: NP | J73: NP | K73: NP
A74: 57 Internet publishing and broadcasting | B74: NP | C74: NP | D74: NP | E74: NP | F74: NP | G74: NP | H74: NP | I74: NP | J74: NP | K74: NP
A75: 58 Telecommunications services | B75: 2.0725236 | C75: NP | D75: 1.9734275 | E75: NP | F75: NP | G75: NP | H75: 1.211851 | I75: NP | J75: NP | K75: 2.9970004
A76: 59 Internet service providers, web search portals and data processing services | B76: NP | C76: NP | D76: NP | E76: NP | F76: NP | G76: NP | H76: NP | I76: NP | J76: NP | K76: NP
A77: 60 Library and other information services | B77: NP | C77: NP | D77: NP | E77: NP | F77: NP | G77: NP | H77: NP | I77: NP | J77: NP | K77: NP
A78: K Financial and insurance services | B78: NP | C78: 0.46327546 | D78: NP | E78: NP | F78: NP | G78: NP | H78: NP | I78: NP | J78: NP | K78: NP
A79: 62 Finance | B79: NP | C79: 0.47590219 | D79: NP | E79: NP | F79: NP | G79: NP | H79: NP | I79: NP | J79: NP | K79: NP
A80: 63 Insurance and superannuation funds | B80: NP | C80: NP | D80: NP | E80: NP | F80: NP | G80: NP | H80: NP | I80: NP | J80: NP | K80: NP
A81: 64 Auxiliary finance and insurance services | B81: NP | C81: 0.75159886 | D81: NP | E81: NP | F81: NP | G81: NP | H81: NP | I81: NP | J81: NP | K81: NP
A82: L Rental, hiring and real estate services | B82: 0.94073918 | C82: 0.96851872 | D82: 0.93891194 | E82: 0.47643634 | F82: 0.94928195 | G82: 0.92455175 | H82: NP | I82: 0.47627218 | J82: 0.41417046 | K82: 1.2841086
A83: 66 Rental and hiring services (except real estate) | B83: 2.5330213 | C83: 2.7717751 | D83: 4.7215884 | E83: NP | F83: 2.7391945 | G83: 5.6110536 | H83: NP | I83: NP | J83: 2.314674 | K83: 7.995239
A84: 67 Property operators and real estate services | B84: 0.57763324 | C84: 0.58677543 | D84: NP | E84: 0.58230714 | F84: 0.57412374 | G84: NP | H84: NP | I84: 0.58719363 | J84: NP | K84: NP
A85: M Professional, scientific and technical services | B85: NP | C85: 0.098934713 | D85: NP | E85: 0.088206967 | F85: 0.44539667 | G85: 0.083881461 | H85: 0.2376034 | I85: 0.15190377 | J85: 0.30449756 | K85: 0.22236012
A86: 69 Professional, scientific and technical services (except computer system design and related services) | B86: NP | C86: 0.12712068 | D86: NP | E86: 0.11286202 | F86: 0.58876762 | G86: 0.11150459 | H86: 0.32720841 | I86: 0.20480416 | J86: 0.41422371 | K86: 0.29889371
A87: 70 Computer system design and related services | B87: NP | C87: NP | D87: NP | E87: NP | F87: NP | G87: NP | H87: NP | I87: NP | J87: NP | K87: NP
A88: N Administrative and support services | B88: 2.2916901 | C88: 0.48667985 | D88: 0.72397534 | E88: 1.5518278 | F88: 1.4256284 | G88: 1.204922 | H88: 1.1391468 | I88: 0.71604902 | J88: 1.3661966 | K88: 2.3151744
A89: 72 Administrative services | B89: 2.3123871 | C89: 0.49489131 | D89: 0.50433159 | E89: 1.3020107 | F89: 1.0442176 | G89: 1.0831836 | H89: 1.0124312 | I89: 0.53368637 | J89: 0.48961966 | K89: 0.50599356
A90: 73 Building cleaning, pest control and other support services | B90: 2.2713604 | C90: 0.47873645 | D90: 0.9255124 | E90: 1.8126768 | F90: 1.7441652 | G90: 1.3025147 | H90: 1.24285 | I90: 0.86359603 | J90: 2.1282458 | K90: 3.8411975
A91: O Public administration and safety | B91: 0.73458267 | C91: 0.60619765 | D91: 0.3550119 | E91: 1.4450361 | F91: 1.0911896 | G91: 0.73828624 | H91: 1.1742216 | I91: 1.6375053 | J91: 0.7944956 | K91: 0.76504213
A92: 75 Public administration | B92: 0.55953445 | C92: 0.1912798 | D92: 0.54749553 | E92: NP | F92: 0.49103474 | G92: NP | H92: 0.33550033 | I92: 0.61538354 | J92: 0.45203846 | K92: 0.30054165
A93: 76 Defence | B93: NP | C93: 2.056277 | D93: NP | E93: 2.0703333 | F93: NP | G93: 3.9766245 | H93: 0.97999964 | I93: 3.9771285 | J93: 2.922049 | K93: 0.92035005
A94: 77 Public order, safety and regulatory services | B94: 1.5375154 | C94: 0.97677253 | D94: NP | E94: 5.4834348 | F94: 3.3940454 | G94: 1.3200607 | H94: 3.3525355 | I94: 3.5316993 | J94: 0.83125473 | K94: 1.8411149
A95: P Education and training | B95: 0.21298824 | C95: 0.10030424 | D95: 0.19578619 | E95: 0.18750598 | F95: 0.18483161 | G95: 0.35902028 | H95: 0.17519154 | I95: 0.33956845 | J95: 0.16053303 | K95: 0.15501359
A96: 80 Preschool and school education | B96: NP | C96: NP | D96: 0.16453742 | E96: 0.15875347 | F96: NP | G96: NP | H96: 0.14574179 | I96: 0.28854197 | J96: 0.26936864 | K96: NP
A97: 81 Tertiary education | B97: NP | C97: NP | D97: NP | E97: NP | F97: NP | G97: NP | H97: NP | I97: NP | J97: NP | K97: NP
A98: 82 Adult, community and other education | B98: 1.1651098 | C98: 0.50919781 | D98: 0.53130674 | E98: 0.51066765 | F98: 1.0953346 | G98: 1.9159074 | H98: 0.45702364 | I98: 0.83972163 | J98: NP | K98: 0.82430797
A99: Q Health care and social assistance | B99: 0.25954971 | C99: 0.24686713 | D99: 0.11911307 | E99: 0.05820428 | F99: 0.056897622 | G99: 0.10845488 | H99: 0.097934101 | I99: 0.046190909 | J99: 0.044474398 | K99: 0.042405229
A100: 84 Hospitals | B100: 0.25982927 | C100: 0.24017907 | D100: NP | E100: NP | F100: NP | G100: NP | H100: 0.17932068 | I100: NP | J100: NP | K100: 0.16083135
A101: 85 Medical and other health care services | B101: 0.18682764 | C101: NP | D101: NP | E101: 0.18802324 | F101: NP | G101: 0.18306558 | H101: 0.15648472 | I101: 0.14609389 | J101: NP | K101: NP
...

Sheet Table 1.3
A1: ='Cover page'!$A$19 -> Table 1.3. Fatalities (count) by Industry (ANZSIC Subdivision), 10 years (financial) to 2024-25
A2: Return to Cover page
A3: Top_10_Fin_Year_Indicator | B3: TRUE
A4: NFD_2digit_Flag | B4: 0
A6: Fatalities (count)
B7: 2015-16 | C7: 2016-17 | D7: 2017-18 | E7: 2018-19 | F7: 2019-20 | G7: 2020-21 | H7: 2021-22 | I7: 2022-23 | J7: 2023-24 | K7: 2024-25
A8: A Agriculture, forestry and fishing | B8: 61 | C8: 41 | D8: 47 | E8: 41 | F8: 38 | G8: 37 | H8: 48 | I8: 34 | J8: 31 | K8: 38
A9: 01 Agriculture | B9: 48 | C9: 31 | D9: 36 | E9: 32 | F9: 35 | G9: 32 | H9: 37 | I9: 31 | J9: 25 | K9: 34
A10: 02 Aquaculture | B10: 0 | C10: 0 | D10: 0 | E10: 0 | F10: 0 | G10: 0 | H10: 0 | I10: 0 | J10: 0 | K10: 0
A11: 03 Forestry and logging | B11: 4 | C11: 4 | D11: 2 | E11: 4 | F11: 0 | G11: 1 | H11: 2 | I11: 0 | J11: 2 | K11: 0
A12: 04 Fishing, hunting and trapping | B12: 8 | C12: 2 | D12: 6 | E12: 4 | F12: 1 | G12: 2 | H12: 3 | I12: 0 | J12: 0 | K12: 1
A13: 05 Agriculture, forestry and fishing support services | B13: 1 | C13: 4 | D13: 3 | E13: 1 | F13: 2 | G13: 2 | H13: 6 | I13: 3 | J13: 4 | K13: 3
A14: B Mining | B14: 7 | C14: 5 | D14: 6 | E14: 7 | F14: 7 | G14: 5 | H14: 8 | I14: 10 | J14: 3 | K14: 10
A15: 06 Coal mining | B15: 0 | C15: 0 | D15: 2 | E15: 2 | F15: 3 | G15: 0 | H15: 3 | I15: 0 | J15: 1 | K15: 4
A16: 07 Oil and gas extraction | B16: 0 | C16: 0 | D16: 1 | E16: 0 | F16: 0 | G16: 0 | H16: 0 | I16: 1 | J16: 0 | K16: 0
A17: 08 Metal ore mining | B17: 5 | C17: 3 | D17: 1 | E17: 1 | F17: 3 | G17: 2 | H17: 3 | I17: 5 | J17: 1 | K17: 1
A18: 09 Non-metallic mineral mining and quarrying | B18: 2 | C18: 2 | D18: 0 | E18: 3 | F18: 1 | G18: 2 | H18: 1 | I18: 2 | J18: 0 | K18: 2
A19: 10 Exploration and other mining support services | B19: 0 | C19: 0 | D19: 2 | E19: 1 | F19: 0 | G19: 1 | H19: 1 | I19: 2 | J19: 1 | K19: 3
... A113: Total | B113: 214 | C113: 192 | D113: 163 | E113: 180 | F113: 198 | G113: 161 | H113: 207 | I113: 195 | J113: 182 | K113: 206

Sheet Table 1.4
A1: ='Cover page'!$A$20 -> Table 1.4. Fatalities (rate) by Industry (ANZSIC Subdivision), 10 years (financial) to 2024-25
A2: Return to Cover page
A3: Top_10_Fin_Year_Indicator | B3: TRUE
A4: NFD_2digit_Flag | B4: 0
A6: Fatalities (rate)
B7: 2015-16 | C7: 2016-17 | D7: 2017-18 | E7: 2018-19 | F7: 2019-20 | G7: 2020-21 | H7: 2021-22 | I7: 2022-23 | J7: 2023-24 | K7: 2024-25
A8: A Agriculture, forestry and fishing | B8: 19.114505 | C8: 13.389029 | D8: 14.068789 | E8: 12.259118 | F8: 11.562579 | G8: 10.902692 | H8: 15.295396 | I8: 11.291973 | J8: 9.8314718 | K8: 12.372674
A9: 01 Agriculture | B9: 17.040005 | C9: 12.1917 | D9: 12.705445 | E9: 11.093813 | F9: 12.282044 | G9: 10.755298 | H9: 13.865295 | I9: 12.151951 | J9: 9.2876893 | K9: 13.016706
A10: 02 Aquaculture | B10: NP | C10: NP | D10: NP | E10: NP | F10: NP | G10: NP | H10: NP | I10: NP | J10: NP | K10: NP
A11: 03 Forestry and logging | B11: 62.954261 | C11: 50.674914 | D11: 25.964772 | E11: 62.280447 | F11: NP | G11: 16.548204 | H11: 30.484757 | I11: NP | J11: 35.29519 | K11: NP
A12: 04 Fishing, hunting and trapping | B12: 142.82274 | C12: 26.169777 | D12: 111.07723 | E12: 62.041699 | F12: 17.313098 | G12: 33.661874 | H12: 53.705394 | I12: NP | J12: NP | K12: 26.000669
A13: 05 Agriculture, forestry and fishing support services | B13: 4.9684428 | C13: 14.175209 | D13: 10.553985 | E13: 3.6199513 | F13: 8.1013431 | G13: 8.2038558 | H13: 21.413297 | I13: 9.3139197 | J13: 13.604397 | K13: 9.7479025
A14: B Mining | B14: 3.4978771 | C14: 2.3699122 | D14: 2.601785 | E14: 2.6866002 | F14: 2.7155332 | G14: 1.830502 | H14: 2.6732168 | I14: 3.3506403 | J14: 0.98732399 | K14: 3.2514962
A15: 06 Coal mining | B15: NP | C15: NP | D15: 3.7670709 | E15: 3.5543624 | F15: 5.773128 | G15: NP | H15: 6.6373695 | I15: NP | J15: 1.9784594 | K15: 8.918256
A16: 07 Oil and gas extraction | B16: NP | C16: NP | D16: 3.5459637 | E16: NP | F16: NP | G16: NP | H16: NP | I16: 4.5234031 | J16: NP | K16: NP
A17: 08 Metal ore mining | B17: 7.871341 | C17: 3.9041851 | D17: 1.2282057 | E17: 0.89143166 | F17: 2.5019167 | G17: 1.6140365 | H17: 2.1716056 | I17: 3.6864906 | J17: 0.73003945 | K17: 0.73780208
A18: 09 Non-metallic mineral mining and quarrying | B18: 16.79664 | C18: 20.888846 | D18: NP | E18: 18.777539 | F18: 8.0001077 | G18: 15.854954 | H18: 6.5931811 | I18: 13.779256 | J18: NP | K18: 12.397243
A19: 10 Exploration and other mining support services | B19: NP | C19: NP | D19: 3.6787341 | E19: 2.0023493 | F19: NP | G19: 1.6817642 | H19: 1.2832278 | I19: 2.4657501 | J19: 1.2941356 | K19: 3.3767764
A20: C Manufacturing | B20: 1.4258739 | C20: 0.92083432 | D20: 1.3539953 | E20: 1.3384284 | F20: 1.9284511 | G20: 1.6144471 | H20: 1.9606885 | I20: 1.2680022 | J20: 0.76987591 | K20: 1.3804458
A21: 11 Food product manufacturing | B21: 0.51488147 | C21: 0.50359878 | D21: 0.49091905 | E21: NP | F21: 1.9420973 | G21: 1.4978479 | H21: 1.9789455 | I21: 1.0520764 | J21: 1.0199811 | K21: 0.49515442
A22: 12 Beverage and tobacco product manufacturing | B22: 2.9057606 | C22: NP | D22: 3.1815885 | E22: NP | F22: NP | G22: NP | H22: 2.7316683 | I22: NP | J22: NP | K22: NP
A23: 13 Textile, leather, clothing and footwear manufacturing | B23: 2.6458541 | C23: NP | D23: NP | E23: NP | F23: NP | G23: NP | H23: NP | I23: NP | J23: NP | K23: NP
A24: 14 Wood product manufacturing | B24: NP | C24: 2.5414207 | D24: 1.9902012 | E24: 2.1921886 | F24: 11.377332 | G24: 2.5271213 | H24: 5.1675461 | I24: 2.8199774 | J24: NP | K24: 2.9138593
A25: 15 Pulp, paper and converted paper product manufacturing | B25: NP | C25: NP | D25: 13.612498 | E25: NP | F25: NP | G25: NP | H25: NP | I25: NP | J25: NP | K25: NP
A26: 16 Printing (including the reproduction of recorded media) | B26: NP | C26: NP | D26: NP | E26: NP | F26: NP | G26: NP | H26: NP | I26: NP | J26: 3.6444605 | K26: NP
A27: 17 Petroleum and coal product manufacturing | B27: NP | C27: NP | D27: NP | E27: NP | F27: NP | G27: NP | H27: NP | I27: NP | J27: NP | K27: NP
A28: 18 Basic chemical and chemical product manufacturing | B28: 2.0771909 | C28: NP | D28: 3.8640268 | E28: NP | F28: 1.9060983 | G28: 1.703218 | H28: NP | I28: 2.0050903 | J28: 1.8850781 | K28: NP
A29: 19 Polymer product and rubber product manufacturing | B29: NP | C29: NP | D29: 3.1582386 | E29: 2.7842013 | F29: NP | G29: NP | H29: 3.4865217 | I29: 3.356262 | J29: 4.0393504 | K29: NP
A30: 20 Non-metallic mineral product manufacturing | B30: 5.74478 | C30: 6.0420076 | D30: 5.7589465 | E30: 7.3759191 | F30: 2.7856212 | G30: NP | H30: 5.9428521 | I30: NP | J30: 3.0295456 | K30: 9.4742081
A31: 21 Primary metal and metal product manufacturing | B31: 1.5188125 | C31: 1.5143126 | D31: NP | E31: NP | F31: 1.3393665 | G31: NP | H31: 1.5644525 | I31: 1.607034 | J31: NP | K31: NP
A32: 22 Fabricated metal product manufacturing | B32: 5.4257364 | C32: 3.0961577 | D32: 1.3840449 | E32: NP | F32: 4.4596601 | G32: 7.284484 | H32: 1.2960957 | I32: 4.0994991 | J32: 1.3986409 | K32: 3.9141629
A33: 23 Transport equipment manufacturing | B33: 1.3319936 | C33: NP | D33: NP | E33: 6.6020899 | F33: 1.4712074 | G33: 3.3600601 | H33: 3.9911258 | I33: NP | J33: NP | K33: 4.3052714
A34: 24 Machinery and equipment manufacturing | B34: 0.88792272 | C34: 0.89528241 | D34: 0.83409487 | E34: 2.5017621 | F34: NP | G34: 0.86188971 | H34: 1.7283498 | I34: 0.84196078 | J34: NP | K34: 0.82341425
A35: 25 Furniture and other manufacturing | B35: NP | C35: NP | D35: NP | E35: NP | F35: 1.5590683 | G35: 1.4637888 | H35: NP | I35: 1.2640191 | J35: NP | K35: NP
A36: D Electricity, gas, water and waste services | B36: 3.5527264 | C36: 3.707768 | D36: 1.3490501 | E36: 3.888716 | F36: 1.9257831 | G36: 1.3146349 | H36: 4.4876738 | I36: 2.4592261 | J36: 0.56368669 | K36: 5.0153332
A37: 26 Electricity supply | B37: NP | C37: NP | D37: NP | E37: 2.8756429 | F37: NP | G37: NP | H37: 2.8411083 | I37: 1.3662663 | J37: NP | K37: 2.0554683
A38: 27 Gas supply | B38: NP | C38: NP | D38: NP | E38: NP | F38: NP | G38: NP | H38: NP | I38: NP | J38: NP | K38: NP
A39: 28 Water supply, sewerage and drainage services | B39: NP | C39: NP | D39: NP | E39: NP | F39: NP | G39: NP | H39: NP | I39: NP | J39: NP | K39: NP
A40: 29 Waste collection, treatment and disposal services | B40: 14.968789 | C40: 14.472517 | D40: 5.6164903 | E40: 10.27122 | F40: 7.3939627 | G40: 5.3313381 | H40: 12.128839 | I40: 6.6009448 | J40: 2.1495961 | K40: 16.510104
A41: E Construction | B41: 3.8730587 | C41: 3.5802902 | D41: 2.0733693 | E41: 2.2421162 | F41: 2.8139276 | G41: 2.6887263 | H41: 2.0862766 | I41: 2.8638887 | J41: 3.2498433 | K41: 2.3916739
A42: 30 Building construction | B42: 4.1320415 | C42: 5.4387722 | D42: 1.9923839 | E42: 2.790137 | F42: 3.2364496 | G42: 0.91878507 | H42: 1.9725104 | I42: 2.3413549 | J42: 2.9660916 | K42: 1.843633
A43: 31 Heavy and civil engineering construction | B43: 4.0666683 | C43: 4.0572242 | D43: 7.8587446 | E43: 2.6389782 | F43: 0.88929566 | G43: 6.6224546 | H43: 1.8110897 | I43: 8.0918885 | J43: 6.8047116 | K43: 3.4177983
A44: 32 Construction services | B44: 3.752926 | C44: 2.8104621 | D44: 1.3252195 | E44: 1.9353762 | F44: 2.9282228 | G44: 2.8342944 | H44: 2.1746128 | I44: 2.2104101 | J44: 2.8048061 | K44: 2.4962689
A45: F Wholesale trade | B45: NP | C45: 1.1530624 | D45: 0.8304095 | E45: 1.5458859 | F45: 1.538669 | G45: 0.79215936 | H45: 0.57111232 | I45: 0.82866791 | J45: 1.0223803 | K45: 0.85119061
A46: 33 Basic material wholesaling | B46: NP | C46: 3.3474607 | D46: 1.0842279 | E46: NP | F46: 2.2944748 | G46: 1.1108538 | H46: NP | I46: 1.1318493 | J46: 0.9971415 | K46: NP
A47: 34 Machinery and equipment wholesaling | B47: NP | C47: 1.0683155 | D47: NP | E47: 0.9044993 | F47: 0.90227578 | G47: 1.0662798 | H47: NP | I47: NP | J47: NP | K47: 1.0699389
A48: 35 Motor vehicle and motor vehicle parts wholesaling | B48: NP | C48: NP | D48: NP | E48: 18.327349 | F48: NP | G48: 3.5585509 | H48: NP | I48: 7.4368962 | J48: 3.4954079 | K48: 4.3391941
A49: 36 Grocery, liquor and tobacco product wholesaling | B49: NP | C49: NP | D49: NP | E49: 1.405384 | F49: 4.8181804 | G49: NP | H49: 3.0770098 | I49: NP | J49: 3.2194622 | K49: 1.6132941
A50: 37 Other goods wholesaling | B50: NP | C50: NP | D50: 1.0964833 | E50: NP | F50: NP | G50: NP | H50: NP | I50: NP | J50: NP | K50: NP
A51: 38 Commission-based wholesaling | B51: NP | C51: NP | D51: 13.384872 | E51: NP | F51: NP | G51: NP | H51: NP | I51: NP | J51: NP | K51: NP
A52: G Retail trade | B52: 0.24689502 | C52: 0.42015467 | D52: 0.079026556 | E52: NP | F52: 0.16360649 | G52: NP | H52: 0.15839314 | I52: 0.37424577 | J52: NP | K52: 0.14897853
A53: 39 Motor vehicle and motor vehicle parts retailing | B53: 1.0618894 | C53: NP | D53: NP | E53: NP | F53: NP | G53: NP | H53: 1.0142388 | I53: NP | J53: NP | K53: NP
A54: 40 Fuel retailing | B54: NP | C54: 2.5932699 | D54: NP | E54: NP | F54: NP | G54: NP | H54: 2.6707328 | I54: NP | J54: NP | K54: NP
A55: 41 Food retailing | B55: NP | C55: 0.49918404 | D55: NP | E55: NP | F55: NP | G55: NP | H55: NP | I55: 0.71048908 | J55: NP | K55: 0.23795322
A56: 42 Other store-based retailing | B56: 0.14729632 | C56: 0.31604074 | D56: 0.14147848 | E56: NP | F56: 0.29789803 | G56: NP | H56: NP | I56: 0.13391136 | J56: NP | K56: 0.13191595
A57: 43 Non-store retailing and retail commission-based buying and/or selling | B57: 5.8277928 | C57: NP | D57: NP | E57: NP | F57: NP | G57: NP | H57: NP | I57: 2.8270092 | J57: NP | K57: NP
A58: H Accommodation and food services | B58: 0.24153206 | C58: 0.58511731 | D58: NP | E58: 0.11284702 | F58: 0.35474947 | G58: 0.36147093 | H58: 0.11592308 | I58: 0.63835316 | J58: 0.10943222 | K58: 0.52165745
A59: 44 Accommodation | B59: 0.91126806 | C59: 1.7321491 | D59: NP | E59: NP | F59: NP | G59: 1.1767442 | H59: NP | I59: NP | J59: NP | K59: 2.7473149
A60: 45 Food and beverage services | B60: 0.13921561 | C60: 0.40591775 | D60: NP | E60: 0.12848497 | F60: 0.39712226 | G60: 0.26847006 | H60: 0.1308733 | I60: 0.71629644 | J60: 0.12241997 | K60: 0.23549197
A61: I Transport, postal and warehousing | B61: 8.5161447 | C61: 7.5832851 | D61: 7.5941645 | E61: 8.2890391 | F61: 8.0044949 | G61: 6.6666116 | H61: 10.091028 | I61: 7.6322683 | J61: 7.3536215 | K61: 8.5684173
A62: 46 Road transport | B62: 15.539441 | C62: 14.983879 | D62: 9.8322172 | E62: 13.819163 | F62: 12.077599 | G62: 10.522104 | H62: 19.102212 | I62: 13.419188 | J62: 12.328938 | K62: 16.983478
A63: 47 Rail transport | B63: 2.3913353 | C63: 2.3200066 | D63: NP | E63: NP | F63: 6.0205159 | G63: 2.0092856 | H63: NP | I63: 4.9327937 | J63: 3.5309048 | K63: 2.0206934
A64: 48 Water transport | B64: 18.825583 | C64: NP | D64: 12.209643 | E64: NP | F64: NP | G64: 10.334854 | H64: 19.212516 | I64: NP | J64: NP | K64: NP
A65: 49 Air and space transport | B65: 5.4427234 | C65: 8.5106884 | D65: 7.2287468 | E65: 13.215393 | F65: 18.352969 | G65: 9.9379061 | H65: 13.181215 | I65: 9.9999402 | J65: 1.8843372 | K65: 1.9840414
A66: 50 Other transport | B66: 13.70701 | C66: NP | D66: 84.432894 | E66: 27.369267 | F66: 27.19932 | G66: NP | H66: 10.019001 | I66: 11.924081 | J66: 24.581691 | K66: 11.458336
A67: 51 Postal and courier pick-up and delivery services | B67: 1.0612594 | C67: NP | D67: 3.5867826 | E67: 3.2763212 | F67: 2.0754298 | G67: 4.8151628 | H67: 1.9120165 | I67: 3.8699554 | J67: 6.3237499 | K67: 5.7616243
A68: 52 Transport support services | B68: 3.4754092 | C68: 1.278898 | D68: 3.6542136 | E68: 2.2471653 | F68: 2.47874 | G68: 1.4861779 | H68: 3.5467161 | I68: NP | J68: 2.09715 | K68: 0.95358432
A69: 53 Warehousing and storage services | B69: 1.76469 | C69: NP | D69: 3.4397453 | E69: NP | F69: NP | G69: NP | H69: NP | I69: 1.9913968 | J69: 2.1365856 | K69: 0.9921535
A70: J Information media and telecommunications | B70: 0.47476738 | C70: 0.46496359 | D70: NP | E70: 0.93960273 | F70: NP | G70: NP | H70: NP | I70: 0.51496312 | J70: NP | K70: NP
A71: 54 Publishing (except internet and music publishing) | B71: NP | C71: NP | D71: NP | E71: NP | F71: NP | G71: NP | H71: NP | I71: NP | J71: NP | K71: NP
A72: 55 Motion picture and sound recording activities | B72: NP | C72: NP | D72: NP | E72: NP | F72: NP | G72: NP | H72: NP | I72: NP | J72: NP | K72: NP
A73: 56 Broadcasting (except internet) | B73: NP | C73: NP | D73: NP | E73: NP | F73: NP | G73: NP | H73: NP | I73: NP | J73: NP | K73: NP
A74: 57 Internet publishing and broadcasting | B74: NP | C74: NP | D74: NP | E74: NP | F74: NP | G74: NP | H74: NP | I74: NP | J74: NP | K74: NP
A75: 58 Telecommunications services | B75: 1.0716214 | C75: 1.0177725 | D75: NP | E75: 2.0263196 | F75: NP | G75: NP | H75: NP | I75: 1.2432383 | J75: NP | K75: NP
A76: 59 Internet service providers, web search portals and data processing services | B76: NP | C76: NP | D76: NP | E76: NP | F76: NP | G76: NP | H76: NP | I76: NP | J76: NP | K76: NP
A77: 60 Library and other information services | B77: NP | C77: NP | D77: NP | E77: NP | F77: NP | G77: NP | H77: NP | I77: NP | J77: NP | K77: NP
A78: K Financial and insurance services | B78: NP | C78: 0.22952113 | D78: 0.23353639 | E78: NP | F78: NP | G78: NP | H78: NP | I78: NP | J78: NP | K78: NP
A79: 62 Finance | B79: NP | C79: NP | D79: 0.49468659 | E79: NP | F79: NP | G79: NP | H79: NP | I79: NP | J79: NP | K79: NP
A80: 63 Insurance and superannuation funds | B80: NP | C80: NP | D80: NP | E80: NP | F80: NP | G80: NP | H80: NP | I80: NP | J80: NP | K80: NP
A81: 64 Auxiliary finance and insurance services | B81: NP | C81: 0.77002157 | D81: NP | E81: NP | F81: NP | G81: NP | H81: NP | I81: NP | J81: NP | K81: NP
A82: L Rental, hiring and real estate services | B82: 0.47127647 | C82: 0.96019121 | D82: 0.95437293 | E82: 0.47516342 | F82: 1.4143338 | G82: NP | H82: 0.87774051 | I82: NP | J82: 0.45536162 | K82: 1.6158662
A83: 66 Rental and hiring services (except real estate) | B83: 2.5804229 | C83: NP | D83: 5.6086884 | E83: 2.2509972 | F83: 2.9348543 | G83: NP | H83: 5.5593975 | I83: NP | J83: NP | K83: 10.039521
A84: 67 Property operators and real estate services | B84: NP | C84: 1.1865166 | D84: NP | E84: NP | F84: 1.1233383 | G84: NP | H84: NP | I84: NP | J84: 0.55800135 | K84: NP
A85: M Professional, scientific and technical services | B85: 0.10037753 | C85: 0.098345638 | D85: NP | E85: NP | F85: 0.265321 | G85: 0.25787341 | H85: 0.2458043 | I85: 0.15455048 | J85: 0.15149182 | K85: 0.22844584
A86: 69 Professional, scientific and technical services (except computer system design and related services) | B86: 0.12527155 | C86: 0.12473044 | D86: NP | E86: NP | F86: 0.34352017 | G86: 0.34304953 | H86: 0.32804233 | I86: 0.21269688 | J86: 0.20545171 | K86: 0.30824881
A87: 70 Computer system design and related services | B87: NP | C87: NP | D87: NP | E87: NP | F87: NP | G87: NP | H87: NP | I87: NP | J87: NP | K87: NP
A88: N Administrative and support services | B88: 1.653847 | C88: 2.3388447 | D88: 0.24066531 | E88: 1.6390964 | F88: 1.1462447 | G88: 0.96657842 | H88: 0.94233728 | I88: 1.3814333 | J88: 0.926006 | K88: 1.8505835
A89: 72 Administrative services | B89: 0.9581984 | C89: 2.3283581 | D89: NP | E89: 1.8878832 | F89: NP | G89: 1.11053 | H89: 1.0430037 | I89: 1.0340964 | J89: 0.50412206 | K89: 0.9973895
A90: 73 Building cleaning, pest control and other support services | B90: 2.3306704 | C90: 2.3494262 | D90: 0.46663015 | E90: 1.3941359 | F90: 2.2469857 | G90: 0.85566369 | H90: 0.85939226 | I90: 1.6602612 | J90: 1.2842576 | K90: 2.5887441
A91: O Public administration and safety | B91: 0.75110366 | C91: 0.83608981 | D91: 0.50013746 | E91: 0.99959176 | F91: 1.5670931 | G91: 0.42978094 | H91: 1.1391595 | I91: 1.1742856 | J91: 1.6193329 | K91: 0.38649686
A92: 75 Public administration | B92: 0.57467954 | C92: 0.36880473 | D92: 0.60657094 | E92: 0.16530419 | F92: 0.33515484 | G92: 0.16386018 | H92: 0.15875344 | I92: 0.66196099 | J92: 0.606959 | K92: 0.29503094
A93: 76 Defence | B93: NP | C93: 2.1359834 | D93: NP | E93: 2.0463113 | F93: NP | G93: 0.99976616 | H93: 3.8611274 | I93: NP | J93: 5.9136507 | K93: 0.94194676
A94: 77 Public order, safety and regulatory services | B94: 1.5541563 | C94: 1.4902793 | D94: 0.4806277 | E94: 3.0351259 | F94: 6.0590803 | G94: 0.90741257 | H94: 2.584871 | I94: 2.9904514 | J94: 2.6364597 | K94: 0.3985983
A95: P Education and training | B95: 0.32505487 | C95: NP | D95: 0.29486246 | E95: NP | F95: 0.18572832 | G95: 0.36199313 | H95: 0.35527233 | I95: 0.17232316 | J95: 0.24988533 | K95: 0.15782113
A96: 80 Preschool and school education | B96: NP | C96: NP | D96: 0.16872845 | E96: NP | F96: 0.16025629 | G96: NP | H96: 0.14780126 | I96: 0.14419225 | J96: 0.28333271 | K96: 0.13163652
A97: 81 Tertiary education | B97: 0.41848271 | C97: NP | D97: NP | E97: NP | F97: NP | G97: NP | H97: NP | I97: NP | J97: NP | K97: NP
A98: 82 Adult, community and other education | B98: 1.1828677 | C98: NP | D98: 1.028676 | E98: NP | F98: 0.51242976 | G98: 2.0593598 | H98: 1.4636961 | I98: 0.42514812 | J98: 0.43266441 | K98: 0.40780753
A99: Q Health care and social assistance | B99: 0.19526229 | C99: 0.19253634 | D99: 0.11972325 | E99: 0.11896258 | F99: 0.11405523 | G99: NP | H99: 0.205104 | I99: NP | J99: 0.045050872 | K99: 0.086818118
A100: 84 Hospitals | B100: 0.2518211 | C100: 0.2598529 | D100: NP | E100: NP | F100: NP | G100: NP | H100: 0.18513994 | I100: NP | J100: NP | K100: 0.16583739
A101: 85 Medical and other health care services | B101: 0.18995791 | C101: NP | D101: NP | E101: NP | F101: 0.18999022 | G101: NP | H101: 0.34049698 | I101: NP | J101: 0.14398149 | K101: NP
...

Sheet Table 2.1
A1: ='Cover page'!$A$22 -> Table 2.1. Fatalities (count) by Occupation (ANZSCO Sub major group), 10 years (calendar) to 2025
A2: Return to Cover page
A3: Top_10_Cal_Year_Indicator | B3: TRUE
A4: NFD_2digit_Flag | B4: 0
A6: Fatalities (count)
B7: 2016 | C7: 2017 | D7: 2018 | E7: 2019 | F7: 2020 | G7: 2021 | H7: 2022 | I7: 2023 | J7: 2024 | K7: 2025
A8: 1 Managers | B8: 28 | C8: 28 | D8: 16 | E8: 25 | F8: 36 | G8: 25 | H8: 34 | I8: 16 | J8: 30 | K8: 30
A9: 11 Chief executives, general managers and legislators | B9: 0 | C9: 1 | D9: 0 | E9: 1 | F9: 4 | G9: 1 | H9: 5 | I9: 1 | J9: 1 | K9: 1
A10: 12 Farmers and farm managers | B10: 24 | C10: 23 | D10: 16 | E10: 23 | F10: 31 | G10: 20 | H10: 25 | I10: 11 | J10: 24 | K10: 18
A11: 13 Specialist managers | B11: 2 | C11: 3 | D11: 0 | E11: 1 | F11: 1 | G11: 2 | H11: 3 | I11: 4 | J11: 4 | K11: 6
A12: 14 Hospitality, retail and service managers | B12: 2 | C12: 1 | D12: 0 | E12: 0 | F12: 0 | G12: 2 | H12: 1 | I12: 0 | J12: 1 | K12: 5
A13: 2 Professionals | B13: 16 | C13: 18 | D13: 8 | E13: 10 | F13: 11 | G13: 6 | H13: 14 | I13: 12 | J13: 12 | K13: 19
A14: 21 Arts and media professionals | B14: 0 | C14: 1 | D14: 0 | E14: 1 | F14: 0 | G14: 0 | H14: 0 | I14: 1 | J14: 0 | K14: 2
A15: 22 Business, human resource and marketing professionals | B15: 2 | C15: 2 | D15: 0 | E15: 1 | F15: 0 | G15: 0 | H15: 2 | I15: 0 | J15: 0 | K15: 0
A16: 23 Design, engineering, science and transport professionals | B16: 10 | C16: 14 | D16: 7 | E16: 8 | F16: 11 | G16: 6 | H16: 10 | I16: 11 | J16: 10 | K16: 13
A17: 24 Education professionals | B17: 0 | C17: 0 | D17: 0 | E17: 0 | F17: 0 | G17: 0 | H17: 0 | I17: 0 | J17: 2 | K17: 0
A18: 25 Health professionals | B18: 1 | C18: 1 | D18: 0 | E18: 0 | F18: 0 | G18: 0 | H18: 1 | I18: 0 | J18: 0 | K18: 1
A19: 26 ICT professionals | B19: 0 | C19: 0 | D19: 0 | E19: 0 | F19: 0 | G19: 0 | H19: 0 | I19: 0 | J19: 0 | K19: 0
... A59: Total | B59: 190 | C59: 192 | D59: 144 | E59: 193 | F59: 199 | G59: 174 | H59: 197 | I59: 201 | J59: 192 | K59: 222

Sheet Table 2.2
A1: ='Cover page'!$A$23 -> Table 2.2. Fatalities (rate) by Occupation (ANZSCO Sub major group), 10 years (calendar) to 2025
A2: Return to Cover page
A3: Top_10_Cal_Year_Indicator | B3: TRUE
A4: NFD_2digit_Flag | B4: 0
A6: Fatalities (rate)
B7: 2016 | C7: 2017 | D7: 2018 | E7: 2019 | F7: 2020 | G7: 2021 | H7: 2022 | I7: 2023 | J7: 2024 | K7: 2025
A8: 1 Managers | B8: 1.881908 | C8: 1.8411962 | D8: 1.0231876 | E8: 1.6379492 | F8: 2.2368165 | G8: 1.4537288 | H8: 1.8887525 | I8: 0.8737843 | J8: 1.6258786 | K8: 1.6173325
A9: 11 Chief executives, general managers and legislators | B9: NP | C9: 1.0319195 | D9: NP | E9: 1.1724578 | F9: 4.5788867 | G9: 0.85899822 | H9: 3.3835112 | I9: 0.75731615 | J9: 0.77347073 | K9: 0.74302909
A10: 12 Farmers and farm managers | B10: 15.498991 | C10: 14.555939 | D10: 9.6087529 | E10: 13.023357 | F10: 16.662919 | G10: 11.154525 | H10: 15.920369 | I10: 6.8644249 | J10: 14.120035 | K10: 11.970509
A11: 13 Specialist managers | B11: 0.27695727 | C11: 0.40118814 | D11: NP | E11: 0.13084948 | F11: 0.11564346 | G11: 0.22015886 | H11: 0.31312183 | I11: 0.40249524 | J11: 0.40329726 | K11: 0.59201117
A12: 14 Hospitality, retail and service managers | B12: 0.40458836 | C12: 0.19303016 | D12: NP | E12: NP | F12: NP | G12: 0.38792281 | H12: 0.18614021 | I12: NP | J12: 0.18048154 | K12: 0.89854041
A13: 2 Professionals | B13: 0.5810853 | C13: 0.62129758 | D13: 0.26787752 | E13: 0.31895681 | F13: 0.34501333 | G13: 0.18005147 | H13: 0.39756755 | I13: 0.3270318 | J13: 0.31697005 | K13: 0.47964063
A14: 21 Arts and media professionals | B14: NP | C14: 0.95303285 | D14: NP | E14: 0.90852346 | F14: NP | G14: NP | H14: NP | I14: 0.97143511 | J14: NP | K14: 1.8921516
A15: 22 Business, human resource and marketing professionals | B15: 0.29464931 | C15: 0.28361529 | D15: NP | E15: 0.13157959 | F15: NP | G15: NP | H15: 0.2300685 | I15: NP | J15: NP | K15: NP
A16: 23 Design, engineering, science and transport professionals | B16: 2.5468014 | C16: 3.3293428 | D16: 1.6232102 | E16: 1.7684881 | F16: 2.3680245 | G16: 1.2700513 | H16: 1.9864863 | I16: 2.099788 | J16: 1.8841182 | K16: 2.2999454
A17: 24 Education professionals | B17: NP | C17: NP | D17: NP | E17: NP | F17: NP | G17: NP | H17: NP | I17: NP | J17: 0.29257798 | K17: NP
A18: 25 Health professionals | B18: 0.17530178 | C18: 0.16428277 | D18: NP | E18: NP | F18: NP | G18: NP | H18: 0.1379036 | I18: NP | J18: NP | K18: 0.11566676
A19: 26 ICT professionals | B19: NP | C19: NP | D19: NP | E19: NP | F19: NP | G19: NP | H19: NP | I19: NP | J19: NP | K19: NP
A20: 27 Legal, social and welfare professionals | B20: 1.3457152 | C20: NP | D20: 0.40468027 | E20: NP | F20: NP | G20: NP | H20: 0.33147518 | I20: NP | J20: NP | K20: 0.88373552
A21: 3 Technicians and trades workers | B21: 1.6754482 | C21: 0.98844769 | D21: 1.5090744 | E21: 1.6059727 | F21: 1.4958464 | G21: 1.4123561 | H21: 1.5145674 | I21: 1.4791263 | J21: 1.4417638 | K21: 1.7732342
A22: 31 Engineering, ICT and science technicians | B22: 0.41053019 | C22: 0.42365707 | D22: NP | E22: 0.36976423 | F22: 0.35544148 | G22: 0.70639725 | H22: 1.0477817 | I22: NP | J22: NP | K22: 0.31119553
A23: 32 Automotive and engineering trades workers | B23: 0.89417003 | C23: 0.83447675 | D23: 1.3516696 | E23: 2.1871034 | F23: 0.86079428 | G23: 1.9031647 | H23: 3.0568928 | I23: 2.0960332 | J23: 1.6016728 | K23: 1.3196502
A24: 33 Construction trades workers | B24: 3.2261277 | C24: 1.8337327 | D24: 0.75469232 | E24: 1.503504 | F24: 1.9302132 | G24: 1.3833372 | H24: 1.6994849 | I24: 1.5043143 | J24: 2.1422756 | K24: 1.9243738
A25: 34 Electrotechnology and telecommunications trades workers | B25: 2.9143676 | C25: 0.83984343 | D25: 4.5228336 | E25: 3.6606051 | F25: 2.0125302 | G25: 1.6457945 | H25: 2.3625732 | I25: 3.3528699 | J25: 1.7873109 | K25: 3.765781
A26: 35 Food trades workers | B26: NP | C26: NP | D26: NP | E26: NP | F26: NP | G26: NP | H26: NP | I26: 1.0165412 | J26: NP | K26: 0.47951156
A27: 36 Skilled animal and horticultural workers | B27: 4.1105306 | C27: 1.5060942 | D27: 2.2851096 | E27: 2.2244162 | F27: 4.3790782 | G27: 2.1166123 | H27: NP | I27: 0.67384564 | J27: 3.3223043 | K27: 3.1800117
A28: 39 Other technicians and trades workers | B28: NP | C28: 1.0590312 | D28: 2.651997 | E28: 1.0022201 | F28: 2.1413908 | G28: 2.0492237 | H28: 0.5100272 | I28: 1.0496562 | J28: 1.5282147 | K28: 2.0003649
A29: 4 Community and personal service workers | B29: 0.37759496 | C29: 1.0217609 | D29: 0.36122154 | E29: 1.2962841 | F29: 0.81971439 | G29: 0.8190398 | H29: 0.57864332 | I29: 0.97573124 | J29: 0.40572308 | K29: 0.3874028
A30: 41 Health and welfare support workers | B30: NP | C30: NP | D30: 0.77381343 | E30: NP | F30: 0.72359729 | G30: 0.66022418 | H30: 0.66061312 | I30: 0.59770404 | J30: 0.54846686 | K30: NP
A31: 42 Carers and aides | B31: NP | C31: 0.56096683 | D31: 0.36266789 | E31: 0.34502801 | F31: NP | G31: 0.16338651 | H31: NP | I31: NP | J31: NP | K31: NP
A32: 43 Hospitality workers | B32: 0.35724535 | C32: NP | D32: NP | E32: NP | F32: NP | G32: NP | H32: 0.3298067 | I32: NP | J32: NP | K32: NP
A33: 44 Protective service workers | B33: 1.4934716 | C33: 1.8395157 | D33: NP | E33: 5.0638914 | F33: 4.451364 | G33: 2.1899813 | H33: 2.5519356 | I33: 4.4722448 | J33: 1.769679 | K33: 2.4650564
A34: 45 Sports and personal service workers | B34: 0.50188239 | C34: 3.4180148 | D34: 0.98660258 | E34: 2.5991622 | F34: NP | G34: 2.6421341 | H34: 0.48867756 | I34: 2.2409567 | J34: 0.91783464 | K34: 0.39874189
A35: 5 Clerical and administrative workers | B35: 0.059296084 | C35: 0.12176445 | D35: 0.058663668 | E35: 0.11334778 | F35: 0.057406497 | G35: 0.058330776 | H35: 0.1133786 | I35: 0.10893782 | J35: 0.26892487 | K35: 0.21930538
A36: 51 Office managers and program administrators | B36: NP | C36: NP | D36: NP | E36: NP | F36: NP | G36: NP | H36: NP | I36: NP | J36: NP | K36: 0.61171003
A37: 52 Personal assistants and secretaries | B37: NP | C37: NP | D37: NP | E37: NP | F37: NP | G37: NP | H37: NP | I37: NP | J37: NP | K37: NP
A38: 53 General clerical workers | B38: NP | C38: NP | D38: NP | E38: NP | F38: NP | G38: 0.29267261 | H38: NP | I38: NP | J38: NP | K38: NP
A39: 54 Inquiry clerks and receptionists | B39: NP | C39: 0.36309267 | D39: NP | E39: NP | F39: NP | G39: NP | H39: NP | I39: NP | J39: NP | K39: NP
A40: 55 Numerical clerks | B40: NP | C40: 0.25838642 | D40: NP | E40: NP | F40: NP | G40: NP | H40: NP | I40: NP | J40: NP | K40: NP
A41: 56 Clerical and office support workers | B41: NP | C41: NP | D41: 1.1626519 | E41: 2.1563053 | F41: 1.2927412 | G41: NP | H41: 2.4198363 | I41: 1.1629538 | J41: 5.9532683 | K41: 1.1562311
A42: 59 Other clerical and administrative workers | B42: 0.40721956 | C42: NP | D42: NP | E42: NP | F42: NP | G42: NP | H42: NP | I42: 0.32698234 | J42: NP | K42: 0.31380461
A43: 6 Sales workers | B43: 0.18072032 | C43: 0.089772523 | D43: 0.089945947 | E43: 0.091531043 | F43: 0.19242821 | G43: 0.27812563 | H43: NP | I43: 0.17994771 | J43: NP | K43: 0.089533977
A44: 61 Sales representatives and agents | B44: 0.50271914 | C44: NP | D44: 0.51136882 | E44: NP | F44: 1.0821865 | G44: 0.5140792 | H44: NP | I44: 0.54257189 | J44: NP | K44: NP
A45: 62 Sales assistants and salespersons | B45: 0.13807591 | C45: 0.1382041 | D45: NP | E45: 0.15025554 | F45: NP | G45: 0.14101447 | H45: NP | I45: 0.13498419 | J45: NP | K45: 0.13337842
A46: 63 Sales support workers | B46: NP | C46: NP | D46: NP | E46: NP | F46: NP | G46: 0.57149517 | H46: NP | I46: NP | J46: NP | K46: NP
A47: 7 Machinery operators and drivers | B47: 8.7251438 | C47: 6.9953853 | D47: 6.2906921 | E47: 8.6125265 | F47: 8.554866 | G47: 8.1455252 | H47: 8.5759708 | I47: 8.229562 | J47: 6.7431282 | K47: 8.7781013
A48: 71 Machine and stationary plant operators | B48: 3.1917533 | C48: 4.2088339 | D48: 3.5001077 | E48: 3.2561076 | F48: 4.6086053 | G48: 3.9892698 | H48: 3.4551561 | I48: 3.1932047 | J48: 2.7427516 | K48: 2.2197745
A49: 72 Mobile plant operators | B49: 6.530842 | C49: 2.3012832 | D49: 6.2417182 | E49: 3.8261144 | F49: 5.9043361 | G49: 5.5207183 | H49: 6.7779704 | I49: 4.6096955 | J49: 2.5671046 | K49: 3.5179878
A50: 73 Road and rail drivers | B50: 15.255618 | C50: 12.138375 | D50: 9.7559338 | E50: 16.047108 | F50: 14.529041 | G50: 14.444965 | H50: 14.860591 | I50: 15.343453 | J50: 13.069688 | K50: 17.110077
A51: 74 Storepersons | B51: NP | C51: 0.82637682 | D51: NP | E51: NP | F51: NP | G51: 0.64746807 | H51: 0.61330041 | I51: NP | J51: 0.56723908 | K51: 0.61246152
A52: 8 Labourers | B52: 3.9140811 | C52: 4.8477263 | D52: 2.7910346 | E52: 2.593273 | F52: 3.6416341 | G52: 2.9089953 | H52: 2.9781871 | I52: 4.2894849 | J52: 3.9850126 | K52: 3.9477481
A53: 81 Cleaners and laundry workers | B53: 0.71148526 | C53: 0.36831744 | D53: NP | E53: NP | F53: 0.37077567 | G53: NP | H53: 0.35502757 | I53: 0.3682257 | J53: 0.35305169 | K53: 1.4137409
A54: 82 Construction and mining labourers | B54: 7.7588833 | C54: 7.6652607 | D54: 4.2652555 | E54: 3.4803985 | F54: 4.4405539 | G54: 4.8275399 | H54: 5.3982044 | I54: 9.5194744 | J54: 6.1917203 | K54: 5.572703
A55: 83 Factory process workers | B55: NP | C55: 0.97672569 | D55: 0.94313522 | E55: 0.49784041 | F55: 1.5067465 | G55: NP | H55: 1.0476676 | I55: 0.53904747 | J55: 1.6873308 | K55: NP
A56: 84 Farm, forestry and garden workers | B56: 12.403558 | C56: 14.597313 | D56: 9.9960415 | E56: 4.4270655 | F56: 8.4666369 | G56: 7.8769656 | H56: 12.677253 | I56: 7.554325 | J56: 9.0790206 | K56: 12.560886
A57: 85 Food preparation assistants | B57: NP | C57: 1.6337569 | D57: NP | E57: NP | F57: 0.5631759 | G57: NP | H57: NP | I57: NP | J57: NP | K57: NP
A58: 89 Other labourers | B58: 6.8819177 | C58: 8.6734758 | D58: 5.2216664 | E58: 8.3285384 | F58: 8.4693206 | G58: 7.3793158 | H58: 4.3364897 | I58: 9.2656186 | J58: 8.8141265 | K58: 7.5462182
A59: Total | B59: 1.5933598 | C59: 1.5695531 | D59: 1.1442408 | E59: 1.4967274 | F59: 1.5735643 | G59: 1.3298756 | H59: 1.4441499 | I59: 1.4275624 | J59: 1.3325757 | K59: 1.5173464

Sheet Table 2.3
A1: ='Cover page'!$A$24 -> Table 2.3. Fatalities (count) by Occupation (ANZSCO Sub major group), 10 years (financial) to 2024-25
A2: Return to Cover page
A3: Top_10_Fin_Year_Indicator | B3: TRUE
A4: NFD_2digit_Flag | B4: 0
A6: Fatalities (count)
B7: 2015-16 | C7: 2016-17 | D7: 2017-18 | E7: 2018-19 | F7: 2019-20 | G7: 2020-21 | H7: 2021-22 | I7: 2022-23 | J7: 2023-24 | K7: 2024-25
A8: 1 Managers | B8: 36 | C8: 26 | D8: 20 | E8: 22 | F8: 31 | G8: 31 | H8: 32 | I8: 23 | J8: 17 | K8: 33
A9: 11 Chief executives, general managers and legislators | B9: 2 | C9: 0 | D9: 1 | E9: 1 | F9: 1 | G9: 4 | H9: 4 | I9: 2 | J9: 0 | K9: 2
A10: 12 Farmers and farm managers | B10: 28 | C10: 20 | D10: 19 | E10: 20 | F10: 29 | G10: 25 | H10: 25 | I10: 16 | J10: 13 | K10: 20
A11: 13 Specialist managers | B11: 6 | C11: 3 | D11: 0 | E11: 1 | F11: 1 | G11: 1 | H11: 2 | I11: 4 | J11: 4 | K11: 6
A12: 14 Hospitality, retail and service managers | B12: 0 | C12: 3 | D12: 0 | E12: 0 | F12: 0 | G12: 1 | H12: 1 | I12: 1 | J12: 0 | K12: 5
A13: 2 Professionals | B13: 17 | C13: 14 | D13: 14 | E13: 10 | F13: 9 | G13: 10 | H13: 8 | I13: 12 | J13: 11 | K13: 15
A14: 21 Arts and media professionals | B14: 2 | C14: 1 | D14: 0 | E14: 0 | F14: 1 | G14: 0 | H14: 0 | I14: 0 | J14: 1 | K14: 0
A15: 22 Business, human resource and marketing professionals | B15: 1 | C15: 2 | D15: 2 | E15: 0 | F15: 1 | G15: 0 | H15: 1 | I15: 1 | J15: 0 | K15: 0
A16: 23 Design, engineering, science and transport professionals | B16: 12 | C16: 8 | D16: 12 | E16: 9 | F16: 7 | G16: 10 | H16: 6 | I16: 10 | J16: 9 | K16: 13
A17: 24 Education professionals | B17: 0 | C17: 0 | D17: 0 | E17: 0 | F17: 0 | G17: 0 | H17: 0 | I17: 0 | J17: 1 | K17: 1
A18: 25 Health professionals | B18: 1 | C18: 1 | D18: 0 | E18: 0 | F18: 0 | G18: 0 | H18: 1 | I18: 0 | J18: 0 | K18: 0
A19: 26 ICT professionals | B19: 0 | C19: 0 | D19: 0 | E19: 0 | F19: 0 | G19: 0 | H19: 0 | I19: 0 | J19: 0 | K19: 0
... A59: Total | B59: 214 | C59: 192 | D59: 163 | E59: 180 | F59: 198 | G59: 161 | H59: 207 | I59: 195 | J59: 182 | K59: 206

Sheet Table 2.4
A1: ='Cover page'!$A$25 -> Table 2.4. Fatalities (rate) by Occupation (ANZSCO Sub major group), 10 years (financial) to 2024-25
A2: Return to Cover page
A3: Top_10_Fin_Year_Indicator | B3: TRUE
A4: NFD_2digit_Flag | B4: 0
A6: Fatalities (rate)
B7: 2015-16 | C7: 2016-17 | D7: 2017-18 | E7: 2018-19 | F7: 2019-20 | G7: 2020-21 | H7: 2021-22 | I7: 2022-23 | J7: 2023-24 | K7: 2024-25
A8: 1 Managers | B8: 2.4218255 | C8: 1.7343201 | D8: 1.2974676 | E8: 1.4215093 | F8: 1.9831735 | G8: 1.86097 | H8: 1.8380773 | I8: 1.2442909 | J8: 0.9235971 | K8: 1.7865108
A9: 11 Chief executives, general managers and legislators | B9: 1.6741329 | C9: NP | D9: 1.0174711 | E9: 0.9517166 | F9: 1.1479863 | G9: 3.9355385 | H9: 3.0705777 | I9: 1.3603739 | J9: NP | K9: 1.5108397
A10: 12 Farmers and farm managers | B10: 16.721579 | C10: 13.651374 | D10: 11.472923 | E10: 11.489494 | F10: 16.33679 | G10: 13.495103 | H10: 15.009 | I10: 10.04006 | J10: 7.872082 | K10: 12.278166
A11: 13 Specialist managers | B11: 0.85970926 | C11: 0.40579424 | D11: NP | E11: 0.13114225 | F11: 0.12360324 | G11: 0.11315357 | H11: 0.21322459 | I11: 0.40406711 | J11: 0.40156913 | K11: 0.60606401
A12: 14 Hospitality, retail and service managers | B12: NP | C12: 0.59813285 | D12: NP | E12: NP | F12: NP | G12: 0.2019578 | H12: 0.19757532 | I12: 0.18111747 | J12: NP | K12: 0.88981566
A13: 2 Professionals | B13: 0.62582304 | C13: 0.49364838 | D13: 0.47557796 | E13: 0.3282296 | F13: 0.28546029 | G13: 0.30432852 | H13: 0.23347097 | I13: 0.33441762 | J13: 0.29569359 | K13: 0.38896024
A14: 21 Arts and media professionals | B14: 1.9432117 | C14: 0.97979645 | D14: NP | E14: NP | F14: 0.92178502 | G14: NP | H14: NP | I14: NP | J14: 0.89736061 | K14: NP
A15: 22 Business, human resource and marketing professionals | B15: 0.15179117 | C15: 0.28752911 | D15: 0.27883952 | E15: NP | F15: 0.13345662 | G15: NP | H15: 0.11982774 | I15: 0.11238807 | J15: NP | K15: NP
A16: 23 Design, engineering, science and transport professionals | B16: 3.2292177 | C16: 1.8956006 | D16: 2.8743481 | E16: 2.0695065 | F16: 1.5066916 | G16: 2.1176322 | H16: 1.2275376 | I16: 1.9434352 | J16: 1.717893 | K16: 2.3740587
A17: 24 Education professionals | B17: NP | C17: NP | D17: NP | E17: NP | F17: NP | G17: NP | H17: NP | I17: NP | J17: 0.15336323 | K17: 0.1388321
A18: 25 Health professionals | B18: 0.17304585 | C18: 0.17014463 | D18: NP | E18: NP | F18: NP | G18: NP | H18: 0.14345015 | I18: NP | J18: NP | K18: NP
A19: 26 ICT professionals | B19: NP | C19: NP | D19: NP | E19: NP | F19: NP | G19: NP | H19: NP | I19: NP | J19: NP | K19: NP
A20: 27 Legal, social and welfare professionals | B20: 0.45394949 | C20: 0.8927001 | D20: NP | E20: 0.39684478 | F20: NP | G20: NP | H20: NP | I20: 0.32681109 | J20: NP | K20: 0.30757901
A21: 3 Technicians and trades workers | B21: 2.0642861 | C21: 1.2553696 | D21: 1.2953986 | E21: 1.5582228 | F21: 1.5238097 | G21: 1.3107782 | H21: 1.6625235 | I21: 1.4952972 | J21: 1.4610395 | K21: 1.2726136
A22: 31 Engineering, ICT and science technicians | B22: 0.42511669 | C22: 0.41546917 | D22: 0.41172375 | E22: NP | F22: 0.36647094 | G22: 0.71479804 | H22: 0.69454247 | I22: 0.68474188 | J22: NP | K22: NP
A23: 32 Automotive and engineering trades workers | B23: 1.9439607 | C23: 0.59246906 | D23: 1.3491159 | E23: 1.6353715 | F23: 1.684415 | G23: 1.4045993 | H23: 2.4292965 | I23: 2.7122173 | J23: 1.8696779 | K23: 0.7857402
A24: 33 Construction trades workers | B24: 3.7213427 | C24: 3.0109461 | D24: 1.0154824 | E24: 0.99983293 | F24: 1.8171024 | G24: 1.4035378 | H24: 1.5553786 | I24: 1.9646184 | J24: 1.7133239 | K24: 1.678168
A25: 34 Electrotechnology and telecommunications trades workers | B25: 3.2697333 | C25: 1.6771271 | D25: 2.0429183 | E25: 5.0215769 | F25: 2.0311542 | G25: 2.3670769 | H25: 2.9490396 | I25: 2.2558314 | J25: 2.5381991 | K25: 2.1055346
A26: 35 Food trades workers | B26: 0.57644119 | C26: NP | D26: NP | E26: NP | F26: NP | G26: NP | H26: NP | I26: NP | J26: 0.98131727 | K26: 0.47496657
A27: 36 Skilled animal and horticultural workers | B27: 2.5635471 | C27: 2.3399715 | D27: 2.182208 | E27: 3.1151753 | F27: 2.8765344 | G27: 1.4677996 | H27: 2.0812725 | I27: NP | J27: 1.9509296 | K27: 3.3620333
A28: 39 Other technicians and trades workers | B28: 0.52965508 | C28: NP | D28: 2.5967876 | E28: 1.0051004 | F28: 2.1211024 | G28: 1.5525251 | H28: 1.556269 | I28: 1.0074213 | J28: 1.0728614 | K28: 1.4698117
A29: 4 Community and personal service workers | B29: 0.61215626 | C29: 0.60068037 | D29: 0.64715247 | E29: 0.77011548 | F29: 1.573309 | G29: 0.35388865 | H29: 0.80518895 | I29: 0.62470273 | J29: 0.88346874 | K29: 0.22765254
A30: 41 Health and welfare support workers | B30: NP | C30: NP | D30: NP | E30: 0.71206547 | F30: 0.727263 | G30: NP | H30: 1.3133805 | I30: NP | J30: 0.56203658 | K30: 0.56698333
A31: 42 Carers and aides | B31: NP | C31: 0.19273852 | D31: 0.36286287 | E31: 0.35818998 | F31: 0.34414933 | G31: NP | H31: 0.1555868 | I31: NP | J31: NP | K31: NP
A32: 43 Hospitality workers | B32: 1.084936 | C32: NP | D32: NP | E32: NP | F32: NP | G32: NP | H32: NP | I32: 0.31518843 | J32: NP | K32: NP
A33: 44 Protective service workers | B33: 1.0019116 | C33: 1.8907808 | D33: 0.45866318 | E33: 2.7557859 | F33: 6.9374207 | G33: 1.3056646 | H33: 2.1595162 | I33: 2.65912 | J33: 4.5024642 | K33: 0.85263776
A34: 45 Sports and personal service workers | B34: 1.5309684 | C34: 1.5342704 | D34: 2.9058629 | E34: 0.90329233 | F34: 2.008927 | G34: 1.0662141 | H34: 2.1661545 | I34: 1.3671368 | J34: 1.8152838 | K34: 0.43170546
A35: 5 Clerical and administrative workers | B35: 0.059779665 | C35: 0.12082993 | D35: 0.060916332 | E35: 0.056682854 | F35: 0.057087604 | G35: 0.11639845 | H35: NP | I35: 0.11274544 | J35: 0.2153612 | K35: 0.16173473
A36: 51 Office managers and program administrators | B36: NP | C36: NP | D36: NP | E36: NP | F36: NP | G36: NP | H36: NP | I36: NP | J36: NP | K36: NP
A37: 52 Personal assistants and secretaries | B37: NP | C37: NP | D37: NP | E37: NP | F37: NP | G37: NP | H37: NP | I37: NP | J37: NP | K37: NP
A38: 53 General clerical workers | B38: NP | C38: NP | D38: NP | E38: NP | F38: NP | G38: 0.27681107 | H38: NP | I38: NP | J38: NP | K38: NP
A39: 54 Inquiry clerks and receptionists | B39: NP | C39: 0.35910632 | D39: NP | E39: NP | F39: NP | G39: NP | H39: NP | I39: NP | J39: NP | K39: NP
A40: 55 Numerical clerks | B40: NP | C40: 0.25685519 | D40: NP | E40: NP | F40: NP | G40: NP | H40: NP | I40: NP | J40: NP | K40: NP
A41: 56 Clerical and office support workers | B41: NP | C41: NP | D41: 1.1713635 | E41: 1.0863092 | F41: 1.1935109 | G41: 1.2317198 | H41: NP | I41: 2.4557036 | J41: 3.5422699 | K41: 3.3541217
A42: 59 Other clerical and administrative workers | B42: 0.4117632 | C42: NP | D42: NP | E42: NP | F42: NP | G42: NP | H42: NP | I42: NP | J42: 0.3157083 | K42: NP
A43: 6 Sales workers | B43: 0.17735892 | C43: 0.18448198 | D43: 0.08834988 | E43: 0.091006056 | F43: 0.093595204 | G43: 0.1887555 | H43: 0.18494604 | I43: 0.090420311 | J43: 0.089936007 | K43: 0.088075512
A44: 61 Sales representatives and agents | B44: NP | C44: 0.51969028 | D44: 0.48802463 | E44: NP | F44: 0.51890631 | G44: 1.1232183 | H44: NP | I44: NP | J44: 0.51009185 | K44: NP
A45: 62 Sales assistants and salespersons | B45: 0.26573137 | C45: 0.14173242 | D45: NP | E45: 0.14459711 | F45: NP | G45: NP | H45: 0.14197375 | I45: 0.1334701 | J45: NP | K45: 0.13345501
A46: 63 Sales support workers | B46: NP | C46: NP | D46: NP | E46: NP | F46: NP | G46: NP | H46: 0.55556907 | I46: NP | J46: NP | K46: NP
A47: 7 Machinery operators and drivers | B47: 9.8967977 | C47: 7.9390878 | D47: 6.5927681 | E47: 8.1479373 | F47: 7.8752502 | G47: 7.5160677 | H47: 9.641895 | I47: 8.7385259 | J47: 6.1790173 | K47: 8.7130683
A48: 71 Machine and stationary plant operators | B48: 5.0702686 | C48: 3.7372959 | D48: 3.6430349 | E48: 3.319955 | F48: 4.9739796 | G48: 2.9343655 | H48: 4.4891017 | I48: 3.9067931 | J48: 1.5903458 | K48: 2.2820215
A49: 72 Mobile plant operators | B49: 8.9489158 | C49: 3.9170232 | D49: 4.4142874 | E49: 5.7226562 | F49: 4.7681161 | G49: 5.8830287 | H49: 4.9272047 | I49: 7.9220955 | J49: 1.8826486 | K49: 3.5529536
A50: 73 Road and rail drivers | B50: 16.292954 | C50: 14.233365 | D50: 10.678807 | E50: 14.235407 | F50: 13.264799 | G50: 12.911927 | H50: 18.044539 | I50: 14.574533 | J50: 12.607408 | K50: 16.701652
A51: 74 Storepersons | B51: NP | C51: NP | D51: 0.77689588 | E51: NP | F51: NP | G51: 0.70815964 | H51: NP | I51: 0.62730468 | J51: 0.58946824 | K51: 0.58122467
A52: 8 Labourers | B52: 3.8436197 | C52: 4.9683893 | D52: 3.4992886 | E52: 3.0389978 | F52: 3.3816491 | G52: 2.2882774 | H52: 3.5412943 | I52: 3.4672604 | J52: 4.1326022 | K52: 3.7447722
A53: 81 Cleaners and laundry workers | B53: 0.37273906 | C53: 0.71432576 | D53: 0.36135242 | E53: NP | F53: NP | G53: 0.36942067 | H53: NP | I53: 0.70584097 | J53: NP | K53: 0.71113543
A54: 82 Construction and mining labourers | B54: 6.6830561 | C54: 10.93251 | D54: 4.2491655 | E54: 3.6209788 | F54: 4.6744623 | G54: 4.6540595 | H54: 4.3491165 | I54: 8.0457503 | J54: 6.2224675 | K54: 5.4809391
A55: 83 Factory process workers | B55: NP | C55: 0.49785332 | D55: 1.4803104 | E55: NP | F55: 1.4806397 | G55: 0.50853237 | H55: 0.52805093 | I55: 0.53864445 | J55: 1.6034496 | K55: 0.57128062
A56: 84 Farm, forestry and garden workers | B56: 15.750276 | C56: 12.417662 | D56: 14.265746 | E56: 6.7467662 | F56: 6.8394325 | G56: 5.9840207 | H56: 14.423281 | I56: 7.5587504 | J56: 10.436029 | K56: 9.4407866
A57: 85 Food preparation assistants | B57: NP | C57: 1.6584337 | D57: NP | E57: NP | F57: 0.53077388 | G57: NP | H57: NP | I57: NP | J57: NP | K57: NP
A58: 89 Other labourers | B58: 5.8591027 | C58: 8.2187725 | D58: 5.6772258 | E58: 9.7082948 | F58: 8.7608288 | G58: 4.1385384 | H58: 8.0676365 | I58: 6.3817232 | J58: 9.375657 | K58: 8.4112043
A59: Total | B59: 1.8056064 | C59: 1.5970178 | D59: 1.3114397 | E59: 1.4107441 | F59: 1.5521164 | G59: 1.2491653 | H59: 1.5551644 | I59: 1.4046553 | J59: 1.2762594 | K59: 1.4168786

Sheet Table 3.1
A1: ='Cover page'!$A$27 -> Table 3.1. Fatalities (count) by Mechanism (TOOCS Sub major group), 10 years (calendar) to 2025
A2: Return to Cover page
A4: Top_10_Cal_Year_Indicator | B4: TRUE
A6: Fatalities (count)
B7: 2016 | C7: 2017 | D7: 2018 | E7: 2019 | F7: 2020 | G7: 2021 | H7: 2022 | I7: 2023 | J7: 2024 | K7: 2025
A8: 0 Falls, trips and slips of a person | B8: 26 | C8: 29 | D8: 17 | E8: 21 | F8: 25 | G8: 22 | H8: 18 | I8: 31 | J8: 25 | K8: 29
A9: 01 Falls from a height | B9: 26 | C9: 28 | D9: 17 | E9: 21 | F9: 24 | G9: 19 | H9: 17 | I9: 30 | J9: 24 | K9: 28
A10: 02 Falls on the same level | B10: 0 | C10: 1 | D10: 0 | E10: 0 | F10: 1 | G10: 3 | H10: 1 | I10: 1 | J10: 1 | K10: 1
A11: 03 Stepping, kneeling or sitting on objects | B11: 0 | C11: 0 | D11: 0 | E11: 0 | F11: 0 | G11: 0 | H11: 0 | I11: 0 | J11: 0 | K11: 0
A12: 1 Hitting objects with a part of the body | B12: 2 | C12: 0 | D12: 1 | E12: 3 | F12: 1 | G12: 1 | H12: 2 | I12: 0 | J12: 0 | K12: 1
A13: 11 Hitting stationary objects | B13: 1 | C13: 0 | D13: 1 | E13: 3 | F13: 0 | G13: 0 | H13: 1 | I13: 0 | J13: 0 | K13: 1
A14: 12 Hitting moving objects | B14: 1 | C14: 0 | D14: 0 | E14: 0 | F14: 1 | G14: 1 | H14: 1 | I14: 0 | J14: 0 | K14: 0
A15: 13 Rubbing and chafing | B15: 0 | C15: 0 | D15: 0 | E15: 0 | F15: 0 | G15: 0 | H15: 0 | I15: 0 | J15: 0 | K15: 0
A16: 2 Being hit by moving objects | B16: 57 | C16: 68 | D16: 56 | E16: 59 | F16: 70 | G16: 62 | H16: 68 | I16: 57 | J16: 55 | K16: 66
A17: 21 Being hit by falling objects | B17: 17 | C17: 15 | D17: 15 | E17: 22 | F17: 17 | G17: 16 | H17: 16 | I17: 12 | J17: 13 | K17: 21
A18: 22 Being bitten by an animal | B18: 1 | C18: 0 | D18: 0 | E18: 0 | F18: 2 | G18: 1 | H18: 1 | I18: 0 | J18: 0 | K18: 0
A19: 23 Being hit by an animal | B19: 3 | C19: 3 | D19: 1 | E19: 0 | F19: 3 | G19: 2 | H19: 2 | I19: 0 | J19: 3 | K19: 6
... A74: Total | B74: 190 | C74: 192 | D74: 144 | E74: 193 | F74: 199 | G74: 174 | H74: 197 | I74: 201 | J74: 192 | K74: 222

Sheet Table 3.2
A1: ='Cover page'!$A$28 -> Table 3.2. Fatalities (count) by Mechanism (TOOCS Sub major group), 10 years (financial) to 2024-25
A2: Return to Cover page
A4: Top_10_Fin_Year_Indicator | B4: TRUE
A6: Fatalities (count)
B7: 2015-16 | C7: 2016-17 | D7: 2017-18 | E7: 2018-19 | F7: 2019-20 | G7: 2020-21 | H7: 2021-22 | I7: 2022-23 | J7: 2023-24 | K7: 2024-25
A8: 0 Falls, trips and slips of a person | B8: 35 | C8: 32 | D8: 14 | E8: 21 | F8: 28 | G8: 18 | H8: 22 | I8: 30 | J8: 19 | K8: 32
A9: 01 Falls from a height | B9: 35 | C9: 31 | D9: 14 | E9: 21 | F9: 27 | G9: 16 | H9: 20 | I9: 29 | J9: 19 | K9: 30
A10: 02 Falls on the same level | B10: 0 | C10: 1 | D10: 0 | E10: 0 | F10: 1 | G10: 2 | H10: 2 | I10: 1 | J10: 0 | K10: 2
A11: 03 Stepping, kneeling or sitting on objects | B11: 0 | C11: 0 | D11: 0 | E11: 0 | F11: 0 | G11: 0 | H11: 0 | I11: 0 | J11: 0 | K11: 0
A12: 1 Hitting objects with a part of the body | B12: 3 | C12: 1 | D12: 0 | E12: 4 | F12: 1 | G12: 0 | H12: 1 | I12: 2 | J12: 0 | K12: 0
A13: 11 Hitting stationary objects | B13: 3 | C13: 0 | D13: 0 | E13: 4 | F13: 0 | G13: 0 | H13: 0 | I13: 1 | J13: 0 | K13: 0
A14: 12 Hitting moving objects | B14: 0 | C14: 1 | D14: 0 | E14: 0 | F14: 1 | G14: 0 | H14: 1 | I14: 1 | J14: 0 | K14: 0
A15: 13 Rubbing and chafing | B15: 0 | C15: 0 | D15: 0 | E15: 0 | F15: 0 | G15: 0 | H15: 0 | I15: 0 | J15: 0 | K15: 0
A16: 2 Being hit by moving objects | B16: 69 | C16: 68 | D16: 60 | E16: 56 | F16: 69 | G16: 59 | H16: 64 | I16: 65 | J16: 56 | K16: 51
A17: 21 Being hit by falling objects | B17: 12 | C17: 22 | D17: 14 | E17: 21 | F17: 20 | G17: 15 | H17: 15 | I17: 15 | J17: 15 | K17: 11
A18: 22 Being bitten by an animal | B18: 1 | C18: 0 | D18: 0 | E18: 0 | F18: 1 | G18: 2 | H18: 0 | I18: 1 | J18: 0 | K18: 0
A19: 23 Being hit by an animal | B19: 4 | C19: 0 | D19: 4 | E19: 0 | F19: 3 | G19: 2 | H19: 2 | I19: 0 | J19: 2 | K19: 2
... A74: Total | B74: 214 | C74: 192 | D74: 163 | E74: 180 | F74: 198 | G74: 161 | H74: 207 | I74: 195 | J74: 182 | K74: 206

Sheet Table 4.1
A1: ='Cover page'!$A$30 -> Table 4.1. Fatalities (count) by Breakdown Agency (TOOCS Sub major group), 10 years (calendar) to 2025
A2: Return to Cover page
A4: Top_10_Cal_Year_Indicator | B4: TRUE
A6: Fatalities (count)
B7: 2016 | C7: 2017 | D7: 2018 | E7: 2019 | F7: 2020 | G7: 2021 | H7: 2022 | I7: 2023 | J7: 2024 | K7: 2025
A8: 1 Machinery and (mainly) fixed plant | B8: 14 | C8: 14 | D8: 17 | E8: 25 | F8: 22 | G8: 22 | H8: 27 | I8: 24 | J8: 25 | K8: 18
A9: 11 Cutting, slicing, sawing machinery | B9: 2 | C9: 2 | D9: 1 | E9: 1 | F9: 2 | G9: 1 | H9: 2 | I9: 0 | J9: 0 | K9: 1
A10: 12 Crushing, pressing, rolling machinery | B10: 0 | C10: 0 | D10: 1 | E10: 1 | F10: 2 | G10: 3 | H10: 3 | I10: 2 | J10: 3 | K10: 2
A11: 13 Heating, cooking, baking equipment | B11: 0 | C11: 0 | D11: 0 | E11: 0 | F11: 0 | G11: 0 | H11: 0 | I11: 0 | J11: 0 | K11: 0
A12: 14 Cooling refrigeration plant and equipment | B12: 1 | C12: 1 | D12: 0 | E12: 0 | F12: 0 | G12: 0 | H12: 0 | I12: 2 | J12: 1 | K12: 0
A13: 15 Conveyors and lifting plant | B13: 6 | C13: 8 | D13: 12 | E13: 16 | F13: 12 | G13: 13 | H13: 14 | I13: 12 | J13: 14 | K13: 12
A14: 16 Electrical installation | B14: 5 | C14: 3 | D14: 3 | E14: 6 | F14: 5 | G14: 5 | H14: 6 | I14: 8 | J14: 6 | K14: 3
A15: 17 Radiation-based equipment | B15: 0 | C15: 0 | D15: 0 | E15: 0 | F15: 0 | G15: 0 | H15: 0 | I15: 0 | J15: 0 | K15: 0
A16: 18 Filling and bottling/packaging plant | B16: 0 | C16: 0 | D16: 0 | E16: 0 | F16: 0 | G16: 0 | H16: 0 | I16: 0 | J16: 0 | K16: 0
A17: 19 Other plant and machinery | B17: 0 | C17: 0 | D17: 0 | E17: 1 | F17: 1 | G17: 0 | H17: 2 | I17: 0 | J17: 1 | K17: 0
A18: 2 Mobile plant and transport | B18: 104 | C18: 107 | D18: 77 | E18: 106 | F18: 118 | G18: 111 | H18: 114 | I18: 115 | J18: 115 | K18: 120
A19: 21 Self-propelled plant | B19: 10 | C19: 4 | D19: 8 | E19: 11 | F19: 7 | G19: 8 | H19: 11 | I19: 9 | J19: 7 | K19: 5
... A64: Total | B64: 190 | C64: 192 | D64: 144 | E64: 193 | F64: 199 | G64: 174 | H64: 197 | I64: 201 | J64: 192 | K64: 222

Sheet Table 4.2
A1: ='Cover page'!$A$31 -> Table 4.2. Fatalities (count) by Breakdown Agency (TOOCS Sub major group), 10 years (financial) to 2024-25
A2: Return to Cover page
A4: Top_10_Fin_Year_Indicator | B4: TRUE
A6: Fatalities (count)
B7: 2015-16 | C7: 2016-17 | D7: 2017-18 | E7: 2018-19 | F7: 2019-20 | G7: 2020-21 | H7: 2021-22 | I7: 2022-23 | J7: 2023-24 | K7: 2024-25
A8: 1 Machinery and (mainly) fixed plant | B8: 20 | C8: 14 | D8: 13 | E8: 24 | F8: 21 | G8: 23 | H8: 31 | I8: 23 | J8: 21 | K8: 22
A9: 11 Cutting, slicing, sawing machinery | B9: 3 | C9: 1 | D9: 2 | E9: 0 | F9: 2 | G9: 1 | H9: 1 | I9: 2 | J9: 0 | K9: 0
A10: 12 Crushing, pressing, rolling machinery | B10: 0 | C10: 0 | D10: 1 | E10: 1 | F10: 1 | G10: 3 | H10: 3 | I10: 3 | J10: 1 | K10: 3
A11: 13 Heating, cooking, baking equipment | B11: 1 | C11: 0 | D11: 0 | E11: 0 | F11: 0 | G11: 0 | H11: 0 | I11: 0 | J11: 0 | K11: 0
A12: 14 Cooling refrigeration plant and equipment | B12: 1 | C12: 1 | D12: 1 | E12: 0 | F12: 0 | G12: 0 | H12: 0 | I12: 2 | J12: 1 | K12: 0
A13: 15 Conveyors and lifting plant | B13: 9 | C13: 9 | D13: 6 | E13: 17 | F13: 14 | G13: 11 | H13: 18 | I13: 11 | J13: 11 | K13: 15
A14: 16 Electrical installation | B14: 5 | C14: 3 | D14: 3 | E14: 6 | F14: 3 | G14: 7 | H14: 7 | I14: 5 | J14: 7 | K14: 4
A15: 17 Radiation-based equipment | B15: 0 | C15: 0 | D15: 0 | E15: 0 | F15: 0 | G15: 0 | H15: 0 | I15: 0 | J15: 0 | K15: 0
A16: 18 Filling and bottling/packaging plant | B16: 0 | C16: 0 | D16: 0 | E16: 0 | F16: 0 | G16: 0 | H16: 0 | I16: 0 | J16: 0 | K16: 0
A17: 19 Other plant and machinery | B17: 1 | C17: 0 | D17: 0 | E17: 0 | F17: 1 | G17: 1 | H17: 2 | I17: 0 | J17: 1 | K17: 0
A18: 2 Mobile plant and transport | B18: 109 | C18: 104 | D18: 96 | E18: 102 | F18: 105 | G18: 98 | H18: 128 | I18: 106 | J18: 104 | K18: 126
A19: 21 Self-propelled plant | B19: 13 | C19: 4 | D19: 8 | E19: 10 | F19: 6 | G19: 8 | H19: 10 | I19: 11 | J19: 5 | K19: 7
... A64: Total | B64: 214 | C64: 192 | D64: 163 | E64: 180 | F64: 198 | G64: 161 | H64: 207 | I64: 195 | J64: 182 | K64: 206

Sheet Table 5.1
A1: ='Cover page'!$A$33 -> Table 5.1. Fatalities (count) by Agency (TOOCS Sub major group), 10 years (calendar) to 2025
A2: Return to Cover page
A4: Top_10_Cal_Year_Indicator | B4: TRUE
A6: Fatalities (count)
B7: 2016 | C7: 2017 | D7: 2018 | E7: 2019 | F7: 2020 | G7: 2021 | H7: 2022 | I7: 2023 | J7: 2024 | K7: 2025
A8: 1 Machinery and (mainly) fixed plant | B8: 11 | C8: 12 | D8: 17 | E8: 19 | F8: 21 | G8: 16 | H8: 23 | I8: 17 | J8: 19 | K8: 17
A9: 11 Cutting, slicing, sawing machinery | B9: 2 | C9: 1 | D9: 1 | E9: 1 | F9: 2 | G9: 1 | H9: 2 | I9: 0 | J9: 0 | K9: 0
A10: 12 Crushing, pressing, rolling machinery | B10: 0 | C10: 0 | D10: 1 | E10: 1 | F10: 1 | G10: 3 | H10: 3 | I10: 1 | J10: 1 | K10: 3
A11: 13 Heating, cooking, baking equipment | B11: 0 | C11: 0 | D11: 0 | E11: 0 | F11: 0 | G11: 0 | H11: 0 | I11: 0 | J11: 0 | K11: 0
A12: 14 Cooling refrigeration plant and equipment | B12: 1 | C12: 1 | D12: 0 | E12: 0 | F12: 2 | G12: 0 | H12: 0 | I12: 2 | J12: 1 | K12: 0
A13: 15 Conveyors and lifting plant | B13: 2 | C13: 6 | D13: 11 | E13: 8 | F13: 9 | G13: 5 | H13: 8 | I13: 7 | J13: 12 | K13: 8
A14: 16 Electrical installation | B14: 6 | C14: 4 | D14: 4 | E14: 8 | F14: 6 | G14: 7 | H14: 9 | I14: 7 | J14: 4 | K14: 6
A15: 17 Radiation-based equipment | B15: 0 | C15: 0 | D15: 0 | E15: 0 | F15: 0 | G15: 0 | H15: 0 | I15: 0 | J15: 0 | K15: 0
A16: 18 Filling and bottling/packaging plant | B16: 0 | C16: 0 | D16: 0 | E16: 0 | F16: 0 | G16: 0 | H16: 0 | I16: 0 | J16: 0 | K16: 0
A17: 19 Other plant and machinery | B17: 0 | C17: 0 | D17: 0 | E17: 1 | F17: 1 | G17: 0 | H17: 1 | I17: 0 | J17: 1 | K17: 0
A18: 2 Mobile plant and transport | B18: 88 | C18: 108 | D18: 66 | E18: 102 | F18: 124 | G18: 102 | H18: 115 | I18: 116 | J18: 108 | K18: 121
A19: 21 Self-propelled plant | B19: 8 | C19: 4 | D19: 5 | E19: 10 | F19: 4 | G19: 7 | H19: 11 | I19: 9 | J19: 7 | K19: 5
... A64: Total | B64: 190 | C64: 192 | D64: 144 | E64: 193 | F64: 199 | G64: 174 | H64: 197 | I64: 201 | J64: 192 | K64: 222

Sheet Table 5.2
A1: ='Cover page'!$A$34 -> Table 5.2. Fatalities (count) by Agency (TOOCS Sub major group), 10 years (financial) to 2024-25
A2: Return to Cover page
A4: Top_10_Fin_Year_Indicator | B4: TRUE
A6: Fatalities (count)
B7: 2015-16 | C7: 2016-17 | D7: 2017-18 | E7: 2018-19 | F7: 2019-20 | G7: 2020-21 | H7: 2021-22 | I7: 2022-23 | J7: 2023-24 | K7: 2024-25
A8: 1 Machinery and (mainly) fixed plant | B8: 19 | C8: 12 | D8: 13 | E8: 21 | F8: 16 | G8: 21 | H8: 24 | I8: 18 | J8: 15 | K8: 18
A9: 11 Cutting, slicing, sawing machinery | B9: 2 | C9: 1 | D9: 1 | E9: 0 | F9: 2 | G9: 1 | H9: 1 | I9: 2 | J9: 0 | K9: 0
A10: 12 Crushing, pressing, rolling machinery | B10: 0 | C10: 0 | D10: 1 | E10: 1 | F10: 1 | G10: 2 | H10: 3 | I10: 2 | J10: 0 | K10: 3
A11: 13 Heating, cooking, baking equipment | B11: 1 | C11: 0 | D11: 0 | E11: 0 | F11: 0 | G11: 0 | H11: 0 | I11: 0 | J11: 0 | K11: 0
A12: 14 Cooling refrigeration plant and equipment | B12: 0 | C12: 1 | D12: 1 | E12: 0 | F12: 1 | G12: 1 | H12: 0 | I12: 2 | J12: 1 | K12: 0
A13: 15 Conveyors and lifting plant | B13: 7 | C13: 5 | D13: 6 | E13: 14 | F13: 7 | G13: 7 | H13: 9 | I13: 6 | J13: 8 | K13: 9
A14: 16 Electrical installation | B14: 7 | C14: 5 | D14: 4 | E14: 6 | F14: 4 | G14: 9 | H14: 10 | I14: 6 | J14: 5 | K14: 6
A15: 17 Radiation-based equipment | B15: 0 | C15: 0 | D15: 0 | E15: 0 | F15: 0 | G15: 0 | H15: 0 | I15: 0 | J15: 0 | K15: 0
A16: 18 Filling and bottling/packaging plant | B16: 0 | C16: 0 | D16: 0 | E16: 0 | F16: 0 | G16: 0 | H16: 0 | I16: 0 | J16: 0 | K16: 0
A17: 19 Other plant and machinery | B17: 2 | C17: 0 | D17: 0 | E17: 0 | F17: 1 | G17: 1 | H17: 1 | I17: 0 | J17: 1 | K17: 0
A18: 2 Mobile plant and transport | B18: 95 | C18: 95 | D18: 90 | E18: 88 | F18: 110 | G18: 105 | H18: 116 | I18: 107 | J18: 107 | K18: 124
A19: 21 Self-propelled plant | B19: 11 | C19: 2 | D19: 7 | E19: 9 | F19: 4 | G19: 6 | H19: 10 | I19: 11 | J19: 5 | K19: 6
... A64: Total | B64: 214 | C64: 192 | D64: 163 | E64: 180 | F64: 198 | G64: 161 | H64: 207 | I64: 195 | J64: 182 | K64: 206

Sheet Table 6.1
A1: ='Cover page'!$A$36 -> Table 6.1. Fatalities (count) by Demographics (Age group and Sex), 10 years (calendar) to 2025
A2: Return to Cover page
A4: Top_10_Cal_Year_Indicator | B4: TRUE
A6: Fatalities (count)
B7: 2016 | C7: 2017 | D7: 2018 | E7: 2019 | F7: 2020 | G7: 2021 | H7: 2022 | I7: 2023 | J7: 2024 | K7: 2025
A8: Under 25 | B8: 16 | C8: 17 | D8: 18 | E8: 15 | F8: 9 | G8: 16 | H8: 17 | I8: 26 | J8: 12 | K8: 16
A9: Male | B9: 15 | C9: 12 | D9: 17 | E9: 12 | F9: 8 | G9: 16 | H9: 15 | I9: 24 | J9: 12 | K9: 13
A10: Female | B10: 1 | C10: 5 | D10: 1 | E10: 3 | F10: 1 | G10: 0 | H10: 2 | I10: 2 | J10: 0 | K10: 3
A11: 25-34 | B11: 33 | C11: 32 | D11: 24 | E11: 26 | F11: 32 | G11: 25 | H11: 29 | I11: 29 | J11: 55 | K11: 33
A12: Male | B12: 30 | C12: 30 | D12: 23 | E12: 25 | F12: 30 | G12: 25 | H12: 27 | I12: 27 | J12: 55 | K12: 30
A13: Female | B13: 3 | C13: 2 | D13: 1 | E13: 1 | F13: 2 | G13: 0 | H13: 2 | I13: 2 | J13: 0 | K13: 3
A14: 35-44 | B14: 26 | C14: 34 | D14: 26 | E14: 36 | F14: 33 | G14: 26 | H14: 29 | I14: 35 | J14: 24 | K14: 35
A15: Male | B15: 22 | C15: 34 | D15: 24 | E15: 35 | F15: 32 | G15: 24 | H15: 23 | I15: 33 | J15: 20 | K15: 32
A16: Female | B16: 4 | C16: 0 | D16: 2 | E16: 1 | F16: 1 | G16: 2 | H16: 6 | I16: 2 | J16: 4 | K16: 3
A17: 45-54 | B17: 41 | C17: 36 | D17: 27 | E17: 34 | F17: 34 | G17: 33 | H17: 35 | I17: 39 | J17: 24 | K17: 39
A18: Male | B18: 38 | C18: 33 | D18: 26 | E18: 33 | F18: 34 | G18: 31 | H18: 33 | I18: 36 | J18: 22 | K18: 37
A19: Female | B19: 3 | C19: 3 | D19: 1 | E19: 1 | F19: 0 | G19: 2 | H19: 2 | I19: 3 | J19: 2 | K19: 2
... A26: Total | B26: 190 | C26: 192 | D26: 144 | E26: 193 | F26: 199 | G26: 174 | H26: 197 | I26: 201 | J26: 192 | K26: 222

Sheet Table 6.2
A1: ='Cover page'!$A$37 -> Table 6.2. Fatalities (rate) by Demographics (Age group and Sex), 10 years (calendar) to 2025
A2: Return to Cover page
A4: Top_10_Cal_Year_Indicator | B4: TRUE
A6: Fatalities (rate)
B7: 2016 | C7: 2017 | D7: 2018 | E7: 2019 | F7: 2020 | G7: 2021 | H7: 2022 | I7: 2023 | J7: 2024 | K7: 2025
A8: Under 25 | B8: 0.86836619 | C8: 0.91800991 | D8: 0.94151129 | E8: 0.77761471 | F8: 0.5056655 | G8: 0.85155703 | H8: 0.81732452 | I8: 1.1936403 | J8: 0.54480172 | K8: 0.71283395
A9: Male | B9: 1.6018533 | C9: 1.2735207 | D9: 1.7503384 | E9: 1.2179493 | F9: 0.88733135 | G9: 1.6943266 | H9: 1.4304879 | I9: 2.1598769 | J9: 1.0660998 | K9: 1.1308011
A10: Female | B10: 0.11036002 | C10: 0.54971507 | D10: 0.10631748 | E10: 0.3178932 | F10: 0.11386241 | G10: NP | H10: 0.19391798 | I10: 0.18743507 | J10: NP | K10: 0.27398898
A11: 25-34 | B11: 1.1579588 | C11: 1.1029614 | D11: 0.80729237 | E11: 0.85348192 | F11: 1.0819065 | G11: 0.83199867 | H11: 0.93192771 | I11: 0.87978692 | J11: 1.630778 | K11: 0.96477532
A12: Male | B12: 1.9245217 | C12: 1.9086588 | D12: 1.4360007 | E12: 1.5304806 | F12: 1.9161591 | G12: 1.5764172 | H12: 1.6512421 | I12: 1.56027 | J12: 3.1108192 | K12: 1.6715254
A13: Female | B13: 0.2323756 | C13: 0.15043296 | D13: 0.072927218 | E13: 0.070777886 | F13: 0.14366683 | G13: NP | H13: 0.13543743 | I13: 0.12773162 | J13: NP | K13: 0.18453388
A14: 35-44 | B14: 0.99804284 | C14: 1.2772292 | D14: 0.95514563 | E14: 1.2939798 | F14: 1.177521 | G14: 0.88781295 | H14: 0.95026111 | I14: 1.1072324 | J14: 0.73395482 | K14: 1.0385071
A15: Male | B15: 1.548912 | C15: 2.3682259 | D15: 1.6455529 | E15: 2.3569764 | F15: 2.1353625 | G15: 1.5481357 | H15: 1.4387039 | I15: 1.9972689 | J15: 1.1723112 | K15: 1.8340749
A16: Female | B16: 0.3376249 | C16: NP | D16: 0.15827522 | E16: 0.077091425 | F16: 0.076691632 | G16: 0.14510701 | H16: 0.41290132 | I16: 0.13255757 | J16: 0.25576684 | K16: 0.18456159
A17: 45-54 | B17: 1.621717 | C17: 1.4044515 | D17: 1.0400257 | E17: 1.2904613 | F17: 1.2991768 | G17: 1.2367734 | H17: 1.2827126 | I17: 1.4193673 | J17: 0.86703934 | K17: 1.3990252
A18: Male | B18: 2.9000746 | C18: 2.4872169 | D18: 1.9381891 | E18: 2.4270004 | F18: 2.4953258 | G18: 2.2516364 | H18: 2.3613107 | I18: 2.5599347 | J18: 1.5503464 | K18: 2.5890056
A19: Female | B19: 0.24633099 | C19: 0.24262146 | D19: 0.079704697 | E19: 0.078430533 | F19: NP | G19: 0.15486386 | H19: 0.15025577 | I19: 0.22364404 | J19: 0.14825767 | K19: 0.1472174
A20: 55-64 | B20: 2.7433765 | C20: 2.6400895 | D20: 1.6640302 | E20: 2.5508904 | F20: 2.9690725 | G20: 2.1709421 | H20: 2.1537937 | I20: 1.9938304 | J20: 1.968624 | K20: 2.6945678
A21: Male | B21: 4.5722548 | C21: 4.5204746 | D21: 3.0144812 | E21: 4.6898328 | F21: 5.4004702 | G21: 3.9173523 | H21: 3.7882889 | I21: 3.7764596 | J21: 3.6587533 | K21: 4.9696471
A22: Female | B22: 0.61788379 | C22: 0.47350108 | D22: 0.11524045 | E22: 0.11143213 | F22: 0.22188653 | G22: 0.21411405 | H22: 0.31229697 | I22: NP | J22: 0.10107091 | K22: 0.20168222
A23: 65 and over | B23: 5.667087 | C23: 5.0475935 | D23: 3.286637 | E23: 5.5263908 | F23: 5.8109283 | G23: 4.8272589 | H23: 6.5386457 | I23: 3.8719755 | J23: 4.7471718 | K23: 5.4967013
A24: Male | B24: 8.8551431 | C24: 8.2662048 | D24: 4.7641253 | E24: 8.920284 | F24: 9.1180165 | G24: 7.9593389 | H24: 10.808248 | I24: 6.2436295 | J24: 7.8870495 | K24: 9.3943709
A25: Female | B25: 0.56667596 | C25: NP | D25: 0.94415822 | E25: 0.41945996 | F25: 0.85414993 | G25: NP | H25: NP | I25: 0.35600617 | J25: 0.31788333 | K25: 0.5911777
A26: Total | B26: 1.5788436 | C26: 1.5620159 | D26: 1.1416315 | E26: 1.4949438 | F26: 1.5716304 | G26: 1.3279001 | H26: 1.4408266 | I26: 1.4218147 | J26: 1.3283267 | K26: 1.51378

Sheet Table 6.3
A1: ='Cover page'!$A$38 -> Table 6.3. Fatalities (count) by Demographics (Age group and Sex), 10 years (financial) to 2024-25
A2: Return to Cover page
A4: Top_10_Fin_Year_Indicator | B4: TRUE
A6: Fatalities (count)
B7: 2015-16 | C7: 2016-17 | D7: 2017-18 | E7: 2018-19 | F7: 2019-20 | G7: 2020-21 | H7: 2021-22 | I7: 2022-23 | J7: 2023-24 | K7: 2024-25
A8: Under 25 | B8: 17 | C8: 18 | D8: 15 | E8: 19 | F8: 13 | G8: 9 | H8: 15 | I8: 22 | J8: 22 | K8: 14
A9: Male | B9: 15 | C9: 13 | D9: 13 | E9: 18 | F9: 10 | G9: 9 | H9: 14 | I9: 21 | J9: 20 | K9: 12
A10: Female | B10: 2 | C10: 5 | D10: 2 | E10: 1 | F10: 3 | G10: 0 | H10: 1 | I10: 1 | J10: 2 | K10: 2
A11: 25-34 | B11: 41 | C11: 29 | D11: 33 | E11: 30 | F11: 24 | G11: 22 | H11: 32 | I11: 29 | J11: 41 | K11: 38
A12: Male | B12: 36 | C12: 28 | D12: 31 | E12: 29 | F12: 22 | G12: 21 | H12: 31 | I12: 27 | J12: 40 | K12: 38
A13: Female | B13: 5 | C13: 1 | D13: 2 | E13: 1 | F13: 2 | G13: 1 | H13: 1 | I13: 2 | J13: 1 | K13: 0
A14: 35-44 | B14: 30 | C14: 28 | D14: 26 | E14: 31 | F14: 35 | G14: 29 | H14: 32 | I14: 31 | J14: 24 | K14: 23
A15: Male | B15: 26 | C15: 28 | D15: 25 | E15: 30 | F15: 34 | G15: 27 | H15: 28 | I15: 27 | J15: 23 | K15: 19
A16: Female | B16: 4 | C16: 0 | D16: 1 | E16: 1 | F16: 1 | G16: 2 | H16: 4 | I16: 4 | J16: 1 | K16: 4
A17: 45-54 | B17: 39 | C17: 41 | D17: 33 | E17: 35 | F17: 33 | G17: 31 | H17: 39 | I17: 33 | J17: 26 | K17: 33
A18: Male | B18: 39 | C18: 36 | D18: 32 | E18: 34 | F18: 32 | G18: 30 | H18: 37 | I18: 31 | J18: 24 | K18: 30
A19: Female | B19: 0 | C19: 5 | D19: 1 | E19: 1 | F19: 1 | G19: 1 | H19: 2 | I19: 2 | J19: 2 | K19: 3
... A26: Total | B26: 214 | C26: 192 | D26: 163 | E26: 180 | F26: 198 | G26: 161 | H26: 207 | I26: 195 | J26: 182 | K26: 206

Sheet Table 6.4
A1: ='Cover page'!$A$39 -> Table 6.4. Fatalities (rate) by Demographics (Age group and Sex), 10 years (financial) to 2024-25
A2: Return to Cover page
A4: Top_10_Fin_Year_Indicator | B4: TRUE
A6: Fatalities (rate)
B7: 2015-16 | C7: 2016-17 | D7: 2017-18 | E7: 2018-19 | F7: 2019-20 | G7: 2020-21 | H7: 2021-22 | I7: 2022-23 | J7: 2023-24 | K7: 2024-25
A8: Under 25 | B8: 0.91742296 | C8: 0.98609148 | D8: 0.79461306 | E8: 0.98453027 | F8: 0.70774939 | G8: 0.48844739 | H8: 0.76681227 | I8: 1.0235546 | J8: 1.0079816 | K8: 0.62766614
A9: Male | B9: 1.5969708 | C9: 1.3976962 | D9: 1.3585744 | E9: 1.829564 | F9: 1.0698063 | G9: 0.97273989 | H9: 1.4142669 | I9: 1.9327816 | J9: 1.7932007 | K9: 1.0497001
A10: Female | B10: 0.21888104 | C10: 0.55848045 | D10: 0.21486296 | E10: 0.10570675 | F10: 0.33257221 | G10: NP | H10: 0.10349416 | I10: 0.094086173 | J10: 0.18739657 | K10: 0.18394163
A11: 25-34 | B11: 1.4586464 | C11: 1.0098002 | D11: 1.1206746 | E11: 0.99737099 | F11: 0.79636079 | G11: 0.7382786 | H11: 1.0556393 | I11: 0.90227363 | J11: 1.2257623 | K11: 1.1175161
A12: Male | B12: 2.3394445 | C12: 1.788193 | D12: 1.9512124 | E12: 1.7926306 | F12: 1.3714631 | G12: 1.3315585 | H12: 1.9493971 | I12: 1.5958894 | J12: 2.2844366 | K12: 2.1277373
A13: Female | B13: 0.39308229 | C13: 0.076567988 | D13: 0.14750359 | E13: 0.071933467 | F13: 0.14188593 | G13: 0.071285717 | H13: 0.069391291 | I13: 0.13138395 | J13: 0.062740041 | K13: NP
A14: 35-44 | B14: 1.1582615 | C14: 1.0658813 | D14: 0.96569499 | E14: 1.1255979 | F14: 1.2549657 | G14: 1.0099792 | H14: 1.0728158 | I14: 0.99966157 | J14: 0.7455076 | K14: 0.69042641
A15: Male | B15: 1.8476307 | C15: 1.9595027 | D15: 1.7317268 | E15: 2.0370765 | F15: 2.2753646 | G15: 1.7732747 | H15: 1.7820641 | I15: 1.6598477 | J15: 1.3707835 | K15: 1.0975945
A16: Female | B16: 0.33815739 | C16: NP | D16: 0.080082273 | E16: 0.078040063 | F16: 0.07724067 | G16: 0.1482866 | H16: 0.28336783 | I16: 0.27129787 | J16: 0.064875644 | K16: 0.24996619
A17: 45-54 | B17: 1.5462596 | C17: 1.6125539 | D17: 1.2793081 | E17: 1.3376563 | F17: 1.2561573 | G17: 1.1754578 | H17: 1.4441239 | I17: 1.2040344 | J17: 0.94189143 | K17: 1.1885083
A18: Male | B18: 2.9658996 | C18: 2.7337591 | D18: 2.4048434 | E18: 2.5107289 | F18: 2.3522486 | G18: 2.1952104 | H18: 2.6615609 | I18: 2.214234 | J18: 1.6964359 | K18: 2.1099121
A19: Female | B19: NP | C19: 0.40793595 | D19: 0.080072297 | E19: 0.079218699 | F19: 0.078947838 | G19: 0.078699336 | H19: 0.15262078 | I19: 0.14916993 | J19: 0.14862459 | K19: 0.2214464
A20: 55-64 | B20: 2.9993651 | C20: 2.8738916 | D20: 2.0628038 | E20: 1.8478337 | F20: 3.0707693 | G20: 2.1539147 | H20: 2.3704381 | I20: 1.9595562 | J20: 2.1235734 | K20: 2.5476944
A21: Male | B21: 5.2118442 | C21: 4.9573478 | D21: 3.6413263 | E21: 3.3646087 | F21: 5.4919441 | G21: 3.9728818 | H21: 4.2075304 | I21: 3.6123496 | J21: 3.9376229 | K21: 4.6767726
A22: Female | B22: 0.37805563 | C22: 0.48396291 | D22: 0.23432863 | E22: 0.11317452 | F22: 0.33271697 | G22: 0.10893941 | H22: 0.31399437 | I22: 0.10398806 | J22: 0.10204604 | K22: 0.20205762
A23: 65 and over | B23: 7.7493636 | C23: 5.290896 | D23: 3.4510037 | E23: 5.2253074 | F23: 5.7851033 | G23: 4.4979301 | H23: 6.3935524 | I23: 5.7531592 | J23: 3.006203 | K23: 5.8960214
A24: Male | B24: 12.592668 | C24: 8.2948122 | D24: 5.3459465 | E24: 8.2035091 | F24: 9.2008761 | G24: 7.1751395 | H24: 10.499522 | I24: 9.3287571 | J24: 5.070939 | K24: 9.8654011
A25: Female | B25: NP | C25: 0.54593412 | D25: 0.49118461 | E25: 0.45326469 | F25: 0.83359932 | G25: 0.40615858 | H25: NP | I25: 0.36962313 | J25: NP | K25: 0.61094852
A26: Total | B26: 1.7890738 | C26: 1.5849645 | D26: 1.3073481 | E26: 1.4088245 | F26: 1.5498346 | G26: 1.2477195 | H26: 1.5520609 | I26: 1.4004117 | J26: 1.2717559 | K26: 1.4126728

Sheet Table 7.1
A1: ='Cover page'!$A$41 -> Table 7.1. Fatalities (count) by Location (State/Territory), 10 years (calendar) to 2025
A2: Return to Cover page
A4: Top_10_Cal_Year_Indicator | B4: TRUE
A6: Fatalities (count)
B7: 2016 | C7: 2017 | D7: 2018 | E7: 2019 | F7: 2020 | G7: 2021 | H7: 2022 | I7: 2023 | J7: 2024 | K7: 2025
A8: New South Wales | B8: 54 | C8: 62 | D8: 48 | E8: 65 | F8: 54 | G8: 48 | H8: 50 | I8: 60 | J8: 50 | K8: 77
A9: Victoria | B9: 36 | C9: 36 | D9: 33 | E9: 35 | F9: 52 | G9: 35 | H9: 40 | I9: 37 | J9: 28 | K9: 40
A10: Queensland | B10: 49 | C10: 45 | D10: 39 | E10: 44 | F10: 33 | G10: 43 | H10: 49 | I10: 52 | J10: 54 | K10: 45
A11: South Australia | B11: 21 | C11: 14 | D11: 9 | E11: 15 | F11: 11 | G11: 16 | H11: 14 | I11: 16 | J11: 17 | K11: 21
A12: Western Australia | B12: 19 | C12: 22 | D12: 11 | E12: 21 | F12: 32 | G12: 22 | H12: 36 | I12: 28 | J12: 32 | K12: 28
A13: Tasmania | B13: 6 | C13: 5 | D13: 1 | E13: 6 | F13: 9 | G13: 5 | H13: 4 | I13: 2 | J13: 4 | K13: 7
A14: Northern Territory | B14: 4 | C14: 7 | D14: 2 | E14: 7 | F14: 6 | G14: 4 | H14: 3 | I14: 5 | J14: 4 | K14: 4
A15: Australian Capital Territory | B15: 1 | C15: 1 | D15: 1 | E15: 0 | F15: 2 | G15: 1 | H15: 1 | I15: 1 | J15: 3 | K15: 0
A16: Total | B16: 190 | C16: 192 | D16: 144 | E16: 193 | F16: 199 | G16: 174 | H16: 197 | I16: 201 | J16: 192 | K16: 222

Sheet Table 7.2
A1: ='Cover page'!$A$42 -> Table 7.2. Fatalities (rate) by Location (State/Territory), 10 years (calendar) to 2025
A2: Return to Cover page
A4: Top_10_Cal_Year_Indicator | B4: TRUE
A6: Fatalities (rate)
B7: 2016 | C7: 2017 | D7: 2018 | E7: 2019 | F7: 2020 | G7: 2021 | H7: 2022 | I7: 2023 | J7: 2024 | K7: 2025
A8: New South Wales | B8: 1.4128269 | C8: 1.6022791 | D8: 1.2028617 | E8: 1.587078 | F8: 1.3530221 | G8: 1.1848945 | H8: 1.1745818 | I8: 1.3608483 | J8: 1.1211731 | K8: 1.712461
A9: Victoria | B9: 1.1591512 | C9: 1.1229822 | D9: 1.0061964 | E9: 1.0347682 | F9: 1.5872328 | G9: 1.0314594 | H9: 1.1421445 | I9: 1.0176838 | J9: 0.74890575 | K9: 1.0527753
A10: Queensland | B10: 2.0557549 | C10: 1.8402941 | D10: 1.5528032 | E10: 1.7230226 | F10: 1.3119244 | G10: 1.6172071 | H10: 1.7578917 | I10: 1.8201979 | J10: 1.8230857 | K10: 1.4941341
A11: South Australia | B11: 2.5828838 | C11: 1.6887915 | D11: 1.0614428 | E11: 1.7398471 | F11: 1.2913801 | G11: 1.8029548 | H11: 1.5256898 | I11: 1.6754677 | J11: 1.7872537 | K11: 2.1354729
A12: Western Australia | B12: 1.4529025 | C12: 1.6642273 | D12: 0.81341461 | E12: 1.523754 | F12: 2.3235347 | G12: 1.5227918 | H12: 2.3728018 | I12: 1.7814354 | J12: 1.9583135 | K12: 1.6854102
A13: Tasmania | B13: 2.5208948 | C13: 2.0131057 | D13: 0.39290983 | E13: 2.325976 | F13: 3.4381873 | G13: 1.8146414 | H13: 1.4071881 | I13: 0.69955129 | J13: 1.4215104 | K13: 2.4675814
A14: Northern Territory | B14: 2.890669 | C14: 5.0790544 | D14: 1.4468374 | E14: 5.1923167 | F14: 4.4485571 | G14: 2.9072455 | H14: 2.1270298 | I14: 3.4661058 | J14: 2.7198036 | K14: 2.682763
A15: Australian Capital Territory | B15: 0.44332604 | C15: 0.42701201 | D15: 0.41874537 | E15: NP | F15: 0.78815039 | G15: 0.39219442 | H15: 0.3757259 | I15: 0.35915128 | J15: 1.0708093 | K15: NP
A16: Total | B16: 1.5788436 | C16: 1.5620159 | D16: 1.1416315 | E16: 1.4949438 | F16: 1.5716304 | G16: 1.3279001 | H16: 1.4408266 | I16: 1.4218147 | J16: 1.3283267 | K16: 1.51378

Sheet Table 7.3
A1: ='Cover page'!$A$43 -> Table 7.3. Fatalities (count) by Location (State/Territory), 10 years (financial) to 2024-25
A2: Return to Cover page
A4: Top_10_Fin_Year_Indicator | B4: TRUE
A6: Fatalities (count)
B7: 2015-16 | C7: 2016-17 | D7: 2017-18 | E7: 2018-19 | F7: 2019-20 | G7: 2020-21 | H7: 2021-22 | I7: 2022-23 | J7: 2023-24 | K7: 2024-25
A8: New South Wales | B8: 58 | C8: 69 | D8: 53 | E8: 50 | F8: 61 | G8: 54 | H8: 49 | I8: 55 | J8: 55 | K8: 57
A9: Victoria | B9: 47 | C9: 31 | D9: 31 | E9: 36 | F9: 50 | G9: 30 | H9: 46 | I9: 35 | J9: 33 | K9: 32
A10: Queensland | B10: 51 | C10: 44 | D10: 40 | E10: 53 | F10: 39 | G10: 26 | H10: 53 | I10: 54 | J10: 45 | K10: 44
A11: South Australia | B11: 15 | C11: 20 | D11: 11 | E11: 12 | F11: 9 | G11: 14 | H11: 18 | I11: 11 | J11: 18 | K11: 23
A12: Western Australia | B12: 32 | C12: 19 | D12: 18 | E12: 19 | F12: 22 | G12: 28 | H12: 30 | I12: 31 | J12: 24 | K12: 38
A13: Tasmania | B13: 9 | C13: 2 | D13: 4 | E13: 4 | F13: 9 | G13: 4 | H13: 6 | I13: 3 | J13: 1 | K13: 7
A14: Northern Territory | B14: 2 | C14: 5 | D14: 6 | E14: 5 | F14: 6 | G14: 5 | H14: 3 | I14: 6 | J14: 4 | K14: 3
A15: Australian Capital Territory | B15: 0 | C15: 2 | D15: 0 | E15: 1 | F15: 2 | G15: 0 | H15: 2 | I15: 0 | J15: 2 | K15: 2
A16: Total | B16: 214 | C16: 192 | D16: 163 | E16: 180 | F16: 198 | G16: 161 | H16: 207 | I16: 195 | J16: 182 | K16: 206

Sheet Table 7.4
A1: ='Cover page'!$A$44 -> Table 7.4. Fatalities (rate) by Location (State/Territory), 10 years (financial) to 2024-25
A2: Return to Cover page
A4: Top_10_Fin_Year_Indicator | B4: TRUE
A6: Fatalities (rate)
B7: 2015-16 | C7: 2016-17 | D7: 2017-18 | E7: 2018-19 | F7: 2019-20 | G7: 2020-21 | H7: 2021-22 | I7: 2022-23 | J7: 2023-24 | K7: 2024-25
A8: New South Wales | B8: 1.5240093 | C8: 1.8048668 | D8: 1.3469599 | E8: 1.2325582 | F8: 1.5139602 | G8: 1.3291795 | H8: 1.1951028 | I8: 1.2655286 | J8: 1.2385553 | K8: 1.2699626
A9: Victoria | B9: 1.5433523 | C9: 0.98065279 | D9: 0.95731597 | E9: 1.0794545 | F9: 1.4906489 | G9: 0.90651504 | H9: 1.3359867 | I9: 0.97975511 | J9: 0.89520946 | K9: 0.84935734
A10: Queensland | B10: 2.1412602 | C10: 1.8393129 | D10: 1.6067187 | E10: 2.0909746 | F10: 1.5463586 | G10: 1.0014528 | H10: 1.9472227 | I10: 1.9113382 | J10: 1.5457771 | K10: 1.4683638
A11: South Australia | B11: 1.8517588 | C11: 2.4394799 | D11: 1.3054344 | E11: 1.4053442 | F11: 1.0550035 | G11: 1.6149727 | H11: 1.9882573 | I11: 1.172942 | J11: 1.8857563 | K11: 2.3866372
A12: Western Australia | B12: 2.4258347 | C12: 1.4536366 | D12: 1.347637 | E12: 1.3934485 | F12: 1.6013411 | G12: 1.9926966 | H12: 2.0142013 | I12: 2.0134609 | J12: 1.4907496 | K12: 2.2946016
A13: Tasmania | B13: 3.7575197 | C13: 0.82571785 | D13: 1.5865234 | E13: 1.5636486 | F13: 3.4674236 | G13: 1.4869986 | H13: 2.1381499 | I13: 1.0492541 | J13: 0.35184369 | K13: 2.4946561
A14: Northern Territory | B14: 1.4425987 | C14: 3.6149292 | D14: 4.3573709 | E14: 3.6705691 | F14: 4.458136 | G14: 3.6494526 | H14: 2.1668975 | I14: 4.1856571 | J14: 2.7421481 | K14: 2.0274211
A15: Australian Capital Territory | B15: NP | C15: 0.8694168 | D15: NP | E15: 0.4152009 | F15: 0.80314563 | G15: NP | H15: 0.77440228 | I15: NP | J15: 0.71870402 | K15: 0.7103598
A16: Total | B16: 1.7890738 | C16: 1.5849645 | D16: 1.3073481 | E16: 1.4088245 | F16: 1.5498346 | G16: 1.2477195 | H16: 1.5520609 | I16: 1.4004117 | J16: 1.2717559 | K16: 1.4126728

Sheet Table 8.1
A1: ='Cover page'!$A$46 -> Table 8.1. Fatalities (count) by Jurisdiction (TIF Jurisdiction and Public road status), 5 years (calendar) to 2025
A2: Return to Cover page
A4: Top_5_Cal_Year_Indicator | B4: TRUE
A6: Fatalities (count)
B7: 2021 | C7: 2022 | D7: 2023 | E7: 2024 | F7: 2025
A8: Not on a public road | B8: 112 | C8: 128 | D8: 123 | E8: 123 | F8: 144
A9: Aircraft incidents | B9: 8 | C9: 18 | D9: 16 | E9: 7 | F9: 12
A10: Australian Capital Territory | B10: 0 | C10: 0 | D10: 1 | E10: 3 | F10: 0
A11: Commonwealth | B11: 2 | C11: 2 | D11: 1 | E11: 3 | F11: 5
A12: New South Wales | B12: 19 | C12: 32 | D12: 35 | E12: 25 | F12: 46
A13: Northern Territory | B13: 2 | C13: 0 | D13: 1 | E13: 1 | F13: 1
A14: Queensland | B14: 27 | C14: 27 | D14: 29 | E14: 35 | F14: 24
A15: South Australia | B15: 10 | C15: 8 | D15: 5 | E15: 12 | F15: 14
A16: Tasmania | B16: 2 | C16: 2 | D16: 2 | E16: 1 | F16: 4
A17: Victoria | B17: 26 | C17: 20 | D17: 17 | E17: 18 | F17: 25
A18: Western Australia | B18: 16 | C18: 19 | D18: 16 | E18: 18 | F18: 13
A19: On a public road | B19: 62 | C19: 69 | D19: 78 | E19: 69 | F19: 78
... A30: Total | B30: 174 | C30: 197 | D30: 201 | E30: 192 | F30: 222

Sheet Table 8.2
A1: ='Cover page'!$A$47 -> Table 8.2. Fatalities (count) by Jurisdiction (TIF Jurisdiction and Public road status), 5 years (financial) to 2024-25
A2: Return to Cover page
A4: Top_5_Fin_Year_Indicator | B4: TRUE
A6: Fatalities (count)
B7: 2020-21 | C7: 2021-22 | D7: 2022-23 | E7: 2023-24 | F7: 2024-25
A8: Not on a public road | B8: 106 | C8: 125 | D8: 129 | E8: 114 | F8: 123
A9: Aircraft incidents | B9: 9 | C9: 14 | D9: 12 | E9: 14 | F9: 7
A10: Australian Capital Territory | B10: 0 | C10: 0 | D10: 0 | E10: 2 | F10: 2
A11: Commonwealth | B11: 3 | C11: 2 | D11: 2 | E11: 2 | F11: 2
A12: New South Wales | B12: 26 | C12: 23 | D12: 36 | E12: 30 | F12: 28
A13: Northern Territory | B13: 2 | C13: 2 | D13: 1 | E13: 0 | F13: 2
A14: Queensland | B14: 18 | C14: 28 | D14: 34 | E14: 27 | F14: 24
A15: South Australia | B15: 10 | C15: 9 | D15: 6 | E15: 7 | F15: 18
A16: Tasmania | B16: 3 | C16: 3 | D16: 2 | E16: 1 | F16: 4
A17: Victoria | B17: 19 | C17: 26 | D17: 18 | E17: 18 | F17: 20
A18: Western Australia | B18: 16 | C18: 18 | D18: 18 | E18: 13 | F18: 16
A19: On a public road | B19: 55 | C19: 82 | D19: 66 | E19: 68 | F19: 83
... A30: Total | B30: 161 | C30: 207 | D30: 195 | E30: 182 | F30: 206

Sheet Table 9.1
A1: ='Cover page'!$A$49 -> Table 9.1. Fatalities involving vehicles (count) by Deceased's vehicle type, 10 years (calendar) to 2025
A2: Return to Cover page
A3: Top_10_Cal_Year_Indicator | B3: TRUE
A4: Vehicle indicator | B4: TRUE
A6: Fatalities (count)
B7: 2016 | C7: 2017 | D7: 2018 | E7: 2019 | F7: 2020 | G7: 2021 | H7: 2022 | I7: 2023 | J7: 2024 | K7: 2025
A8: Agriculture vehicle | B8: 10 | C8: 16 | D8: 14 | E8: 9 | F8: 14 | G8: 8 | H8: 17 | I8: 9 | J8: 9 | K8: 9
A9: Aircraft | B9: 7 | C9: 13 | D9: 5 | E9: 8 | F9: 16 | G9: 5 | H9: 18 | I9: 15 | J9: 6 | K9: 12
A10: Heavy vehicle | B10: 46 | C10: 46 | D10: 43 | E10: 66 | F10: 60 | G10: 60 | H10: 55 | I10: 63 | J10: 57 | K10: 60
A11: Lifting and moving vehicle | B11: 4 | C11: 5 | D11: 12 | E11: 19 | F11: 13 | G11: 16 | H11: 18 | I11: 6 | J11: 10 | K11: 10
A12: Light vehicle | B12: 24 | C12: 15 | D12: 7 | E12: 21 | F12: 14 | G12: 16 | H12: 24 | I12: 20 | J12: 16 | K12: 18
A13: Motorbike and scooter | B13: 1 | C13: 3 | D13: 2 | E13: 7 | F13: 7 | G13: 0 | H13: 1 | I13: 2 | J13: 3 | K13: 1
A14: Watercraft | B14: 5 | C14: 7 | D14: 2 | E14: 4 | F14: 4 | G14: 3 | H14: 1 | I14: 0 | J14: 0 | K14: 3
A15: Other vehicle | B15: 6 | C15: 12 | D15: 3 | E15: 6 | F15: 20 | G15: 10 | H15: 10 | I15: 10 | J15: 15 | K15: 9
A16: Unknown | B16: 1 | C16: 1 | D16: 0 | E16: 0 | F16: 0 | G16: 0 | H16: 0 | I16: 0 | J16: 3 | K16: 2
A17: Not applicable | B17: 0 | C17: 0 | D17: 0 | E17: 0 | F17: 0 | G17: 0 | H17: 0 | I17: 12 | J17: 10 | K17: 13
A18: Total | B18: 104 | C18: 118 | D18: 88 | E18: 140 | F18: 148 | G18: 118 | H18: 144 | I18: 137 | J18: 129 | K18: 137

Sheet Table 9.2
A1: ='Cover page'!$A$50 -> Table 9.2. Fatalities involving vehicles (count) by Deceased's vehicle type, 10 years (financial) to 2024-25
A2: Return to Cover page
A3: Top_10_Fin_Year_Indicator | B3: TRUE
A4: Vehicle indicator | B4: TRUE
A6: Fatalities (count)
B7: 2015-16 | C7: 2016-17 | D7: 2017-18 | E7: 2018-19 | F7: 2019-20 | G7: 2020-21 | H7: 2021-22 | I7: 2022-23 | J7: 2023-24 | K7: 2024-25
A8: Agriculture vehicle | B8: 12 | C8: 9 | D8: 16 | E8: 12 | F8: 11 | G8: 12 | H8: 11 | I8: 13 | J8: 9 | K8: 7
A9: Aircraft | B9: 5 | C9: 10 | D9: 9 | E9: 9 | F9: 14 | G9: 8 | H9: 12 | I9: 11 | J9: 13 | K9: 7
A10: Heavy vehicle | B10: 49 | C10: 48 | D10: 41 | E10: 60 | F10: 62 | G10: 47 | H10: 67 | I10: 60 | J10: 56 | K10: 64
A11: Lifting and moving vehicle | B11: 8 | C11: 4 | D11: 10 | E11: 15 | F11: 15 | G11: 13 | H11: 20 | I11: 13 | J11: 6 | K11: 8
A12: Light vehicle | B12: 22 | C12: 26 | D12: 8 | E12: 13 | F12: 20 | G12: 13 | H12: 24 | I12: 20 | J12: 15 | K12: 22
A13: Motorbike and scooter | B13: 2 | C13: 0 | D13: 5 | E13: 4 | F13: 3 | G13: 7 | H13: 0 | I13: 1 | J13: 4 | K13: 1
A14: Watercraft | B14: 6 | C14: 3 | D14: 6 | E14: 6 | F14: 2 | G14: 2 | H14: 4 | I14: 0 | J14: 0 | K14: 0
A15: Other vehicle | B15: 7 | C15: 9 | D15: 6 | E15: 5 | F15: 14 | G15: 13 | H15: 12 | I15: 10 | J15: 9 | K15: 16
A16: Unknown | B16: 5 | C16: 1 | D16: 1 | E16: 0 | F16: 0 | G16: 0 | H16: 0 | I16: 0 | J16: 1 | K16: 4
A17: Not applicable | B17: 0 | C17: 0 | D17: 0 | E17: 0 | F17: 0 | G17: 0 | H17: 0 | I17: 5 | J17: 11 | K17: 12
A18: Total | B18: 116 | C18: 110 | D18: 102 | E18: 124 | F18: 141 | G18: 115 | H18: 150 | I18: 133 | J18: 124 | K18: 141

Sheet Table 9.3
A1: ='Cover page'!$A$51 -> Table 9.3. Fatalities involving vehicles (count) by Deceased's activity type, 10 years (calendar) to 2025
A2: Return to Cover page
A3: Top_10_Cal_Year_Indicator | B3: TRUE
A4: Vehicle indicator | B4: TRUE
A6: Fatalities (count)
B7: 2016 | C7: 2017 | D7: 2018 | E7: 2019 | F7: 2020 | G7: 2021 | H7: 2022 | I7: 2023 | J7: 2024 | K7: 2025
A8: Checking property/livestock | B8: 0 | C8: 1 | D8: 0 | E8: 1 | F8: 4 | G8: 0 | H8: 0 | I8: 2 | J8: 5 | K8: 2
A9: Construction | B9: 0 | C9: 0 | D9: 0 | E9: 0 | F9: 0 | G9: 1 | H9: 0 | I9: 1 | J9: 1 | K9: 3
A10: Crop dusting/weed spraying | B10: 3 | C10: 1 | D10: 0 | E10: 1 | F10: 6 | G10: 2 | H10: 5 | I10: 1 | J10: 6 | K10: 3
A11: Driver/passenger when transporting freight/people | B11: 74 | C11: 70 | D11: 49 | E11: 89 | F11: 56 | G11: 51 | H11: 76 | I11: 60 | J11: 55 | K11: 68
A12: Entering/exiting vehicle | B12: 1 | C12: 3 | D12: 4 | E12: 1 | F12: 4 | G12: 3 | H12: 2 | I12: 4 | J12: 2 | K12: 1
A13: Fishing/trawling | B13: 5 | C13: 6 | D13: 0 | E13: 0 | F13: 2 | G13: 2 | H13: 0 | I13: 0 | J13: 0 | K13: 2
A14: Gardening/landscaping | B14: 0 | C14: 0 | D14: 0 | E14: 0 | F14: 0 | G14: 0 | H14: 1 | I14: 2 | J14: 1 | K14: 0
A15: Loading/unloading vehicle | B15: 3 | C15: 4 | D15: 5 | E15: 12 | F15: 11 | G15: 5 | H15: 6 | I15: 7 | J15: 9 | K15: 13
A16: Mowing/harvesting | B16: 0 | C16: 0 | D16: 0 | E16: 0 | F16: 0 | G16: 1 | H16: 2 | I16: 3 | J16: 1 | K16: 1
A17: Mustering/herding | B17: 0 | C17: 3 | D17: 0 | E17: 4 | F17: 2 | G17: 4 | H17: 6 | I17: 6 | J17: 10 | K17: 4
A18: Repair/maintenance of vehicle | B18: 0 | C18: 0 | D18: 0 | E18: 0 | F18: 0 | G18: 1 | H18: 0 | I18: 8 | J18: 5 | K18: 8
A19: Repair/maintenance other or unspecified | B19: 3 | C19: 9 | D19: 5 | E19: 12 | F19: 11 | G19: 9 | H19: 9 | I19: 1 | J19: 0 | K19: 0
... A32: Total | B32: 104 | C32: 118 | D32: 88 | E32: 140 | F32: 148 | G32: 118 | H32: 144 | I32: 137 | J32: 129 | K32: 137

Sheet Table 9.4
A1: ='Cover page'!$A$52 -> Table 9.4. Fatalities involving vehicles (count) by Deceased's activity type, 10 years (financial) to 2024-25
A2: Return to Cover page
A3: Top_10_Fin_Year_Indicator | B3: TRUE
A4: Vehicle indicator | B4: TRUE
A6: Fatalities (count)
B7: 2015-16 | C7: 2016-17 | D7: 2017-18 | E7: 2018-19 | F7: 2019-20 | G7: 2020-21 | H7: 2021-22 | I7: 2022-23 | J7: 2023-24 | K7: 2024-25
A8: Checking property/livestock | B8: 1 | C8: 1 | D8: 0 | E8: 1 | F8: 3 | G8: 1 | H8: 0 | I8: 0 | J8: 3 | K8: 5
A9: Construction | B9: 0 | C9: 0 | D9: 0 | E9: 0 | F9: 0 | G9: 0 | H9: 1 | I9: 1 | J9: 0 | K9: 2
A10: Crop dusting/weed spraying | B10: 1 | C10: 3 | D10: 0 | E10: 0 | F10: 3 | G10: 4 | H10: 5 | I10: 3 | J10: 1 | K10: 7
A11: Driver/passenger when transporting freight/people | B11: 70 | C11: 75 | D11: 61 | E11: 74 | F11: 66 | G11: 49 | H11: 76 | I11: 62 | J11: 52 | K11: 72
A12: Entering/exiting vehicle | B12: 0 | C12: 4 | D12: 1 | E12: 4 | F12: 2 | G12: 3 | H12: 3 | I12: 2 | J12: 4 | K12: 2
A13: Fishing/trawling | B13: 6 | C13: 2 | D13: 6 | E13: 0 | F13: 1 | G13: 1 | H13: 2 | I13: 0 | J13: 0 | K13: 0
A14: Gardening/landscaping | B14: 0 | C14: 0 | D14: 0 | E14: 0 | F14: 0 | G14: 0 | H14: 0 | I14: 3 | J14: 0 | K14: 1
A15: Loading/unloading vehicle | B15: 4 | C15: 4 | D15: 4 | E15: 6 | F15: 16 | G15: 6 | H15: 6 | I15: 6 | J15: 9 | K15: 7
A16: Mowing/harvesting | B16: 0 | C16: 0 | D16: 0 | E16: 0 | F16: 0 | G16: 1 | H16: 0 | I16: 3 | J16: 3 | K16: 1
A17: Mustering/herding | B17: 1 | C17: 2 | D17: 1 | E17: 3 | F17: 3 | G17: 1 | H17: 6 | I17: 8 | J17: 4 | K17: 9
A18: Repair/maintenance of vehicle | B18: 0 | C18: 0 | D18: 0 | E18: 0 | F18: 0 | G18: 0 | H18: 1 | I18: 5 | J18: 5 | K18: 7
A19: Repair/maintenance other or unspecified | B19: 3 | C19: 4 | D19: 6 | E19: 11 | F19: 12 | G19: 7 | H19: 9 | I19: 6 | J19: 1 | K19: 0
... A32: Total | B32: 116 | C32: 110 | D32: 102 | E32: 124 | F32: 141 | G32: 115 | H32: 150 | I32: 133 | J32: 124 | K32: 141
