Workbook

Sheet Cover page
A1: =_xlfn.CONCAT("Safe Work Australia – Traumatic Injury Fatalities detailed data file ",$A$5) -> Safe Work Australia – Traumatic Injury Fatalities detailed data file 2025
A5: 2025
A6: Published:
A7: 46304
A9: Reference information:
A10: Work-related fatalities catalogue page [Link 1]
A11: Australian and New Zealand Standard Industrial Classification (ANZSIC) [Link 2]
A12: Australian and New Zealand Standard Classification of Occupations (ANZSCO) [Link 3]
A13: Type of Occurrence Classification System (TOOCS) 3rd Edition [Link 4]
A15: Contents:
A16: TIF by Industry
A17: =_xlfn.CONCAT("Table 1.1. Fatalities (count) by Industry (ANZSIC Subdivision), 10 years (calendar) to ",$A$5) -> Table 1.1. Fatalities (count) by Industry (ANZSIC Subdivision), 10 years (calendar) to 2025 | B17: Link
A18: =_xlfn.CONCAT("Table 1.2. Fatalities (rate) by Industry (ANZSIC Subdivision), 10 years (calendar) to ",$A$5) -> Table 1.2. Fatalities (rate) by Industry (ANZSIC Subdivision), 10 years (calendar) to 2025 | B18: Link
A19: =_xlfn.CONCAT("Table 1.3. Fatalities (count) by Industry (ANZSIC Subdivision), 10 years (financial) to ",_xlfn.CONCAT($A$5-1,"-",RIGHT($A$5,2))) -> Table 1.3. Fatalities (count) by Industry (ANZSIC Subdivision), 10 years (financial) to 2024-25 | B19: Link
A20: =_xlfn.CONCAT("Table 1.4. Fatalities (rate) by Industry (ANZSIC Subdivision), 10 years (financial) to ",_xlfn.CONCAT($A$5-1,"-",RIGHT($A$5,2))) -> Table 1.4. Fatalities (rate) by Industry (ANZSIC Subdivision), 10 years (financial) to 2024-25 | B20: Link
A21: TIF by Occupation
A22: =_xlfn.CONCAT("Table 2.1. Fatalities (count) by Occupation (ANZSCO Sub major group), 10 years (calendar) to ",$A$5) -> Table 2.1. Fatalities (count) by Occupation (ANZSCO Sub major group), 10 years (calendar) to 2025 | B22: Link
A23: =_xlfn.CONCAT("Table 2.2. Fatalities (rate) by Occupation (ANZSCO Sub major group), 10 years (calendar) to ",$A$5) -> Table 2.2. Fatalities (rate) by Occupation (ANZSCO Sub major group), 10 years (calendar) to 2025 | B23: Link
A24: =_xlfn.CONCAT("Table 2.3. Fatalities (count) by Occupation (ANZSCO Sub major group), 10 years (financial) to ",_xlfn.CONCAT($A$5-1,"-",RIGHT($A$5,2))) -> Table 2.3. Fatalities (count) by Occupation (ANZSCO Sub major group), 10 years (financial) to 2024-25 | B24: Link
A25: =_xlfn.CONCAT("Table 2.4. Fatalities (rate) by Occupation (ANZSCO Sub major group), 10 years (financial) to ",_xlfn.CONCAT($A$5-1,"-",RIGHT($A$5,2))) -> Table 2.4. Fatalities (rate) by Occupation (ANZSCO Sub major group), 10 years (financial) to 2024-25 | B25: Link
A26: TIF by Mechanism
A27: =_xlfn.CONCAT("Table 3.1. Fatalities (count) by Mechanism (TOOCS Sub major group), 10 years (calendar) to ",$A$5) -> Table 3.1. Fatalities (count) by Mechanism (TOOCS Sub major group), 10 years (calendar) to 2025 | B27: Link
A28: =_xlfn.CONCAT("Table 3.2. Fatalities (count) by Mechanism (TOOCS Sub major group), 10 years (financial) to ",_xlfn.CONCAT($A$5-1,"-",RIGHT($A$5,2))) -> Table 3.2. Fatalities (count) by Mechanism (TOOCS Sub major group), 10 years (financial) to 2024-25 | B28: Link
A29: TIF by Breakdown Agency
A30: =_xlfn.CONCAT("Table 4.1. Fatalities (count) by Breakdown Agency (TOOCS Sub major group), 10 years (calendar) to ",$A$5) -> Table 4.1. Fatalities (count) by Breakdown Agency (TOOCS Sub major group), 10 years (calendar) to 2025 | B30: Link
A31: =_xlfn.CONCAT("Table 4.2. Fatalities (count) by Breakdown Agency (TOOCS Sub major group), 10 years (financial) to ",_xlfn.CONCAT($A$5-1,"-",RIGHT($A$5,2))) -> Table 4.2. Fatalities (count) by Breakdown Agency (TOOCS Sub major group), 10 years (financial) to 2024-25 | B31: Link
A32: TIF by Agency
A33: =_xlfn.CONCAT("Table 5.1. Fatalities (count) by Agency (TOOCS Sub major group), 10 years (calendar) to ",$A$5) -> Table 5.1. Fatalities (count) by Agency (TOOCS Sub major group), 10 years (calendar) to 2025 | B33: Link
A34: =_xlfn.CONCAT("Table 5.2. Fatalities (count) by Agency (TOOCS Sub major group), 10 years (financial) to ",_xlfn.CONCAT($A$5-1,"-",RIGHT($A$5,2))) -> Table 5.2. Fatalities (count) by Agency (TOOCS Sub major group), 10 years (financial) to 2024-25 | B34: Link
A35: TIF by Demographic Characteristics
A36: =_xlfn.CONCAT("Table 6.1. Fatalities (count) by Demographics (Age group and Sex), 10 years (calendar) to ",$A$5) -> Table 6.1. Fatalities (count) by Demographics (Age group and Sex), 10 years (calendar) to 2025 | B36: Link
A37: =_xlfn.CONCAT("Table 6.2. Fatalities (rate) by Demographics (Age group and Sex), 10 years (calendar) to ",$A$5) -> Table 6.2. Fatalities (rate) by Demographics (Age group and Sex), 10 years (calendar) to 2025 | B37: Link
A38: =_xlfn.CONCAT("Table 6.3. Fatalities (count) by Demographics (Age group and Sex), 10 years (financial) to ",_xlfn.CONCAT($A$5-1,"-",RIGHT($A$5,2))) -> Table 6.3. Fatalities (count) by Demographics (Age group and Sex), 10 years (financial) to 2024-25 | B38: Link
A39: =_xlfn.CONCAT("Table 6.4. Fatalities (rate) by Demographics (Age group and Sex), 10 years (financial) to ",_xlfn.CONCAT($A$5-1,"-",RIGHT($A$5,2))) -> Table 6.4. Fatalities (rate) by Demographics (Age group and Sex), 10 years (financial) to 2024-25 | B39: Link
A40: TIF by Location
A41: =_xlfn.CONCAT("Table 7.1. Fatalities (count) by Location (State/Territory), 10 years (calendar) to ",$A$5) -> Table 7.1. Fatalities (count) by Location (State/Territory), 10 years (calendar) to 2025 | B41: Link
A42: =_xlfn.CONCAT("Table 7.2. Fatalities (rate) by Location (State/Territory), 10 years (calendar) to ",$A$5) -> Table 7.2. Fatalities (rate) by Location (State/Territory), 10 years (calendar) to 2025 | B42: Link
A43: =_xlfn.CONCAT("Table 7.3. Fatalities (count) by Location (State/Territory), 10 years (financial) to ",_xlfn.CONCAT($A$5-1,"-",RIGHT($A$5,2))) -> Table 7.3. Fatalities (count) by Location (State/Territory), 10 years (financial) to 2024-25 | B43: Link
A44: =_xlfn.CONCAT("Table 7.4. Fatalities (rate) by Location (State/Territory), 10 years (financial) to ",_xlfn.CONCAT($A$5-1,"-",RIGHT($A$5,2))) -> Table 7.4. Fatalities (rate) by Location (State/Territory), 10 years (financial) to 2024-25 | B44: Link
A45: TIF by Jurisdiction
...

Sheet Table 1.1
A1: ='Cover page'!$A$17 -> Table 1.1. Fatalities (count) by Industry (ANZSIC Subdivision), 10 years (calendar) to 2025
A2: Return to Cover page
A3: Top_10_Cal_Year_Indicator | B3: TRUE
A4: NFD_2digit_Flag | B4: 0
A6: Fatalities (count)
B7: 2016 | C7: 2017 | D7: 2018 | E7: 2019 | F7: 2020 | G7: 2021 | H7: 2022 | I7: 2023 | J7: 2024 | K7: 2025
A8: A Agriculture, forestry and fishing | B8: 47 | C8: 54 | D8: 36 | E8: 32 | F8: 48 | G8: 34 | H8: 46 | I8: 28 | J8: 46 | K8: 38
A9: 01 Agriculture | B9: 33 | C9: 43 | D9: 30 | E9: 26 | F9: 43 | G9: 26 | H9: 40 | I9: 22 | J9: 41 | K9: 33
A10: 02 Aquaculture | B10: 0 | C10: 0 | D10: 0 | E10: 0 | F10: 0 | G10: 0 | H10: 0 | I10: 0 | J10: 0 | K10: 0
A11: 03 Forestry and logging | B11: 6 | C11: 1 | D11: 2 | E11: 3 | F11: 0 | G11: 2 | H11: 1 | I11: 1 | J11: 1 | K11: 1
A12: 04 Fishing, hunting and trapping | B12: 6 | C12: 6 | D12: 2 | E12: 2 | F12: 3 | G12: 3 | H12: 0 | I12: 0 | J12: 0 | K12: 4
A13: 05 Agriculture, forestry and fishing support services | B13: 2 | C13: 4 | D13: 2 | E13: 1 | F13: 2 | G13: 3 | H13: 5 | I13: 5 | J13: 4 | K13: 0
A14: B Mining | B14: 6 | C14: 4 | D14: 7 | E14: 7 | F14: 7 | G14: 6 | H14: 7 | I14: 6 | J14: 10 | K14: 7
A15: 06 Coal mining | B15: 0 | C15: 1 | D15: 1 | E15: 4 | F15: 1 | G15: 2 | H15: 1 | I15: 0 | J15: 5 | K15: 0
A16: 07 Oil and gas extraction | B16: 0 | C16: 1 | D16: 0 | E16: 0 | F16: 0 | G16: 0 | H16: 0 | I16: 1 | J16: 0 | K16: 0
A17: 08 Metal ore mining | B17: 3 | C17: 1 | D17: 2 | E17: 2 | F17: 3 | G17: 3 | H17: 1 | I17: 4 | J17: 1 | K17: 4
A18: 09 Non-metallic mineral mining and quarrying | B18: 3 | C18: 0 | D18: 2 | E18: 1 | F18: 2 | G18: 1 | H18: 2 | I18: 1 | J18: 0 | K18: 2
A19: 10 Exploration and other mining support services | B19: 0 | C19: 1 | D19: 2 | E19: 0 | F19: 1 | G19: 0 | H19: 3 | I19: 0 | J19: 4 | K19: 1
... A113: Total | B113: 190 | C113: 192 | D113: 144 | E113: 193 | F113: 199 | G113: 174 | H113: 197 | I113: 201 | J113: 192 | K113: 222

Sheet Table 1.2
A1: ='Cover page'!$A$18 -> Table 1.2. Fatalities (rate) by Industry (ANZSIC Subdivision), 10 years (calendar) to 2025
A2: Return to Cover page
A3: Top_10_Cal_Year_Indicator | B3: TRUE
A4: NFD_2digit_Flag | B4: 0
A6: Fatalities (rate)
B7: 2016 | C7: 2017 | D7: 2018 | E7: 2019 | F7: 2020 | G7: 2021 | H7: 2022 | I7: 2023 | J7: 2024 | K7: 2025
A8: A Agriculture, forestry and fishing | B8: 15.028698 | C8: 16.684453 | D8: 10.802145 | E8: 9.7774263 | F8: 13.903028 | G8: 10.361116 | H8: 15.335581 | I8: 9.2758288 | J8: 14.319043 | K8: 12.962706
A9: 01 Agriculture | B9: 12.343029 | C9: 15.96202 | D9: 10.426059 | E9: 9.2324764 | F9: 14.171743 | G9: 9.2246943 | H9: 15.675916 | I9: 8.5452307 | J9: 14.953199 | K9: 13.341932
A10: 02 Aquaculture | B10: NP | C10: NP | D10: NP | E10: NP | F10: NP | G10: NP | H10: NP | I10: NP | J10: NP | K10: NP
A11: 03 Forestry and logging | B11: 76.569267 | C11: 12.680464 | D11: 26.513431 | E11: 44.253924 | F11: NP | G11: 29.975633 | H11: 16.375163 | I11: 23.129205 | J11: 18.480841 | K11: 14.374705
A12: 04 Fishing, hunting and trapping | B12: 92.230981 | C12: 84.635531 | D12: 36.820379 | E12: 31.440464 | F12: 44.30812 | G12: 62.586364 | H12: NP | I12: NP | J12: NP | K12: 81.551663
A13: 05 Agriculture, forestry and fishing support services | B13: 8.7817569 | C13: 12.707953 | D13: 8.0503548 | E13: 3.6911403 | F13: 8.4003879 | G13: 10.466644 | H13: 17.91879 | I13: 16.689758 | J13: 12.675507 | K13: NP
A14: B Mining | B14: 3.0123893 | C14: 1.8090654 | D14: 2.7923683 | E14: 2.6924599 | F14: 2.6662472 | G14: 2.1278486 | H14: 2.332086 | I14: 1.933349 | J14: 3.3785737 | K14: 2.3518745
A15: 06 Coal mining | B15: NP | C15: 2.0933637 | D15: 1.8059445 | E15: 7.2600296 | F15: 1.8461961 | G15: 4.1815492 | H15: 2.2041733 | I15: NP | J15: 10.830105 | K15: NP
A16: 07 Oil and gas extraction | B16: NP | C16: 4.4800263 | D16: NP | E16: NP | F16: NP | G16: NP | H16: NP | I16: 4.7041501 | J16: NP | K16: NP
A17: 08 Metal ore mining | B17: 4.5027663 | C17: 1.2057104 | D17: 2.1056311 | E17: 1.6876342 | F17: 2.5341817 | G17: 2.3197189 | H17: 0.72397237 | I17: 2.8044458 | J17: 0.7866268 | K17: 3.0232565
A18: 09 Non-metallic mineral mining and quarrying | B18: 29.715974 | C18: NP | D18: 13.353626 | E18: 6.6415768 | F18: 17.385493 | G18: 6.805 | H18: 15.187785 | I18: 5.2841185 | J18: NP | K18: 11.233824
A19: 10 Exploration and other mining support services | B19: NP | C19: 1.7683717 | D19: 3.5505634 | E19: NP | F19: 1.9130128 | G19: NP | H19: 3.7122101 | I19: NP | J19: 4.7375257 | K19: 1.3441321
A20: C Manufacturing | B20: 0.81243002 | C20: 0.69646941 | D20: 1.4134669 | E20: 1.5936021 | F20: 2.0926578 | G20: 1.7842959 | H20: 1.1843684 | I20: 1.3329284 | J20: 0.78808176 | K20: 1.7534087
A21: 11 Food product manufacturing | B21: NP | C21: 1.0433908 | D21: NP | E21: 0.98849034 | F21: 1.5220098 | G21: 1.8949204 | H21: 1.5500539 | I21: 1.0279428 | J21: 0.5027818 | K21: 1.0215528
A22: 12 Beverage and tobacco product manufacturing | B22: NP | C22: NP | D22: 3.0259183 | E22: NP | F22: NP | G22: 2.6897646 | H22: NP | I22: NP | J22: NP | K22: NP
A23: 13 Textile, leather, clothing and footwear manufacturing | B23: NP | C23: NP | D23: NP | E23: NP | F23: NP | G23: NP | H23: NP | I23: NP | J23: NP | K23: NP
A24: 14 Wood product manufacturing | B24: 2.437221 | C24: NP | D24: 4.189626 | E24: 4.428034 | F24: 9.4297352 | G24: 2.7068117 | H24: 2.6001139 | I24: 2.5460462 | J24: 2.8265652 | K24: 3.1823355
A25: 15 Pulp, paper and converted paper product manufacturing | B25: NP | C25: NP | D25: 12.392034 | E25: NP | F25: NP | G25: NP | H25: NP | I25: NP | J25: NP | K25: NP
A26: 16 Printing (including the reproduction of recorded media) | B26: NP | C26: NP | D26: NP | E26: NP | F26: NP | G26: NP | H26: NP | I26: 3.3462533 | J26: NP | K26: NP
A27: 17 Petroleum and coal product manufacturing | B27: NP | C27: NP | D27: NP | E27: NP | F27: NP | G27: NP | H27: NP | I27: NP | J27: NP | K27: NP
A28: 18 Basic chemical and chemical product manufacturing | B28: NP | C28: NP | D28: 3.5606117 | E28: NP | F28: 1.7420006 | G28: 1.8451585 | H28: NP | I28: 3.8925971 | J28: NP | K28: NP
A29: 19 Polymer product and rubber product manufacturing | B29: NP | C29: 3.501189 | D29: NP | E29: 2.7877657 | F29: NP | G29: 3.1969538 | H29: NP | I29: 6.489024 | J29: NP | K29: NP
A30: 20 Non-metallic mineral product manufacturing | B30: 5.7729007 | C30: 6.0690105 | D30: 2.5297722 | E30: 8.0000517 | F30: NP | G30: 2.7293149 | H30: 3.4023029 | I30: NP | J30: 9.4400606 | K30: 5.5932728
A31: 21 Primary metal and metal product manufacturing | B31: NP | C31: 1.7154501 | D31: NP | E31: NP | F31: 1.3660011 | G31: NP | H31: 1.7694145 | I31: 1.4062233 | J31: NP | K31: 1.7630075
A32: 22 Fabricated metal product manufacturing | B32: 4.8930221 | C32: NP | D32: 1.3883859 | E32: 2.8392268 | F32: 4.7680191 | G32: 4.0751326 | H32: 2.546733 | I32: 2.9465866 | J32: 1.282117 | K32: 6.6473241
A33: 23 Transport equipment manufacturing | B33: NP | C33: NP | D33: 3.2469073 | E33: 2.9506826 | F33: 4.7531993 | G33: 2.9703044 | H33: 1.3312767 | I33: NP | J33: 1.3872452 | K33: 3.1134712
A34: 24 Machinery and equipment manufacturing | B34: 0.8385334 | C34: NP | D34: 1.5700886 | E34: 1.7830629 | F34: 0.91624343 | G34: 1.5936383 | H34: NP | I34: 0.81860867 | J34: NP | K34: 0.8175523
A35: 25 Furniture and other manufacturing | B35: NP | C35: NP | D35: NP | E35: NP | F35: 2.917374 | G35: NP | H35: 1.5326154 | I35: NP | J35: NP | K35: 1.2856879
A36: D Electricity, gas, water and waste services | B36: 5.1440101 | C36: 1.4364759 | D36: 1.9503969 | E36: 3.7934497 | F36: 1.9613962 | G36: 2.0543457 | H36: 3.5987467 | I36: 2.4685485 | J36: 3.0371865 | K36: 3.3403365
A37: 26 Electricity supply | B37: NP | C37: NP | D37: 1.4407886 | E37: 1.4824823 | F37: NP | G37: 1.4817323 | H37: 1.3462633 | I37: 1.3911099 | J37: 1.0303707 | K37: 0.91763344
A38: 27 Gas supply | B38: NP | C38: NP | D38: NP | E38: NP | F38: NP | G38: NP | H38: NP | I38: NP | J38: NP | K38: NP
A39: 28 Water supply, sewerage and drainage services | B39: NP | C39: NP | D39: NP | E39: NP | F39: NP | G39: NP | H39: NP | I39: NP | J39: NP | K39: NP
A40: 29 Waste collection, treatment and disposal services | B40: 21.31196 | C40: 5.766517 | D40: 5.3850561 | E40: 11.516842 | F40: 8.3448301 | G40: 5.5671456 | H40: 10.925085 | I40: 6.4209955 | J40: 10.392759 | K40: 12.619454
A41: E Construction | B41: 3.471473 | C41: 2.6774661 | D41: 2.0571961 | E41: 2.4008489 | F41: 3.0924508 | G41: 2.2809363 | H41: 2.3731461 | I41: 3.5045087 | J41: 2.6282754 | K41: 3.0585664
...

Sheet Table 1.3
A1: ='Cover page'!$A$19 -> Table 1.3. Fatalities (count) by Industry (ANZSIC Subdivision), 10 years (financial) to 2024-25
A2: Return to Cover page
A3: Top_10_Fin_Year_Indicator | B3: TRUE
A4: NFD_2digit_Flag | B4: 0
A6: Fatalities (count)
B7: 2015-16 | C7: 2016-17 | D7: 2017-18 | E7: 2018-19 | F7: 2019-20 | G7: 2020-21 | H7: 2021-22 | I7: 2022-23 | J7: 2023-24 | K7: 2024-25
A8: A Agriculture, forestry and fishing | B8: 61 | C8: 41 | D8: 47 | E8: 41 | F8: 38 | G8: 37 | H8: 48 | I8: 34 | J8: 31 | K8: 38
A9: 01 Agriculture | B9: 48 | C9: 31 | D9: 36 | E9: 32 | F9: 35 | G9: 32 | H9: 37 | I9: 31 | J9: 25 | K9: 34
A10: 02 Aquaculture | B10: 0 | C10: 0 | D10: 0 | E10: 0 | F10: 0 | G10: 0 | H10: 0 | I10: 0 | J10: 0 | K10: 0
A11: 03 Forestry and logging | B11: 4 | C11: 4 | D11: 2 | E11: 4 | F11: 0 | G11: 1 | H11: 2 | I11: 0 | J11: 2 | K11: 0
A12: 04 Fishing, hunting and trapping | B12: 8 | C12: 2 | D12: 6 | E12: 4 | F12: 1 | G12: 2 | H12: 3 | I12: 0 | J12: 0 | K12: 1
A13: 05 Agriculture, forestry and fishing support services | B13: 1 | C13: 4 | D13: 3 | E13: 1 | F13: 2 | G13: 2 | H13: 6 | I13: 3 | J13: 4 | K13: 3
A14: B Mining | B14: 7 | C14: 5 | D14: 6 | E14: 7 | F14: 7 | G14: 5 | H14: 8 | I14: 10 | J14: 3 | K14: 10
A15: 06 Coal mining | B15: 0 | C15: 0 | D15: 2 | E15: 2 | F15: 3 | G15: 0 | H15: 3 | I15: 0 | J15: 1 | K15: 4
A16: 07 Oil and gas extraction | B16: 0 | C16: 0 | D16: 1 | E16: 0 | F16: 0 | G16: 0 | H16: 0 | I16: 1 | J16: 0 | K16: 0
A17: 08 Metal ore mining | B17: 5 | C17: 3 | D17: 1 | E17: 1 | F17: 3 | G17: 2 | H17: 3 | I17: 5 | J17: 1 | K17: 1
A18: 09 Non-metallic mineral mining and quarrying | B18: 2 | C18: 2 | D18: 0 | E18: 3 | F18: 1 | G18: 2 | H18: 1 | I18: 2 | J18: 0 | K18: 2
A19: 10 Exploration and other mining support services | B19: 0 | C19: 0 | D19: 2 | E19: 1 | F19: 0 | G19: 1 | H19: 1 | I19: 2 | J19: 1 | K19: 3
... A113: Total | B113: 214 | C113: 192 | D113: 163 | E113: 180 | F113: 198 | G113: 161 | H113: 207 | I113: 195 | J113: 182 | K113: 206

Sheet Table 1.4
A1: ='Cover page'!$A$20 -> Table 1.4. Fatalities (rate) by Industry (ANZSIC Subdivision), 10 years (financial) to 2024-25
A2: Return to Cover page
A3: Top_10_Fin_Year_Indicator | B3: TRUE
A4: NFD_2digit_Flag | B4: 0
A6: Fatalities (rate)
B7: 2015-16 | C7: 2016-17 | D7: 2017-18 | E7: 2018-19 | F7: 2019-20 | G7: 2020-21 | H7: 2021-22 | I7: 2022-23 | J7: 2023-24 | K7: 2024-25
A8: A Agriculture, forestry and fishing | B8: 19.114505 | C8: 13.389029 | D8: 14.068789 | E8: 12.259118 | F8: 11.562579 | G8: 10.902692 | H8: 15.295396 | I8: 11.291973 | J8: 9.8314718 | K8: 12.372674
A9: 01 Agriculture | B9: 17.040005 | C9: 12.1917 | D9: 12.705445 | E9: 11.093813 | F9: 12.282044 | G9: 10.755298 | H9: 13.865295 | I9: 12.151951 | J9: 9.2876893 | K9: 13.016706
A10: 02 Aquaculture | B10: NP | C10: NP | D10: NP | E10: NP | F10: NP | G10: NP | H10: NP | I10: NP | J10: NP | K10: NP
A11: 03 Forestry and logging | B11: 62.954261 | C11: 50.674914 | D11: 25.964772 | E11: 62.280447 | F11: NP | G11: 16.548204 | H11: 30.484757 | I11: NP | J11: 35.29519 | K11: NP
A12: 04 Fishing, hunting and trapping | B12: 142.82274 | C12: 26.169777 | D12: 111.07723 | E12: 62.041699 | F12: 17.313098 | G12: 33.661874 | H12: 53.705394 | I12: NP | J12: NP | K12: 26.000669
A13: 05 Agriculture, forestry and fishing support services | B13: 4.9684428 | C13: 14.175209 | D13: 10.553985 | E13: 3.6199513 | F13: 8.1013431 | G13: 8.2038558 | H13: 21.413297 | I13: 9.3139197 | J13: 13.604397 | K13: 9.7479025
A14: B Mining | B14: 3.4978771 | C14: 2.3699122 | D14: 2.601785 | E14: 2.6866002 | F14: 2.7155332 | G14: 1.830502 | H14: 2.6732168 | I14: 3.3506403 | J14: 0.98732399 | K14: 3.2514962
A15: 06 Coal mining | B15: NP | C15: NP | D15: 3.7670709 | E15: 3.5543624 | F15: 5.773128 | G15: NP | H15: 6.6373695 | I15: NP | J15: 1.9784594 | K15: 8.918256
A16: 07 Oil and gas extraction | B16: NP | C16: NP | D16: 3.5459637 | E16: NP | F16: NP | G16: NP | H16: NP | I16: 4.5234031 | J16: NP | K16: NP
A17: 08 Metal ore mining | B17: 7.871341 | C17: 3.9041851 | D17: 1.2282057 | E17: 0.89143166 | F17: 2.5019167 | G17: 1.6140365 | H17: 2.1716056 | I17: 3.6864906 | J17: 0.73003945 | K17: 0.73780208
A18: 09 Non-metallic mineral mining and quarrying | B18: 16.79664 | C18: 20.888846 | D18: NP | E18: 18.777539 | F18: 8.0001077 | G18: 15.854954 | H18: 6.5931811 | I18: 13.779256 | J18: NP | K18: 12.397243
A19: 10 Exploration and other mining support services | B19: NP | C19: NP | D19: 3.6787341 | E19: 2.0023493 | F19: NP | G19: 1.6817642 | H19: 1.2832278 | I19: 2.4657501 | J19: 1.2941356 | K19: 3.3767764
A20: C Manufacturing | B20: 1.4258739 | C20: 0.92083432 | D20: 1.3539953 | E20: 1.3384284 | F20: 1.9284511 | G20: 1.6144471 | H20: 1.9606885 | I20: 1.2680022 | J20: 0.76987591 | K20: 1.3804458
A21: 11 Food product manufacturing | B21: 0.51488147 | C21: 0.50359878 | D21: 0.49091905 | E21: NP | F21: 1.9420973 | G21: 1.4978479 | H21: 1.9789455 | I21: 1.0520764 | J21: 1.0199811 | K21: 0.49515442
A22: 12 Beverage and tobacco product manufacturing | B22: 2.9057606 | C22: NP | D22: 3.1815885 | E22: NP | F22: NP | G22: NP | H22: 2.7316683 | I22: NP | J22: NP | K22: NP
A23: 13 Textile, leather, clothing and footwear manufacturing | B23: 2.6458541 | C23: NP | D23: NP | E23: NP | F23: NP | G23: NP | H23: NP | I23: NP | J23: NP | K23: NP
A24: 14 Wood product manufacturing | B24: NP | C24: 2.5414207 | D24: 1.9902012 | E24: 2.1921886 | F24: 11.377332 | G24: 2.5271213 | H24: 5.1675461 | I24: 2.8199774 | J24: NP | K24: 2.9138593
A25: 15 Pulp, paper and converted paper product manufacturing | B25: NP | C25: NP | D25: 13.612498 | E25: NP | F25: NP | G25: NP | H25: NP | I25: NP | J25: NP | K25: NP
A26: 16 Printing (including the reproduction of recorded media) | B26: NP | C26: NP | D26: NP | E26: NP | F26: NP | G26: NP | H26: NP | I26: NP | J26: 3.6444605 | K26: NP
A27: 17 Petroleum and coal product manufacturing | B27: NP | C27: NP | D27: NP | E27: NP | F27: NP | G27: NP | H27: NP | I27: NP | J27: NP | K27: NP
A28: 18 Basic chemical and chemical product manufacturing | B28: 2.0771909 | C28: NP | D28: 3.8640268 | E28: NP | F28: 1.9060983 | G28: 1.703218 | H28: NP | I28: 2.0050903 | J28: 1.8850781 | K28: NP
A29: 19 Polymer product and rubber product manufacturing | B29: NP | C29: NP | D29: 3.1582386 | E29: 2.7842013 | F29: NP | G29: NP | H29: 3.4865217 | I29: 3.356262 | J29: 4.0393504 | K29: NP
A30: 20 Non-metallic mineral product manufacturing | B30: 5.74478 | C30: 6.0420076 | D30: 5.7589465 | E30: 7.3759191 | F30: 2.7856212 | G30: NP | H30: 5.9428521 | I30: NP | J30: 3.0295456 | K30: 9.4742081
A31: 21 Primary metal and metal product manufacturing | B31: 1.5188125 | C31: 1.5143126 | D31: NP | E31: NP | F31: 1.3393665 | G31: NP | H31: 1.5644525 | I31: 1.607034 | J31: NP | K31: NP
A32: 22 Fabricated metal product manufacturing | B32: 5.4257364 | C32: 3.0961577 | D32: 1.3840449 | E32: NP | F32: 4.4596601 | G32: 7.284484 | H32: 1.2960957 | I32: 4.0994991 | J32: 1.3986409 | K32: 3.9141629
A33: 23 Transport equipment manufacturing | B33: 1.3319936 | C33: NP | D33: NP | E33: 6.6020899 | F33: 1.4712074 | G33: 3.3600601 | H33: 3.9911258 | I33: NP | J33: NP | K33: 4.3052714
A34: 24 Machinery and equipment manufacturing | B34: 0.88792272 | C34: 0.89528241 | D34: 0.83409487 | E34: 2.5017621 | F34: NP | G34: 0.86188971 | H34: 1.7283498 | I34: 0.84196078 | J34: NP | K34: 0.82341425
A35: 25 Furniture and other manufacturing | B35: NP | C35: NP | D35: NP | E35: NP | F35: 1.5590683 | G35: 1.4637888 | H35: NP | I35: 1.2640191 | J35: NP | K35: NP
A36: D Electricity, gas, water and waste services | B36: 3.5527264 | C36: 3.707768 | D36: 1.3490501 | E36: 3.888716 | F36: 1.9257831 | G36: 1.3146349 | H36: 4.4876738 | I36: 2.4592261 | J36: 0.56368669 | K36: 5.0153332
A37: 26 Electricity supply | B37: NP | C37: NP | D37: NP | E37: 2.8756429 | F37: NP | G37: NP | H37: 2.8411083 | I37: 1.3662663 | J37: NP | K37: 2.0554683
A38: 27 Gas supply | B38: NP | C38: NP | D38: NP | E38: NP | F38: NP | G38: NP | H38: NP | I38: NP | J38: NP | K38: NP
A39: 28 Water supply, sewerage and drainage services | B39: NP | C39: NP | D39: NP | E39: NP | F39: NP | G39: NP | H39: NP | I39: NP | J39: NP | K39: NP
A40: 29 Waste collection, treatment and disposal services | B40: 14.968789 | C40: 14.472517 | D40: 5.6164903 | E40: 10.27122 | F40: 7.3939627 | G40: 5.3313381 | H40: 12.128839 | I40: 6.6009448 | J40: 2.1495961 | K40: 16.510104
A41: E Construction | B41: 3.8730587 | C41: 3.5802902 | D41: 2.0733693 | E41: 2.2421162 | F41: 2.8139276 | G41: 2.6887263 | H41: 2.0862766 | I41: 2.8638887 | J41: 3.2498433 | K41: 2.3916739
...

Sheet Table 2.1
A1: ='Cover page'!$A$22 -> Table 2.1. Fatalities (count) by Occupation (ANZSCO Sub major group), 10 years (calendar) to 2025
A2: Return to Cover page
A3: Top_10_Cal_Year_Indicator | B3: TRUE
A4: NFD_2digit_Flag | B4: 0
A6: Fatalities (count)
B7: 2016 | C7: 2017 | D7: 2018 | E7: 2019 | F7: 2020 | G7: 2021 | H7: 2022 | I7: 2023 | J7: 2024 | K7: 2025
A8: 1 Managers | B8: 28 | C8: 28 | D8: 16 | E8: 25 | F8: 36 | G8: 25 | H8: 34 | I8: 16 | J8: 30 | K8: 30
A9: 11 Chief executives, general managers and legislators | B9: 0 | C9: 1 | D9: 0 | E9: 1 | F9: 4 | G9: 1 | H9: 5 | I9: 1 | J9: 1 | K9: 1
A10: 12 Farmers and farm managers | B10: 24 | C10: 23 | D10: 16 | E10: 23 | F10: 31 | G10: 20 | H10: 25 | I10: 11 | J10: 24 | K10: 18
A11: 13 Specialist managers | B11: 2 | C11: 3 | D11: 0 | E11: 1 | F11: 1 | G11: 2 | H11: 3 | I11: 4 | J11: 4 | K11: 6
A12: 14 Hospitality, retail and service managers | B12: 2 | C12: 1 | D12: 0 | E12: 0 | F12: 0 | G12: 2 | H12: 1 | I12: 0 | J12: 1 | K12: 5
A13: 2 Professionals | B13: 16 | C13: 18 | D13: 8 | E13: 10 | F13: 11 | G13: 6 | H13: 14 | I13: 12 | J13: 12 | K13: 19
A14: 21 Arts and media professionals | B14: 0 | C14: 1 | D14: 0 | E14: 1 | F14: 0 | G14: 0 | H14: 0 | I14: 1 | J14: 0 | K14: 2
A15: 22 Business, human resource and marketing professionals | B15: 2 | C15: 2 | D15: 0 | E15: 1 | F15: 0 | G15: 0 | H15: 2 | I15: 0 | J15: 0 | K15: 0
A16: 23 Design, engineering, science and transport professionals | B16: 10 | C16: 14 | D16: 7 | E16: 8 | F16: 11 | G16: 6 | H16: 10 | I16: 11 | J16: 10 | K16: 13
A17: 24 Education professionals | B17: 0 | C17: 0 | D17: 0 | E17: 0 | F17: 0 | G17: 0 | H17: 0 | I17: 0 | J17: 2 | K17: 0
A18: 25 Health professionals | B18: 1 | C18: 1 | D18: 0 | E18: 0 | F18: 0 | G18: 0 | H18: 1 | I18: 0 | J18: 0 | K18: 1
A19: 26 ICT professionals | B19: 0 | C19: 0 | D19: 0 | E19: 0 | F19: 0 | G19: 0 | H19: 0 | I19: 0 | J19: 0 | K19: 0
... A59: Total | B59: 190 | C59: 192 | D59: 144 | E59: 193 | F59: 199 | G59: 174 | H59: 197 | I59: 201 | J59: 192 | K59: 222

Sheet Table 2.2
A1: ='Cover page'!$A$23 -> Table 2.2. Fatalities (rate) by Occupation (ANZSCO Sub major group), 10 years (calendar) to 2025
A2: Return to Cover page
A3: Top_10_Cal_Year_Indicator | B3: TRUE
A4: NFD_2digit_Flag | B4: 0
A6: Fatalities (rate)
B7: 2016 | C7: 2017 | D7: 2018 | E7: 2019 | F7: 2020 | G7: 2021 | H7: 2022 | I7: 2023 | J7: 2024 | K7: 2025
A8: 1 Managers | B8: 1.881908 | C8: 1.8411962 | D8: 1.0231876 | E8: 1.6379492 | F8: 2.2368165 | G8: 1.4537288 | H8: 1.8887525 | I8: 0.8737843 | J8: 1.6258786 | K8: 1.6173325
A9: 11 Chief executives, general managers and legislators | B9: NP | C9: 1.0319195 | D9: NP | E9: 1.1724578 | F9: 4.5788867 | G9: 0.85899822 | H9: 3.3835112 | I9: 0.75731615 | J9: 0.77347073 | K9: 0.74302909
A10: 12 Farmers and farm managers | B10: 15.498991 | C10: 14.555939 | D10: 9.6087529 | E10: 13.023357 | F10: 16.662919 | G10: 11.154525 | H10: 15.920369 | I10: 6.8644249 | J10: 14.120035 | K10: 11.970509
A11: 13 Specialist managers | B11: 0.27695727 | C11: 0.40118814 | D11: NP | E11: 0.13084948 | F11: 0.11564346 | G11: 0.22015886 | H11: 0.31312183 | I11: 0.40249524 | J11: 0.40329726 | K11: 0.59201117
A12: 14 Hospitality, retail and service managers | B12: 0.40458836 | C12: 0.19303016 | D12: NP | E12: NP | F12: NP | G12: 0.38792281 | H12: 0.18614021 | I12: NP | J12: 0.18048154 | K12: 0.89854041
A13: 2 Professionals | B13: 0.5810853 | C13: 0.62129758 | D13: 0.26787752 | E13: 0.31895681 | F13: 0.34501333 | G13: 0.18005147 | H13: 0.39756755 | I13: 0.3270318 | J13: 0.31697005 | K13: 0.47964063
A14: 21 Arts and media professionals | B14: NP | C14: 0.95303285 | D14: NP | E14: 0.90852346 | F14: NP | G14: NP | H14: NP | I14: 0.97143511 | J14: NP | K14: 1.8921516
A15: 22 Business, human resource and marketing professionals | B15: 0.29464931 | C15: 0.28361529 | D15: NP | E15: 0.13157959 | F15: NP | G15: NP | H15: 0.2300685 | I15: NP | J15: NP | K15: NP
A16: 23 Design, engineering, science and transport professionals | B16: 2.5468014 | C16: 3.3293428 | D16: 1.6232102 | E16: 1.7684881 | F16: 2.3680245 | G16: 1.2700513 | H16: 1.9864863 | I16: 2.099788 | J16: 1.8841182 | K16: 2.2999454
A17: 24 Education professionals | B17: NP | C17: NP | D17: NP | E17: NP | F17: NP | G17: NP | H17: NP | I17: NP | J17: 0.29257798 | K17: NP
A18: 25 Health professionals | B18: 0.17530178 | C18: 0.16428277 | D18: NP | E18: NP | F18: NP | G18: NP | H18: 0.1379036 | I18: NP | J18: NP | K18: 0.11566676
A19: 26 ICT professionals | B19: NP | C19: NP | D19: NP | E19: NP | F19: NP | G19: NP | H19: NP | I19: NP | J19: NP | K19: NP
A20: 27 Legal, social and welfare professionals | B20: 1.3457152 | C20: NP | D20: 0.40468027 | E20: NP | F20: NP | G20: NP | H20: 0.33147518 | I20: NP | J20: NP | K20: 0.88373552
A21: 3 Technicians and trades workers | B21: 1.6754482 | C21: 0.98844769 | D21: 1.5090744 | E21: 1.6059727 | F21: 1.4958464 | G21: 1.4123561 | H21: 1.5145674 | I21: 1.4791263 | J21: 1.4417638 | K21: 1.7732342
A22: 31 Engineering, ICT and science technicians | B22: 0.41053019 | C22: 0.42365707 | D22: NP | E22: 0.36976423 | F22: 0.35544148 | G22: 0.70639725 | H22: 1.0477817 | I22: NP | J22: NP | K22: 0.31119553
A23: 32 Automotive and engineering trades workers | B23: 0.89417003 | C23: 0.83447675 | D23: 1.3516696 | E23: 2.1871034 | F23: 0.86079428 | G23: 1.9031647 | H23: 3.0568928 | I23: 2.0960332 | J23: 1.6016728 | K23: 1.3196502
A24: 33 Construction trades workers | B24: 3.2261277 | C24: 1.8337327 | D24: 0.75469232 | E24: 1.503504 | F24: 1.9302132 | G24: 1.3833372 | H24: 1.6994849 | I24: 1.5043143 | J24: 2.1422756 | K24: 1.9243738
A25: 34 Electrotechnology and telecommunications trades workers | B25: 2.9143676 | C25: 0.83984343 | D25: 4.5228336 | E25: 3.6606051 | F25: 2.0125302 | G25: 1.6457945 | H25: 2.3625732 | I25: 3.3528699 | J25: 1.7873109 | K25: 3.765781
A26: 35 Food trades workers | B26: NP | C26: NP | D26: NP | E26: NP | F26: NP | G26: NP | H26: NP | I26: 1.0165412 | J26: NP | K26: 0.47951156
A27: 36 Skilled animal and horticultural workers | B27: 4.1105306 | C27: 1.5060942 | D27: 2.2851096 | E27: 2.2244162 | F27: 4.3790782 | G27: 2.1166123 | H27: NP | I27: 0.67384564 | J27: 3.3223043 | K27: 3.1800117
A28: 39 Other technicians and trades workers | B28: NP | C28: 1.0590312 | D28: 2.651997 | E28: 1.0022201 | F28: 2.1413908 | G28: 2.0492237 | H28: 0.5100272 | I28: 1.0496562 | J28: 1.5282147 | K28: 2.0003649
A29: 4 Community and personal service workers | B29: 0.37759496 | C29: 1.0217609 | D29: 0.36122154 | E29: 1.2962841 | F29: 0.81971439 | G29: 0.8190398 | H29: 0.57864332 | I29: 0.97573124 | J29: 0.40572308 | K29: 0.3874028
A30: 41 Health and welfare support workers | B30: NP | C30: NP | D30: 0.77381343 | E30: NP | F30: 0.72359729 | G30: 0.66022418 | H30: 0.66061312 | I30: 0.59770404 | J30: 0.54846686 | K30: NP
A31: 42 Carers and aides | B31: NP | C31: 0.56096683 | D31: 0.36266789 | E31: 0.34502801 | F31: NP | G31: 0.16338651 | H31: NP | I31: NP | J31: NP | K31: NP
A32: 43 Hospitality workers | B32: 0.35724535 | C32: NP | D32: NP | E32: NP | F32: NP | G32: NP | H32: 0.3298067 | I32: NP | J32: NP | K32: NP
A33: 44 Protective service workers | B33: 1.4934716 | C33: 1.8395157 | D33: NP | E33: 5.0638914 | F33: 4.451364 | G33: 2.1899813 | H33: 2.5519356 | I33: 4.4722448 | J33: 1.769679 | K33: 2.4650564
A34: 45 Sports and personal service workers | B34: 0.50188239 | C34: 3.4180148 | D34: 0.98660258 | E34: 2.5991622 | F34: NP | G34: 2.6421341 | H34: 0.48867756 | I34: 2.2409567 | J34: 0.91783464 | K34: 0.39874189
A35: 5 Clerical and administrative workers | B35: 0.059296084 | C35: 0.12176445 | D35: 0.058663668 | E35: 0.11334778 | F35: 0.057406497 | G35: 0.058330776 | H35: 0.1133786 | I35: 0.10893782 | J35: 0.26892487 | K35: 0.21930538
A36: 51 Office managers and program administrators | B36: NP | C36: NP | D36: NP | E36: NP | F36: NP | G36: NP | H36: NP | I36: NP | J36: NP | K36: 0.61171003
A37: 52 Personal assistants and secretaries | B37: NP | C37: NP | D37: NP | E37: NP | F37: NP | G37: NP | H37: NP | I37: NP | J37: NP | K37: NP
A38: 53 General clerical workers | B38: NP | C38: NP | D38: NP | E38: NP | F38: NP | G38: 0.29267261 | H38: NP | I38: NP | J38: NP | K38: NP
A39: 54 Inquiry clerks and receptionists | B39: NP | C39: 0.36309267 | D39: NP | E39: NP | F39: NP | G39: NP | H39: NP | I39: NP | J39: NP | K39: NP
A40: 55 Numerical clerks | B40: NP | C40: 0.25838642 | D40: NP | E40: NP | F40: NP | G40: NP | H40: NP | I40: NP | J40: NP | K40: NP
A41: 56 Clerical and office support workers | B41: NP | C41: NP | D41: 1.1626519 | E41: 2.1563053 | F41: 1.2927412 | G41: NP | H41: 2.4198363 | I41: 1.1629538 | J41: 5.9532683 | K41: 1.1562311
...

Sheet Table 2.3
A1: ='Cover page'!$A$24 -> Table 2.3. Fatalities (count) by Occupation (ANZSCO Sub major group), 10 years (financial) to 2024-25
A2: Return to Cover page
A3: Top_10_Fin_Year_Indicator | B3: TRUE
A4: NFD_2digit_Flag | B4: 0
A6: Fatalities (count)
B7: 2015-16 | C7: 2016-17 | D7: 2017-18 | E7: 2018-19 | F7: 2019-20 | G7: 2020-21 | H7: 2021-22 | I7: 2022-23 | J7: 2023-24 | K7: 2024-25
A8: 1 Managers | B8: 36 | C8: 26 | D8: 20 | E8: 22 | F8: 31 | G8: 31 | H8: 32 | I8: 23 | J8: 17 | K8: 33
A9: 11 Chief executives, general managers and legislators | B9: 2 | C9: 0 | D9: 1 | E9: 1 | F9: 1 | G9: 4 | H9: 4 | I9: 2 | J9: 0 | K9: 2
A10: 12 Farmers and farm managers | B10: 28 | C10: 20 | D10: 19 | E10: 20 | F10: 29 | G10: 25 | H10: 25 | I10: 16 | J10: 13 | K10: 20
A11: 13 Specialist managers | B11: 6 | C11: 3 | D11: 0 | E11: 1 | F11: 1 | G11: 1 | H11: 2 | I11: 4 | J11: 4 | K11: 6
A12: 14 Hospitality, retail and service managers | B12: 0 | C12: 3 | D12: 0 | E12: 0 | F12: 0 | G12: 1 | H12: 1 | I12: 1 | J12: 0 | K12: 5
A13: 2 Professionals | B13: 17 | C13: 14 | D13: 14 | E13: 10 | F13: 9 | G13: 10 | H13: 8 | I13: 12 | J13: 11 | K13: 15
A14: 21 Arts and media professionals | B14: 2 | C14: 1 | D14: 0 | E14: 0 | F14: 1 | G14: 0 | H14: 0 | I14: 0 | J14: 1 | K14: 0
A15: 22 Business, human resource and marketing professionals | B15: 1 | C15: 2 | D15: 2 | E15: 0 | F15: 1 | G15: 0 | H15: 1 | I15: 1 | J15: 0 | K15: 0
A16: 23 Design, engineering, science and transport professionals | B16: 12 | C16: 8 | D16: 12 | E16: 9 | F16: 7 | G16: 10 | H16: 6 | I16: 10 | J16: 9 | K16: 13
A17: 24 Education professionals | B17: 0 | C17: 0 | D17: 0 | E17: 0 | F17: 0 | G17: 0 | H17: 0 | I17: 0 | J17: 1 | K17: 1
A18: 25 Health professionals | B18: 1 | C18: 1 | D18: 0 | E18: 0 | F18: 0 | G18: 0 | H18: 1 | I18: 0 | J18: 0 | K18: 0
A19: 26 ICT professionals | B19: 0 | C19: 0 | D19: 0 | E19: 0 | F19: 0 | G19: 0 | H19: 0 | I19: 0 | J19: 0 | K19: 0
... A59: Total | B59: 214 | C59: 192 | D59: 163 | E59: 180 | F59: 198 | G59: 161 | H59: 207 | I59: 195 | J59: 182 | K59: 206

Sheet Table 2.4
A1: ='Cover page'!$A$25 -> Table 2.4. Fatalities (rate) by Occupation (ANZSCO Sub major group), 10 years (financial) to 2024-25
A2: Return to Cover page
A3: Top_10_Fin_Year_Indicator | B3: TRUE
A4: NFD_2digit_Flag | B4: 0
A6: Fatalities (rate)
B7: 2015-16 | C7: 2016-17 | D7: 2017-18 | E7: 2018-19 | F7: 2019-20 | G7: 2020-21 | H7: 2021-22 | I7: 2022-23 | J7: 2023-24 | K7: 2024-25
A8: 1 Managers | B8: 2.4218255 | C8: 1.7343201 | D8: 1.2974676 | E8: 1.4215093 | F8: 1.9831735 | G8: 1.86097 | H8: 1.8380773 | I8: 1.2442909 | J8: 0.9235971 | K8: 1.7865108
A9: 11 Chief executives, general managers and legislators | B9: 1.6741329 | C9: NP | D9: 1.0174711 | E9: 0.9517166 | F9: 1.1479863 | G9: 3.9355385 | H9: 3.0705777 | I9: 1.3603739 | J9: NP | K9: 1.5108397
A10: 12 Farmers and farm managers | B10: 16.721579 | C10: 13.651374 | D10: 11.472923 | E10: 11.489494 | F10: 16.33679 | G10: 13.495103 | H10: 15.009 | I10: 10.04006 | J10: 7.872082 | K10: 12.278166
A11: 13 Specialist managers | B11: 0.85970926 | C11: 0.40579424 | D11: NP | E11: 0.13114225 | F11: 0.12360324 | G11: 0.11315357 | H11: 0.21322459 | I11: 0.40406711 | J11: 0.40156913 | K11: 0.60606401
A12: 14 Hospitality, retail and service managers | B12: NP | C12: 0.59813285 | D12: NP | E12: NP | F12: NP | G12: 0.2019578 | H12: 0.19757532 | I12: 0.18111747 | J12: NP | K12: 0.88981566
A13: 2 Professionals | B13: 0.62582304 | C13: 0.49364838 | D13: 0.47557796 | E13: 0.3282296 | F13: 0.28546029 | G13: 0.30432852 | H13: 0.23347097 | I13: 0.33441762 | J13: 0.29569359 | K13: 0.38896024
A14: 21 Arts and media professionals | B14: 1.9432117 | C14: 0.97979645 | D14: NP | E14: NP | F14: 0.92178502 | G14: NP | H14: NP | I14: NP | J14: 0.89736061 | K14: NP
A15: 22 Business, human resource and marketing professionals | B15: 0.15179117 | C15: 0.28752911 | D15: 0.27883952 | E15: NP | F15: 0.13345662 | G15: NP | H15: 0.11982774 | I15: 0.11238807 | J15: NP | K15: NP
A16: 23 Design, engineering, science and transport professionals | B16: 3.2292177 | C16: 1.8956006 | D16: 2.8743481 | E16: 2.0695065 | F16: 1.5066916 | G16: 2.1176322 | H16: 1.2275376 | I16: 1.9434352 | J16: 1.717893 | K16: 2.3740587
A17: 24 Education professionals | B17: NP | C17: NP | D17: NP | E17: NP | F17: NP | G17: NP | H17: NP | I17: NP | J17: 0.15336323 | K17: 0.1388321
A18: 25 Health professionals | B18: 0.17304585 | C18: 0.17014463 | D18: NP | E18: NP | F18: NP | G18: NP | H18: 0.14345015 | I18: NP | J18: NP | K18: NP
A19: 26 ICT professionals | B19: NP | C19: NP | D19: NP | E19: NP | F19: NP | G19: NP | H19: NP | I19: NP | J19: NP | K19: NP
A20: 27 Legal, social and welfare professionals | B20: 0.45394949 | C20: 0.8927001 | D20: NP | E20: 0.39684478 | F20: NP | G20: NP | H20: NP | I20: 0.32681109 | J20: NP | K20: 0.30757901
A21: 3 Technicians and trades workers | B21: 2.0642861 | C21: 1.2553696 | D21: 1.2953986 | E21: 1.5582228 | F21: 1.5238097 | G21: 1.3107782 | H21: 1.6625235 | I21: 1.4952972 | J21: 1.4610395 | K21: 1.2726136
A22: 31 Engineering, ICT and science technicians | B22: 0.42511669 | C22: 0.41546917 | D22: 0.41172375 | E22: NP | F22: 0.36647094 | G22: 0.71479804 | H22: 0.69454247 | I22: 0.68474188 | J22: NP | K22: NP
A23: 32 Automotive and engineering trades workers | B23: 1.9439607 | C23: 0.59246906 | D23: 1.3491159 | E23: 1.6353715 | F23: 1.684415 | G23: 1.4045993 | H23: 2.4292965 | I23: 2.7122173 | J23: 1.8696779 | K23: 0.7857402
A24: 33 Construction trades workers | B24: 3.7213427 | C24: 3.0109461 | D24: 1.0154824 | E24: 0.99983293 | F24: 1.8171024 | G24: 1.4035378 | H24: 1.5553786 | I24: 1.9646184 | J24: 1.7133239 | K24: 1.678168
A25: 34 Electrotechnology and telecommunications trades workers | B25: 3.2697333 | C25: 1.6771271 | D25: 2.0429183 | E25: 5.0215769 | F25: 2.0311542 | G25: 2.3670769 | H25: 2.9490396 | I25: 2.2558314 | J25: 2.5381991 | K25: 2.1055346
A26: 35 Food trades workers | B26: 0.57644119 | C26: NP | D26: NP | E26: NP | F26: NP | G26: NP | H26: NP | I26: NP | J26: 0.98131727 | K26: 0.47496657
A27: 36 Skilled animal and horticultural workers | B27: 2.5635471 | C27: 2.3399715 | D27: 2.182208 | E27: 3.1151753 | F27: 2.8765344 | G27: 1.4677996 | H27: 2.0812725 | I27: NP | J27: 1.9509296 | K27: 3.3620333
A28: 39 Other technicians and trades workers | B28: 0.52965508 | C28: NP | D28: 2.5967876 | E28: 1.0051004 | F28: 2.1211024 | G28: 1.5525251 | H28: 1.556269 | I28: 1.0074213 | J28: 1.0728614 | K28: 1.4698117
A29: 4 Community and personal service workers | B29: 0.61215626 | C29: 0.60068037 | D29: 0.64715247 | E29: 0.77011548 | F29: 1.573309 | G29: 0.35388865 | H29: 0.80518895 | I29: 0.62470273 | J29: 0.88346874 | K29: 0.22765254
A30: 41 Health and welfare support workers | B30: NP | C30: NP | D30: NP | E30: 0.71206547 | F30: 0.727263 | G30: NP | H30: 1.3133805 | I30: NP | J30: 0.56203658 | K30: 0.56698333
A31: 42 Carers and aides | B31: NP | C31: 0.19273852 | D31: 0.36286287 | E31: 0.35818998 | F31: 0.34414933 | G31: NP | H31: 0.1555868 | I31: NP | J31: NP | K31: NP
A32: 43 Hospitality workers | B32: 1.084936 | C32: NP | D32: NP | E32: NP | F32: NP | G32: NP | H32: NP | I32: 0.31518843 | J32: NP | K32: NP
A33: 44 Protective service workers | B33: 1.0019116 | C33: 1.8907808 | D33: 0.45866318 | E33: 2.7557859 | F33: 6.9374207 | G33: 1.3056646 | H33: 2.1595162 | I33: 2.65912 | J33: 4.5024642 | K33: 0.85263776
A34: 45 Sports and personal service workers | B34: 1.5309684 | C34: 1.5342704 | D34: 2.9058629 | E34: 0.90329233 | F34: 2.008927 | G34: 1.0662141 | H34: 2.1661545 | I34: 1.3671368 | J34: 1.8152838 | K34: 0.43170546
A35: 5 Clerical and administrative workers | B35: 0.059779665 | C35: 0.12082993 | D35: 0.060916332 | E35: 0.056682854 | F35: 0.057087604 | G35: 0.11639845 | H35: NP | I35: 0.11274544 | J35: 0.2153612 | K35: 0.16173473
A36: 51 Office managers and program administrators | B36: NP | C36: NP | D36: NP | E36: NP | F36: NP | G36: NP | H36: NP | I36: NP | J36: NP | K36: NP
A37: 52 Personal assistants and secretaries | B37: NP | C37: NP | D37: NP | E37: NP | F37: NP | G37: NP | H37: NP | I37: NP | J37: NP | K37: NP
A38: 53 General clerical workers | B38: NP | C38: NP | D38: NP | E38: NP | F38: NP | G38: 0.27681107 | H38: NP | I38: NP | J38: NP | K38: NP
A39: 54 Inquiry clerks and receptionists | B39: NP | C39: 0.35910632 | D39: NP | E39: NP | F39: NP | G39: NP | H39: NP | I39: NP | J39: NP | K39: NP
A40: 55 Numerical clerks | B40: NP | C40: 0.25685519 | D40: NP | E40: NP | F40: NP | G40: NP | H40: NP | I40: NP | J40: NP | K40: NP
A41: 56 Clerical and office support workers | B41: NP | C41: NP | D41: 1.1713635 | E41: 1.0863092 | F41: 1.1935109 | G41: 1.2317198 | H41: NP | I41: 2.4557036 | J41: 3.5422699 | K41: 3.3541217
...

Sheet Table 3.1
A1: ='Cover page'!$A$27 -> Table 3.1. Fatalities (count) by Mechanism (TOOCS Sub major group), 10 years (calendar) to 2025
A2: Return to Cover page
A4: Top_10_Cal_Year_Indicator | B4: TRUE
A6: Fatalities (count)
B7: 2016 | C7: 2017 | D7: 2018 | E7: 2019 | F7: 2020 | G7: 2021 | H7: 2022 | I7: 2023 | J7: 2024 | K7: 2025
A8: 0 Falls, trips and slips of a person | B8: 26 | C8: 29 | D8: 17 | E8: 21 | F8: 25 | G8: 22 | H8: 18 | I8: 31 | J8: 25 | K8: 29
A9: 01 Falls from a height | B9: 26 | C9: 28 | D9: 17 | E9: 21 | F9: 24 | G9: 19 | H9: 17 | I9: 30 | J9: 24 | K9: 28
A10: 02 Falls on the same level | B10: 0 | C10: 1 | D10: 0 | E10: 0 | F10: 1 | G10: 3 | H10: 1 | I10: 1 | J10: 1 | K10: 1
A11: 03 Stepping, kneeling or sitting on objects | B11: 0 | C11: 0 | D11: 0 | E11: 0 | F11: 0 | G11: 0 | H11: 0 | I11: 0 | J11: 0 | K11: 0
A12: 1 Hitting objects with a part of the body | B12: 2 | C12: 0 | D12: 1 | E12: 3 | F12: 1 | G12: 1 | H12: 2 | I12: 0 | J12: 0 | K12: 1
A13: 11 Hitting stationary objects | B13: 1 | C13: 0 | D13: 1 | E13: 3 | F13: 0 | G13: 0 | H13: 1 | I13: 0 | J13: 0 | K13: 1
A14: 12 Hitting moving objects | B14: 1 | C14: 0 | D14: 0 | E14: 0 | F14: 1 | G14: 1 | H14: 1 | I14: 0 | J14: 0 | K14: 0
A15: 13 Rubbing and chafing | B15: 0 | C15: 0 | D15: 0 | E15: 0 | F15: 0 | G15: 0 | H15: 0 | I15: 0 | J15: 0 | K15: 0
A16: 2 Being hit by moving objects | B16: 57 | C16: 68 | D16: 56 | E16: 59 | F16: 70 | G16: 62 | H16: 68 | I16: 57 | J16: 55 | K16: 66
A17: 21 Being hit by falling objects | B17: 17 | C17: 15 | D17: 15 | E17: 22 | F17: 17 | G17: 16 | H17: 16 | I17: 12 | J17: 13 | K17: 21
A18: 22 Being bitten by an animal | B18: 1 | C18: 0 | D18: 0 | E18: 0 | F18: 2 | G18: 1 | H18: 1 | I18: 0 | J18: 0 | K18: 0
A19: 23 Being hit by an animal | B19: 3 | C19: 3 | D19: 1 | E19: 0 | F19: 3 | G19: 2 | H19: 2 | I19: 0 | J19: 3 | K19: 6
... A74: Total | B74: 190 | C74: 192 | D74: 144 | E74: 193 | F74: 199 | G74: 174 | H74: 197 | I74: 201 | J74: 192 | K74: 222

Sheet Table 3.2
A1: ='Cover page'!$A$28 -> Table 3.2. Fatalities (count) by Mechanism (TOOCS Sub major group), 10 years (financial) to 2024-25
A2: Return to Cover page
A4: Top_10_Fin_Year_Indicator | B4: TRUE
A6: Fatalities (count)
B7: 2015-16 | C7: 2016-17 | D7: 2017-18 | E7: 2018-19 | F7: 2019-20 | G7: 2020-21 | H7: 2021-22 | I7: 2022-23 | J7: 2023-24 | K7: 2024-25
A8: 0 Falls, trips and slips of a person | B8: 35 | C8: 32 | D8: 14 | E8: 21 | F8: 28 | G8: 18 | H8: 22 | I8: 30 | J8: 19 | K8: 32
A9: 01 Falls from a height | B9: 35 | C9: 31 | D9: 14 | E9: 21 | F9: 27 | G9: 16 | H9: 20 | I9: 29 | J9: 19 | K9: 30
A10: 02 Falls on the same level | B10: 0 | C10: 1 | D10: 0 | E10: 0 | F10: 1 | G10: 2 | H10: 2 | I10: 1 | J10: 0 | K10: 2
A11: 03 Stepping, kneeling or sitting on objects | B11: 0 | C11: 0 | D11: 0 | E11: 0 | F11: 0 | G11: 0 | H11: 0 | I11: 0 | J11: 0 | K11: 0
A12: 1 Hitting objects with a part of the body | B12: 3 | C12: 1 | D12: 0 | E12: 4 | F12: 1 | G12: 0 | H12: 1 | I12: 2 | J12: 0 | K12: 0
A13: 11 Hitting stationary objects | B13: 3 | C13: 0 | D13: 0 | E13: 4 | F13: 0 | G13: 0 | H13: 0 | I13: 1 | J13: 0 | K13: 0
A14: 12 Hitting moving objects | B14: 0 | C14: 1 | D14: 0 | E14: 0 | F14: 1 | G14: 0 | H14: 1 | I14: 1 | J14: 0 | K14: 0
A15: 13 Rubbing and chafing | B15: 0 | C15: 0 | D15: 0 | E15: 0 | F15: 0 | G15: 0 | H15: 0 | I15: 0 | J15: 0 | K15: 0
A16: 2 Being hit by moving objects | B16: 69 | C16: 68 | D16: 60 | E16: 56 | F16: 69 | G16: 59 | H16: 64 | I16: 65 | J16: 56 | K16: 51
A17: 21 Being hit by falling objects | B17: 12 | C17: 22 | D17: 14 | E17: 21 | F17: 20 | G17: 15 | H17: 15 | I17: 15 | J17: 15 | K17: 11
A18: 22 Being bitten by an animal | B18: 1 | C18: 0 | D18: 0 | E18: 0 | F18: 1 | G18: 2 | H18: 0 | I18: 1 | J18: 0 | K18: 0
A19: 23 Being hit by an animal | B19: 4 | C19: 0 | D19: 4 | E19: 0 | F19: 3 | G19: 2 | H19: 2 | I19: 0 | J19: 2 | K19: 2
... A74: Total | B74: 214 | C74: 192 | D74: 163 | E74: 180 | F74: 198 | G74: 161 | H74: 207 | I74: 195 | J74: 182 | K74: 206

Sheet Table 4.1
A1: ='Cover page'!$A$30 -> Table 4.1. Fatalities (count) by Breakdown Agency (TOOCS Sub major group), 10 years (calendar) to 2025
A2: Return to Cover page
A4: Top_10_Cal_Year_Indicator | B4: TRUE
A6: Fatalities (count)
B7: 2016 | C7: 2017 | D7: 2018 | E7: 2019 | F7: 2020 | G7: 2021 | H7: 2022 | I7: 2023 | J7: 2024 | K7: 2025
A8: 1 Machinery and (mainly) fixed plant | B8: 14 | C8: 14 | D8: 17 | E8: 25 | F8: 22 | G8: 22 | H8: 27 | I8: 24 | J8: 25 | K8: 18
A9: 11 Cutting, slicing, sawing machinery | B9: 2 | C9: 2 | D9: 1 | E9: 1 | F9: 2 | G9: 1 | H9: 2 | I9: 0 | J9: 0 | K9: 1
A10: 12 Crushing, pressing, rolling machinery | B10: 0 | C10: 0 | D10: 1 | E10: 1 | F10: 2 | G10: 3 | H10: 3 | I10: 2 | J10: 3 | K10: 2
A11: 13 Heating, cooking, baking equipment | B11: 0 | C11: 0 | D11: 0 | E11: 0 | F11: 0 | G11: 0 | H11: 0 | I11: 0 | J11: 0 | K11: 0
A12: 14 Cooling refrigeration plant and equipment | B12: 1 | C12: 1 | D12: 0 | E12: 0 | F12: 0 | G12: 0 | H12: 0 | I12: 2 | J12: 1 | K12: 0
A13: 15 Conveyors and lifting plant | B13: 6 | C13: 8 | D13: 12 | E13: 16 | F13: 12 | G13: 13 | H13: 14 | I13: 12 | J13: 14 | K13: 12
A14: 16 Electrical installation | B14: 5 | C14: 3 | D14: 3 | E14: 6 | F14: 5 | G14: 5 | H14: 6 | I14: 8 | J14: 6 | K14: 3
A15: 17 Radiation-based equipment | B15: 0 | C15: 0 | D15: 0 | E15: 0 | F15: 0 | G15: 0 | H15: 0 | I15: 0 | J15: 0 | K15: 0
A16: 18 Filling and bottling/packaging plant | B16: 0 | C16: 0 | D16: 0 | E16: 0 | F16: 0 | G16: 0 | H16: 0 | I16: 0 | J16: 0 | K16: 0
A17: 19 Other plant and machinery | B17: 0 | C17: 0 | D17: 0 | E17: 1 | F17: 1 | G17: 0 | H17: 2 | I17: 0 | J17: 1 | K17: 0
A18: 2 Mobile plant and transport | B18: 104 | C18: 107 | D18: 77 | E18: 106 | F18: 118 | G18: 111 | H18: 114 | I18: 115 | J18: 115 | K18: 120
A19: 21 Self-propelled plant | B19: 10 | C19: 4 | D19: 8 | E19: 11 | F19: 7 | G19: 8 | H19: 11 | I19: 9 | J19: 7 | K19: 5
... A64: Total | B64: 190 | C64: 192 | D64: 144 | E64: 193 | F64: 199 | G64: 174 | H64: 197 | I64: 201 | J64: 192 | K64: 222

Sheet Table 4.2
A1: ='Cover page'!$A$31 -> Table 4.2. Fatalities (count) by Breakdown Agency (TOOCS Sub major group), 10 years (financial) to 2024-25
A2: Return to Cover page
A4: Top_10_Fin_Year_Indicator | B4: TRUE
A6: Fatalities (count)
B7: 2015-16 | C7: 2016-17 | D7: 2017-18 | E7: 2018-19 | F7: 2019-20 | G7: 2020-21 | H7: 2021-22 | I7: 2022-23 | J7: 2023-24 | K7: 2024-25
A8: 1 Machinery and (mainly) fixed plant | B8: 20 | C8: 14 | D8: 13 | E8: 24 | F8: 21 | G8: 23 | H8: 31 | I8: 23 | J8: 21 | K8: 22
A9: 11 Cutting, slicing, sawing machinery | B9: 3 | C9: 1 | D9: 2 | E9: 0 | F9: 2 | G9: 1 | H9: 1 | I9: 2 | J9: 0 | K9: 0
A10: 12 Crushing, pressing, rolling machinery | B10: 0 | C10: 0 | D10: 1 | E10: 1 | F10: 1 | G10: 3 | H10: 3 | I10: 3 | J10: 1 | K10: 3
A11: 13 Heating, cooking, baking equipment | B11: 1 | C11: 0 | D11: 0 | E11: 0 | F11: 0 | G11: 0 | H11: 0 | I11: 0 | J11: 0 | K11: 0
A12: 14 Cooling refrigeration plant and equipment | B12: 1 | C12: 1 | D12: 1 | E12: 0 | F12: 0 | G12: 0 | H12: 0 | I12: 2 | J12: 1 | K12: 0
A13: 15 Conveyors and lifting plant | B13: 9 | C13: 9 | D13: 6 | E13: 17 | F13: 14 | G13: 11 | H13: 18 | I13: 11 | J13: 11 | K13: 15
A14: 16 Electrical installation | B14: 5 | C14: 3 | D14: 3 | E14: 6 | F14: 3 | G14: 7 | H14: 7 | I14: 5 | J14: 7 | K14: 4
A15: 17 Radiation-based equipment | B15: 0 | C15: 0 | D15: 0 | E15: 0 | F15: 0 | G15: 0 | H15: 0 | I15: 0 | J15: 0 | K15: 0
A16: 18 Filling and bottling/packaging plant | B16: 0 | C16: 0 | D16: 0 | E16: 0 | F16: 0 | G16: 0 | H16: 0 | I16: 0 | J16: 0 | K16: 0
A17: 19 Other plant and machinery | B17: 1 | C17: 0 | D17: 0 | E17: 0 | F17: 1 | G17: 1 | H17: 2 | I17: 0 | J17: 1 | K17: 0
A18: 2 Mobile plant and transport | B18: 109 | C18: 104 | D18: 96 | E18: 102 | F18: 105 | G18: 98 | H18: 128 | I18: 106 | J18: 104 | K18: 126
A19: 21 Self-propelled plant | B19: 13 | C19: 4 | D19: 8 | E19: 10 | F19: 6 | G19: 8 | H19: 10 | I19: 11 | J19: 5 | K19: 7
... A64: Total | B64: 214 | C64: 192 | D64: 163 | E64: 180 | F64: 198 | G64: 161 | H64: 207 | I64: 195 | J64: 182 | K64: 206

Sheet Table 5.1
A1: ='Cover page'!$A$33 -> Table 5.1. Fatalities (count) by Agency (TOOCS Sub major group), 10 years (calendar) to 2025
A2: Return to Cover page
A4: Top_10_Cal_Year_Indicator | B4: TRUE
A6: Fatalities (count)
B7: 2016 | C7: 2017 | D7: 2018 | E7: 2019 | F7: 2020 | G7: 2021 | H7: 2022 | I7: 2023 | J7: 2024 | K7: 2025
A8: 1 Machinery and (mainly) fixed plant | B8: 11 | C8: 12 | D8: 17 | E8: 19 | F8: 21 | G8: 16 | H8: 23 | I8: 17 | J8: 19 | K8: 17
A9: 11 Cutting, slicing, sawing machinery | B9: 2 | C9: 1 | D9: 1 | E9: 1 | F9: 2 | G9: 1 | H9: 2 | I9: 0 | J9: 0 | K9: 0
A10: 12 Crushing, pressing, rolling machinery | B10: 0 | C10: 0 | D10: 1 | E10: 1 | F10: 1 | G10: 3 | H10: 3 | I10: 1 | J10: 1 | K10: 3
A11: 13 Heating, cooking, baking equipment | B11: 0 | C11: 0 | D11: 0 | E11: 0 | F11: 0 | G11: 0 | H11: 0 | I11: 0 | J11: 0 | K11: 0
A12: 14 Cooling refrigeration plant and equipment | B12: 1 | C12: 1 | D12: 0 | E12: 0 | F12: 2 | G12: 0 | H12: 0 | I12: 2 | J12: 1 | K12: 0
A13: 15 Conveyors and lifting plant | B13: 2 | C13: 6 | D13: 11 | E13: 8 | F13: 9 | G13: 5 | H13: 8 | I13: 7 | J13: 12 | K13: 8
A14: 16 Electrical installation | B14: 6 | C14: 4 | D14: 4 | E14: 8 | F14: 6 | G14: 7 | H14: 9 | I14: 7 | J14: 4 | K14: 6
A15: 17 Radiation-based equipment | B15: 0 | C15: 0 | D15: 0 | E15: 0 | F15: 0 | G15: 0 | H15: 0 | I15: 0 | J15: 0 | K15: 0
A16: 18 Filling and bottling/packaging plant | B16: 0 | C16: 0 | D16: 0 | E16: 0 | F16: 0 | G16: 0 | H16: 0 | I16: 0 | J16: 0 | K16: 0
A17: 19 Other plant and machinery | B17: 0 | C17: 0 | D17: 0 | E17: 1 | F17: 1 | G17: 0 | H17: 1 | I17: 0 | J17: 1 | K17: 0
A18: 2 Mobile plant and transport | B18: 88 | C18: 108 | D18: 66 | E18: 102 | F18: 124 | G18: 102 | H18: 115 | I18: 116 | J18: 108 | K18: 121
A19: 21 Self-propelled plant | B19: 8 | C19: 4 | D19: 5 | E19: 10 | F19: 4 | G19: 7 | H19: 11 | I19: 9 | J19: 7 | K19: 5
... A64: Total | B64: 190 | C64: 192 | D64: 144 | E64: 193 | F64: 199 | G64: 174 | H64: 197 | I64: 201 | J64: 192 | K64: 222

Sheet Table 5.2
A1: ='Cover page'!$A$34 -> Table 5.2. Fatalities (count) by Agency (TOOCS Sub major group), 10 years (financial) to 2024-25
A2: Return to Cover page
A4: Top_10_Fin_Year_Indicator | B4: TRUE
A6: Fatalities (count)
B7: 2015-16 | C7: 2016-17 | D7: 2017-18 | E7: 2018-19 | F7: 2019-20 | G7: 2020-21 | H7: 2021-22 | I7: 2022-23 | J7: 2023-24 | K7: 2024-25
A8: 1 Machinery and (mainly) fixed plant | B8: 19 | C8: 12 | D8: 13 | E8: 21 | F8: 16 | G8: 21 | H8: 24 | I8: 18 | J8: 15 | K8: 18
A9: 11 Cutting, slicing, sawing machinery | B9: 2 | C9: 1 | D9: 1 | E9: 0 | F9: 2 | G9: 1 | H9: 1 | I9: 2 | J9: 0 | K9: 0
A10: 12 Crushing, pressing, rolling machinery | B10: 0 | C10: 0 | D10: 1 | E10: 1 | F10: 1 | G10: 2 | H10: 3 | I10: 2 | J10: 0 | K10: 3
A11: 13 Heating, cooking, baking equipment | B11: 1 | C11: 0 | D11: 0 | E11: 0 | F11: 0 | G11: 0 | H11: 0 | I11: 0 | J11: 0 | K11: 0
A12: 14 Cooling refrigeration plant and equipment | B12: 0 | C12: 1 | D12: 1 | E12: 0 | F12: 1 | G12: 1 | H12: 0 | I12: 2 | J12: 1 | K12: 0
A13: 15 Conveyors and lifting plant | B13: 7 | C13: 5 | D13: 6 | E13: 14 | F13: 7 | G13: 7 | H13: 9 | I13: 6 | J13: 8 | K13: 9
A14: 16 Electrical installation | B14: 7 | C14: 5 | D14: 4 | E14: 6 | F14: 4 | G14: 9 | H14: 10 | I14: 6 | J14: 5 | K14: 6
A15: 17 Radiation-based equipment | B15: 0 | C15: 0 | D15: 0 | E15: 0 | F15: 0 | G15: 0 | H15: 0 | I15: 0 | J15: 0 | K15: 0
A16: 18 Filling and bottling/packaging plant | B16: 0 | C16: 0 | D16: 0 | E16: 0 | F16: 0 | G16: 0 | H16: 0 | I16: 0 | J16: 0 | K16: 0
A17: 19 Other plant and machinery | B17: 2 | C17: 0 | D17: 0 | E17: 0 | F17: 1 | G17: 1 | H17: 1 | I17: 0 | J17: 1 | K17: 0
A18: 2 Mobile plant and transport | B18: 95 | C18: 95 | D18: 90 | E18: 88 | F18: 110 | G18: 105 | H18: 116 | I18: 107 | J18: 107 | K18: 124
A19: 21 Self-propelled plant | B19: 11 | C19: 2 | D19: 7 | E19: 9 | F19: 4 | G19: 6 | H19: 10 | I19: 11 | J19: 5 | K19: 6
... A64: Total | B64: 214 | C64: 192 | D64: 163 | E64: 180 | F64: 198 | G64: 161 | H64: 207 | I64: 195 | J64: 182 | K64: 206

Sheet Table 6.1
A1: ='Cover page'!$A$36 -> Table 6.1. Fatalities (count) by Demographics (Age group and Sex), 10 years (calendar) to 2025
A2: Return to Cover page
A4: Top_10_Cal_Year_Indicator | B4: TRUE
A6: Fatalities (count)
B7: 2016 | C7: 2017 | D7: 2018 | E7: 2019 | F7: 2020 | G7: 2021 | H7: 2022 | I7: 2023 | J7: 2024 | K7: 2025
A8: Under 25 | B8: 16 | C8: 17 | D8: 18 | E8: 15 | F8: 9 | G8: 16 | H8: 17 | I8: 26 | J8: 12 | K8: 16
A9: Male | B9: 15 | C9: 12 | D9: 17 | E9: 12 | F9: 8 | G9: 16 | H9: 15 | I9: 24 | J9: 12 | K9: 13
A10: Female | B10: 1 | C10: 5 | D10: 1 | E10: 3 | F10: 1 | G10: 0 | H10: 2 | I10: 2 | J10: 0 | K10: 3
A11: 25-34 | B11: 33 | C11: 32 | D11: 24 | E11: 26 | F11: 32 | G11: 25 | H11: 29 | I11: 29 | J11: 55 | K11: 33
A12: Male | B12: 30 | C12: 30 | D12: 23 | E12: 25 | F12: 30 | G12: 25 | H12: 27 | I12: 27 | J12: 55 | K12: 30
A13: Female | B13: 3 | C13: 2 | D13: 1 | E13: 1 | F13: 2 | G13: 0 | H13: 2 | I13: 2 | J13: 0 | K13: 3
A14: 35-44 | B14: 26 | C14: 34 | D14: 26 | E14: 36 | F14: 33 | G14: 26 | H14: 29 | I14: 35 | J14: 24 | K14: 35
A15: Male | B15: 22 | C15: 34 | D15: 24 | E15: 35 | F15: 32 | G15: 24 | H15: 23 | I15: 33 | J15: 20 | K15: 32
A16: Female | B16: 4 | C16: 0 | D16: 2 | E16: 1 | F16: 1 | G16: 2 | H16: 6 | I16: 2 | J16: 4 | K16: 3
A17: 45-54 | B17: 41 | C17: 36 | D17: 27 | E17: 34 | F17: 34 | G17: 33 | H17: 35 | I17: 39 | J17: 24 | K17: 39
A18: Male | B18: 38 | C18: 33 | D18: 26 | E18: 33 | F18: 34 | G18: 31 | H18: 33 | I18: 36 | J18: 22 | K18: 37
A19: Female | B19: 3 | C19: 3 | D19: 1 | E19: 1 | F19: 0 | G19: 2 | H19: 2 | I19: 3 | J19: 2 | K19: 2
... A26: Total | B26: 190 | C26: 192 | D26: 144 | E26: 193 | F26: 199 | G26: 174 | H26: 197 | I26: 201 | J26: 192 | K26: 222

Sheet Table 6.2
A1: ='Cover page'!$A$37 -> Table 6.2. Fatalities (rate) by Demographics (Age group and Sex), 10 years (calendar) to 2025
A2: Return to Cover page
A4: Top_10_Cal_Year_Indicator | B4: TRUE
A6: Fatalities (rate)
B7: 2016 | C7: 2017 | D7: 2018 | E7: 2019 | F7: 2020 | G7: 2021 | H7: 2022 | I7: 2023 | J7: 2024 | K7: 2025
A8: Under 25 | B8: 0.86836619 | C8: 0.91800991 | D8: 0.94151129 | E8: 0.77761471 | F8: 0.5056655 | G8: 0.85155703 | H8: 0.81732452 | I8: 1.1936403 | J8: 0.54480172 | K8: 0.71283395
A9: Male | B9: 1.6018533 | C9: 1.2735207 | D9: 1.7503384 | E9: 1.2179493 | F9: 0.88733135 | G9: 1.6943266 | H9: 1.4304879 | I9: 2.1598769 | J9: 1.0660998 | K9: 1.1308011
A10: Female | B10: 0.11036002 | C10: 0.54971507 | D10: 0.10631748 | E10: 0.3178932 | F10: 0.11386241 | G10: NP | H10: 0.19391798 | I10: 0.18743507 | J10: NP | K10: 0.27398898
A11: 25-34 | B11: 1.1579588 | C11: 1.1029614 | D11: 0.80729237 | E11: 0.85348192 | F11: 1.0819065 | G11: 0.83199867 | H11: 0.93192771 | I11: 0.87978692 | J11: 1.630778 | K11: 0.96477532
A12: Male | B12: 1.9245217 | C12: 1.9086588 | D12: 1.4360007 | E12: 1.5304806 | F12: 1.9161591 | G12: 1.5764172 | H12: 1.6512421 | I12: 1.56027 | J12: 3.1108192 | K12: 1.6715254
A13: Female | B13: 0.2323756 | C13: 0.15043296 | D13: 0.072927218 | E13: 0.070777886 | F13: 0.14366683 | G13: NP | H13: 0.13543743 | I13: 0.12773162 | J13: NP | K13: 0.18453388
A14: 35-44 | B14: 0.99804284 | C14: 1.2772292 | D14: 0.95514563 | E14: 1.2939798 | F14: 1.177521 | G14: 0.88781295 | H14: 0.95026111 | I14: 1.1072324 | J14: 0.73395482 | K14: 1.0385071
A15: Male | B15: 1.548912 | C15: 2.3682259 | D15: 1.6455529 | E15: 2.3569764 | F15: 2.1353625 | G15: 1.5481357 | H15: 1.4387039 | I15: 1.9972689 | J15: 1.1723112 | K15: 1.8340749
A16: Female | B16: 0.3376249 | C16: NP | D16: 0.15827522 | E16: 0.077091425 | F16: 0.076691632 | G16: 0.14510701 | H16: 0.41290132 | I16: 0.13255757 | J16: 0.25576684 | K16: 0.18456159
A17: 45-54 | B17: 1.621717 | C17: 1.4044515 | D17: 1.0400257 | E17: 1.2904613 | F17: 1.2991768 | G17: 1.2367734 | H17: 1.2827126 | I17: 1.4193673 | J17: 0.86703934 | K17: 1.3990252
A18: Male | B18: 2.9000746 | C18: 2.4872169 | D18: 1.9381891 | E18: 2.4270004 | F18: 2.4953258 | G18: 2.2516364 | H18: 2.3613107 | I18: 2.5599347 | J18: 1.5503464 | K18: 2.5890056
A19: Female | B19: 0.24633099 | C19: 0.24262146 | D19: 0.079704697 | E19: 0.078430533 | F19: NP | G19: 0.15486386 | H19: 0.15025577 | I19: 0.22364404 | J19: 0.14825767 | K19: 0.1472174
A20: 55-64 | B20: 2.7433765 | C20: 2.6400895 | D20: 1.6640302 | E20: 2.5508904 | F20: 2.9690725 | G20: 2.1709421 | H20: 2.1537937 | I20: 1.9938304 | J20: 1.968624 | K20: 2.6945678
A21: Male | B21: 4.5722548 | C21: 4.5204746 | D21: 3.0144812 | E21: 4.6898328 | F21: 5.4004702 | G21: 3.9173523 | H21: 3.7882889 | I21: 3.7764596 | J21: 3.6587533 | K21: 4.9696471
A22: Female | B22: 0.61788379 | C22: 0.47350108 | D22: 0.11524045 | E22: 0.11143213 | F22: 0.22188653 | G22: 0.21411405 | H22: 0.31229697 | I22: NP | J22: 0.10107091 | K22: 0.20168222
A23: 65 and over | B23: 5.667087 | C23: 5.0475935 | D23: 3.286637 | E23: 5.5263908 | F23: 5.8109283 | G23: 4.8272589 | H23: 6.5386457 | I23: 3.8719755 | J23: 4.7471718 | K23: 5.4967013
A24: Male | B24: 8.8551431 | C24: 8.2662048 | D24: 4.7641253 | E24: 8.920284 | F24: 9.1180165 | G24: 7.9593389 | H24: 10.808248 | I24: 6.2436295 | J24: 7.8870495 | K24: 9.3943709
A25: Female | B25: 0.56667596 | C25: NP | D25: 0.94415822 | E25: 0.41945996 | F25: 0.85414993 | G25: NP | H25: NP | I25: 0.35600617 | J25: 0.31788333 | K25: 0.5911777
A26: Total | B26: 1.5788436 | C26: 1.5620159 | D26: 1.1416315 | E26: 1.4949438 | F26: 1.5716304 | G26: 1.3279001 | H26: 1.4408266 | I26: 1.4218147 | J26: 1.3283267 | K26: 1.51378

Sheet Table 6.3
A1: ='Cover page'!$A$38 -> Table 6.3. Fatalities (count) by Demographics (Age group and Sex), 10 years (financial) to 2024-25
A2: Return to Cover page
A4: Top_10_Fin_Year_Indicator | B4: TRUE
A6: Fatalities (count)
B7: 2015-16 | C7: 2016-17 | D7: 2017-18 | E7: 2018-19 | F7: 2019-20 | G7: 2020-21 | H7: 2021-22 | I7: 2022-23 | J7: 2023-24 | K7: 2024-25
A8: Under 25 | B8: 17 | C8: 18 | D8: 15 | E8: 19 | F8: 13 | G8: 9 | H8: 15 | I8: 22 | J8: 22 | K8: 14
A9: Male | B9: 15 | C9: 13 | D9: 13 | E9: 18 | F9: 10 | G9: 9 | H9: 14 | I9: 21 | J9: 20 | K9: 12
A10: Female | B10: 2 | C10: 5 | D10: 2 | E10: 1 | F10: 3 | G10: 0 | H10: 1 | I10: 1 | J10: 2 | K10: 2
A11: 25-34 | B11: 41 | C11: 29 | D11: 33 | E11: 30 | F11: 24 | G11: 22 | H11: 32 | I11: 29 | J11: 41 | K11: 38
A12: Male | B12: 36 | C12: 28 | D12: 31 | E12: 29 | F12: 22 | G12: 21 | H12: 31 | I12: 27 | J12: 40 | K12: 38
A13: Female | B13: 5 | C13: 1 | D13: 2 | E13: 1 | F13: 2 | G13: 1 | H13: 1 | I13: 2 | J13: 1 | K13: 0
A14: 35-44 | B14: 30 | C14: 28 | D14: 26 | E14: 31 | F14: 35 | G14: 29 | H14: 32 | I14: 31 | J14: 24 | K14: 23
A15: Male | B15: 26 | C15: 28 | D15: 25 | E15: 30 | F15: 34 | G15: 27 | H15: 28 | I15: 27 | J15: 23 | K15: 19
A16: Female | B16: 4 | C16: 0 | D16: 1 | E16: 1 | F16: 1 | G16: 2 | H16: 4 | I16: 4 | J16: 1 | K16: 4
A17: 45-54 | B17: 39 | C17: 41 | D17: 33 | E17: 35 | F17: 33 | G17: 31 | H17: 39 | I17: 33 | J17: 26 | K17: 33
