Workbook

Sheet Cover page
A1: =_xlfn.CONCAT("Safe Work Australia – National Dataset for Compensation Based Statistics detailed data file ",$A$5) -> Safe Work Australia – National Dataset for Compensation Based Statistics detailed data file 2024-25
A5: 2024-25
A6: Published
A7: 46304
A9: Reference information:
A10: Workers’ compensation About data page [Link 1]
A11: Australian and New Zealand Standard Industrial Classification (ANZSIC) [Link 2]
A12: Australian and New Zealand Standard Classification of Occupations (ANZSCO) [Link 3]
A13: Type of Occurrence Classification System (TOOCS) 3rd Edition [Link 4]
A15: Contents
A16: NDS by Industry
A17: =_xlfn.CONCAT("Table 1.1. Claims (count) by Industry (ANZSIC subdivision), 10 years to"," ",$A$5) -> Table 1.1. Claims (count) by Industry (ANZSIC subdivision), 10 years to 2024-25 | B17: Link
A18: =_xlfn.CONCAT("Table 1.2. Claims (frequency rate) by Industry (ANZSIC subdivision), 10 years to"," ",$A$5) -> Table 1.2. Claims (frequency rate) by Industry (ANZSIC subdivision), 10 years to 2024-25 | B18: Link
A19: =_xlfn.CONCAT("Table 1.3. Claims (incidence rate) by Industry (ANZSIC subdivision), 10 years to"," ",$A$5) -> Table 1.3. Claims (incidence rate) by Industry (ANZSIC subdivision), 10 years to 2024-25 | B19: Link
A20: =_xlfn.CONCAT("Table 1.4. Claims (median compensation) by Industry (ANZSIC subdivision), 10 years to"," ",$A$5) -> Table 1.4. Claims (median compensation) by Industry (ANZSIC subdivision), 10 years to 2024-25 | B20: Link
A21: =_xlfn.CONCAT("Table 1.5. Claims (median time lost) by Industry (ANZSIC subdivision), 10 years to"," ",$A$5) -> Table 1.5. Claims (median time lost) by Industry (ANZSIC subdivision), 10 years to 2024-25 | B21: Link
A22: NDS by Occupation
A23: =_xlfn.CONCAT("Table 2.1. Claims (count) by Occupation (ANZSCO Sub major group), 10 years to"," ",$A$5) -> Table 2.1. Claims (count) by Occupation (ANZSCO Sub major group), 10 years to 2024-25 | B23: Link
A24: =_xlfn.CONCAT("Table 2.2. Claims (frequency rate) by Occupation (ANZSCO Sub major group), 10 years to"," ",$A$5) -> Table 2.2. Claims (frequency rate) by Occupation (ANZSCO Sub major group), 10 years to 2024-25 | B24: Link
A25: =_xlfn.CONCAT("Table 2.3. Claims (incidence rate) by Occupation (ANZSCO Sub major group), 10 years to"," ",$A$5) -> Table 2.3. Claims (incidence rate) by Occupation (ANZSCO Sub major group), 10 years to 2024-25 | B25: Link
A26: =_xlfn.CONCAT("Table 2.4. Claims (median compensation) by Occupation (ANZSCO Sub major group), 10 years to"," ",$A$5) -> Table 2.4. Claims (median compensation) by Occupation (ANZSCO Sub major group), 10 years to 2024-25 | B26: Link
A27: =_xlfn.CONCAT("Table 2.5. Claims (median time lost) by Occupation (ANZSCO Sub major group), 10 years to"," ",$A$5) -> Table 2.5. Claims (median time lost) by Occupation (ANZSCO Sub major group), 10 years to 2024-25 | B27: Link
A28: NDS by Nature of Injury or Disease
A29: =_xlfn.CONCAT("Table 3.1. Claims (count) by Nature (TOOCS Sub major group), 10 years to"," ",$A$5) -> Table 3.1. Claims (count) by Nature (TOOCS Sub major group), 10 years to 2024-25 | B29: Link
A30: =_xlfn.CONCAT("Table 3.2. Claims (median compensation) by Nature (TOOCS Sub major group), 10 years to"," ",$A$5) -> Table 3.2. Claims (median compensation) by Nature (TOOCS Sub major group), 10 years to 2024-25 | B30: Link
A31: =_xlfn.CONCAT("Table 3.3. Claims (median time lost) by Nature (TOOCS Sub major group), 10 years to"," ",$A$5) -> Table 3.3. Claims (median time lost) by Nature (TOOCS Sub major group), 10 years to 2024-25 | B31: Link
A32: NDS by Mechanism of Incident
A33: =_xlfn.CONCAT("Table 4.1. Claims (count) by Mechanism (TOOCS Sub major group), 10 years to"," ",$A$5) -> Table 4.1. Claims (count) by Mechanism (TOOCS Sub major group), 10 years to 2024-25 | B33: Link
A34: =_xlfn.CONCAT("Table 4.2. Claims (median compensation) by Mechanism (TOOCS Sub major group), 10 years to"," ",$A$5) -> Table 4.2. Claims (median compensation) by Mechanism (TOOCS Sub major group), 10 years to 2024-25 | B34: Link
A35: =_xlfn.CONCAT("Table 4.3. Claims (median time lost) by Mechanism (TOOCS Sub major group), 10 years to"," ",$A$5) -> Table 4.3. Claims (median time lost) by Mechanism (TOOCS Sub major group), 10 years to 2024-25 | B35: Link
A36: NDS by Bodily Location of Injury or Disease
A37: =_xlfn.CONCAT("Table 5.1. Claims (count) by Bodily location (TOOCS Sub major group), 10 years to"," ",$A$5) -> Table 5.1. Claims (count) by Bodily location (TOOCS Sub major group), 10 years to 2024-25 | B37: Link
A38: =_xlfn.CONCAT("Table 5.2. Claims (median compensation) by Bodily location (TOOCS Sub major group), 10 years to"," ",$A$5) -> Table 5.2. Claims (median compensation) by Bodily location (TOOCS Sub major group), 10 years to 2024-25 | B38: Link
A39: =_xlfn.CONCAT("Table 5.3. Claims (median time lost) by Bodily location (TOOCS Sub major group), 10 years to"," ",$A$5) -> Table 5.3. Claims (median time lost) by Bodily location (TOOCS Sub major group), 10 years to 2024-25 | B39: Link
A40: NDS by Agency of Injury or Disease
A41: =_xlfn.CONCAT("Table 6.1. Claims (count) by Agency (TOOCS Sub major group), 10 years to"," ",$A$5) -> Table 6.1. Claims (count) by Agency (TOOCS Sub major group), 10 years to 2024-25 | B41: Link
A42: =_xlfn.CONCAT("Table 6.2. Claims (median compensation) by Agency (TOOCS Sub major group), 10 years to"," ",$A$5) -> Table 6.2. Claims (median compensation) by Agency (TOOCS Sub major group), 10 years to 2024-25 | B42: Link
A43: =_xlfn.CONCAT("Table 6.3. Claims (median time lost) by Agency (TOOCS Sub major group), 10 years to"," ",$A$5) -> Table 6.3. Claims (median time lost) by Agency (TOOCS Sub major group), 10 years to 2024-25 | B43: Link
A44: NDS by Breakdown Agency of Injury or Disease
A45: =_xlfn.CONCAT("Table 7.1. Claims (count) by Breakdown agency (TOOCS Sub major group), 10 years to"," ",$A$5) -> Table 7.1. Claims (count) by Breakdown agency (TOOCS Sub major group), 10 years to 2024-25 | B45: Link
...

Sheet Table 1.1
A1: ='Cover page'!$A$17 -> Table 1.1. Claims (count) by Industry (ANZSIC subdivision), 10 years to 2024-25
A2: Return to Cover page
A3: Time period scope restriction | B3: TRUE
A4: ClaimType_Label | B4: Serious claims
A6: Claims (count)
B7: 2015-16 | C7: 2016-17 | D7: 2017-18 | E7: 2018-19 | F7: 2019-20 | G7: 2020-21 | H7: 2021-22 | I7: 2022-23 | J7: 2023-24 | K7: 2024-25p
A8: A Agriculture, forestry and fishing | B8: 3547 | C8: 3632 | D8: 3570 | E8: 3646 | F8: 3893 | G8: 4237 | H8: 4050 | I8: 3933 | J8: 3924 | K8: 3654
A9: A0 Agriculture, forestry and fishing, nfd | B9: NP | C9: NP | D9: NP | E9: NP | F9: NP | G9: NP | H9: NP | I9: NP | J9: NP | K9: NP
A10: 01 Agriculture | B10: 2779 | C10: 2801 | D10: 2760 | E10: 2739 | F10: 2961 | G10: 3137 | H10: 2980 | I10: 2887 | J10: 2940 | K10: 2775
A11: 02 Aquaculture | B11: 60 | C11: 77 | D11: 71 | E11: 100 | F11: 82 | G11: 102 | H11: 97 | I11: 123 | J11: 139 | K11: 127
A12: 03 Forestry and logging | B12: 125 | C12: 144 | D12: 147 | E12: 145 | F12: 149 | G12: 161 | H12: 157 | I12: 136 | J12: 148 | K12: 116
A13: 04 Fishing, hunting and trapping | B13: 36 | C13: 53 | D13: 48 | E13: 43 | F13: 57 | G13: 54 | H13: 48 | I13: 63 | J13: 33 | K13: 61
A14: 05 Agriculture, forestry and fishing support services | B14: 547 | C14: 557 | D14: 544 | E14: 619 | F14: 644 | G14: 783 | H14: 768 | I14: 724 | J14: 664 | K14: 575
A15: B Mining | B15: 2174 | C15: 2162 | D15: 2345 | E15: 2647 | F15: 2680 | G15: 2964 | H15: 2928 | I15: 3279 | J15: 3470 | K15: 3201
A16: B0 Mining, nfd | B16: NP | C16: NP | D16: NP | E16: NP | F16: NP | G16: NP | H16: NP | I16: NP | J16: NP | K16: NP
A17: 06 Coal mining | B17: 603 | C17: 591 | D17: 569 | E17: 694 | F17: 707 | G17: 715 | H17: 616 | I17: 726 | J17: 753 | K17: 511
A18: 07 Oil and gas extraction | B18: 53 | C18: 42 | D18: 57 | E18: 46 | F18: 58 | G18: 42 | H18: 48 | I18: 43 | J18: 61 | K18: 67
A19: 08 Metal ore mining | B19: 724 | C19: 630 | D19: 708 | E19: 794 | F19: 797 | G19: 884 | H19: 944 | I19: 1126 | J19: 1196 | K19: 1129
A20: 09 Non-metallic mineral mining and quarrying | B20: 242 | C20: 243 | D20: 267 | E20: 264 | F20: 258 | G20: 279 | H20: 273 | I20: 291 | J20: 374 | K20: 328
A21: 10 Exploration and other mining support services | B21: 552 | C21: 656 | D21: 744 | E21: 849 | F21: 860 | G21: 1044 | H21: 1047 | I21: 1093 | J21: 1086 | K21: 1166
A22: C Manufacturing | B22: 12502 | C22: 12560 | D22: 12807 | E22: 13544 | F22: 14055 | G22: 14680 | H22: 14583 | I22: 14678 | J22: 15241 | K22: 14154
A23: C0 Manufacturing, nfd | B23: NP | C23: NP | D23: NP | E23: NP | F23: NP | G23: NP | H23: NP | I23: NP | J23: NP | K23: NP
A24: 11 Food product manufacturing | B24: 3126 | C24: 3059 | D24: 3013 | E24: 3306 | F24: 3307 | G24: 3708 | H24: 3676 | I24: 3821 | J24: 3945 | K24: 3558
A25: 12 Beverage and tobacco product manufacturing | B25: 293 | C25: 267 | D25: 295 | E25: 282 | F25: 266 | G25: 309 | H25: 293 | I25: 334 | J25: 330 | K25: 321
A26: 13 Textile, leather, clothing and footwear manufacturing | B26: 187 | C26: 176 | D26: 196 | E26: 238 | F26: 220 | G26: 257 | H26: 223 | I26: 242 | J26: 268 | K26: 209
A27: 14 Wood product manufacturing | B27: 1193 | C27: 1160 | D27: 1175 | E27: 1278 | F27: 1319 | G27: 1372 | H27: 1355 | I27: 1291 | J27: 1386 | K27: 1250
A28: 15 Pulp, paper and converted paper product manufacturing | B28: 191 | C28: 188 | D28: 190 | E28: 207 | F28: 225 | G28: 169 | H28: 176 | I28: 168 | J28: 178 | K28: 127
A29: 16 Printing (including the reproduction of recorded media) | B29: 257 | C29: 246 | D29: 246 | E29: 223 | F29: 225 | G29: 187 | H29: 181 | I29: 182 | J29: 177 | K29: 158
A30: 17 Petroleum and coal product manufacturing | B30: 41 | C30: 38 | D30: 40 | E30: 44 | F30: 41 | G30: 40 | H30: 31 | I30: 33 | J30: 45 | K30: 54
A31: 18 Basic chemical and chemical product manufacturing | B31: 405 | C31: 443 | D31: 416 | E31: 482 | F31: 543 | G31: 577 | H31: 505 | I31: 525 | J31: 537 | K31: 545
A32: 19 Polymer product and rubber product manufacturing | B32: 481 | C32: 448 | D32: 510 | E32: 516 | F32: 612 | G32: 606 | H32: 540 | I32: 519 | J32: 565 | K32: 490
A33: 20 Non-metallic mineral product manufacturing | B33: 841 | C33: 936 | D33: 851 | E33: 996 | F33: 1006 | G33: 946 | H33: 1050 | I33: 963 | J33: 1000 | K33: 929
A34: 21 Primary metal and metal product manufacturing | B34: 371 | C34: 432 | D34: 467 | E34: 442 | F34: 514 | G34: 521 | H34: 530 | I34: 495 | J34: 521 | K34: 501
A35: 22 Fabricated metal product manufacturing | B35: 2091 | C35: 2215 | D35: 2435 | E35: 2383 | F35: 2570 | G35: 2585 | H35: 2609 | I35: 2583 | J35: 2634 | K35: 2463
... A39: D Electricity, gas, water and waste services | B39: 1106 | C39: 1171 | D39: 1122 | E39: 1258 | F39: 1174 | G39: 1356 | H39: 1337 | I39: 1544 | J39: 1569 | K39: 1517
A40: D0 Electricity, gas, water and waste services, nfd | B40: NP | C40: NP | D40: NP | E40: NP | F40: NP | G40: NP | H40: NP | I40: NP | J40: NP | K40: NP
A41: 26 Electricity supply | B41: 250 | C41: 267 | D41: 289 | E41: 300 | F41: 269 | G41: 285 | H41: 299 | I41: 356 | J41: 401 | K41: 377
A42: 27 Gas supply | B42: 14 | C42: 23 | D42: 11 | E42: 9 | F42: 16 | G42: 31 | H42: 17 | I42: 26 | J42: 10 | K42: 18
A43: 28 Water supply, sewerage and drainage services | B43: 163 | C43: 164 | D43: 134 | E43: 173 | F43: 115 | G43: 138 | H43: 130 | I43: 166 | J43: 182 | K43: 168
A44: 29 Waste collection, treatment and disposal services | B44: 679 | C44: 717 | D44: 688 | E44: 776 | F44: 774 | G44: 902 | H44: 891 | I44: 996 | J44: 976 | K44: 954
...

Sheet Table 1.2
A1: ='Cover page'!$A$18 -> Table 1.2. Claims (frequency rate) by Industry (ANZSIC subdivision), 10 years to 2024-25
A2: Return to Cover page
A3: Time period scope restriction | B3: TRUE
A4: ClaimType_Label | B4: Serious claims
A6: Claims (frequency rate)
B7: 2015-16 | C7: 2016-17 | D7: 2017-18 | E7: 2018-19 | F7: 2019-20 | G7: 2020-21 | H7: 2021-22 | I7: 2022-23 | J7: 2023-24 | K7: 2024-25p
A8: A Agriculture, forestry and fishing | B8: 9.1327931 | C8: 9.3700745 | D8: 8.6553103 | E8: 9.4316118 | F8: 9.3858443 | G8: 11.227363 | H8: 10.977449 | I8: 11.346306 | J8: 10.272579 | K8: 9.6372541
A9: A0 Agriculture, forestry and fishing, nfd | B9: NP | C9: NP | D9: NP | E9: NP | F9: NP | G9: NP | H9: NP | I9: NP | J9: NP | K9: NP
A10: 01 Agriculture | B10: 8.4243425 | C10: 9.3550945 | D10: 8.3617515 | E10: 8.6007725 | F10: 8.4050997 | G10: 9.8846749 | H10: 9.9887565 | I10: 10.46736 | J10: 9.3208894 | K10: 8.8851969
A11: 02 Aquaculture | B11: 6.3218456 | C11: 6.0215421 | D11: 4.1421654 | E11: 9.0332476 | F11: 7.3904678 | G11: 11.272901 | H11: 7.5249853 | I11: 18.049078 | J11: 14.561878 | K11: 18.039053
A12: 03 Forestry and logging | B12: 11.297089 | C12: 8.2321631 | D12: 8.630798 | E12: 11.813639 | F12: 10.583083 | G12: 14.766217 | H12: 13.002306 | I12: 14.688094 | J12: 13.971049 | K12: 10.088742
A13: 04 Fishing, hunting and trapping | B13: 6.5559871 | C13: 5.6507442 | D13: 6.9404434 | E13: 5.5774946 | F13: 9.6578418 | G13: 6.5328333 | H13: 15.517465 | I13: 15.517457 | J13: 5.926996 | K13: 29.295046
A14: 05 Agriculture, forestry and fishing support services | B14: 17.750987 | C14: 12.305612 | D14: 13.403486 | E14: 16.761455 | F14: 20.885895 | G14: 24.844572 | H14: 18.233872 | I14: 14.412517 | J14: 16.303513 | K14: 12.48357
A15: B Mining | B15: 4.3677536 | C15: 4.5392061 | D15: 4.7061631 | E15: 4.9850701 | F15: 5.2338484 | G15: 5.2275449 | H15: 6.796003 | I15: 7.140192 | J15: 7.0354885 | K15: 6.2465634
A16: B0 Mining, nfd | B16: NP | C16: NP | D16: NP | E16: NP | F16: NP | G16: NP | H16: NP | I16: NP | J16: NP | K16: NP
A17: 06 Coal mining | B17: 6.8870621 | C17: 6.44229 | D17: 5.3919508 | E17: 6.5015081 | F17: 7.261881 | G17: 6.6906953 | H17: 10.420119 | I17: 11.402482 | J17: 9.8164832 | K17: 6.9924582
A18: 07 Oil and gas extraction | B18: 0.91562431 | C18: 1.0167118 | D18: 0.90528804 | E18: 0.83619429 | F18: 1.0079058 | G18: 0.85115125 | H18: 1.5431315 | I18: 1.3286294 | J18: 2.2512823 | K18: 2.0941054
A19: 08 Metal ore mining | B19: 4.8084963 | C19: 3.8048033 | D19: 4.1744315 | E19: 3.583757 | F19: 3.3142884 | G19: 3.4437246 | H19: 4.5338697 | I19: 5.2665248 | J19: 5.2089033 | K19: 4.8487567
A20: 09 Non-metallic mineral mining and quarrying | B20: 9.3143125 | C20: 13.581507 | D20: 9.5535981 | E20: 7.2956005 | F20: 10.35379 | G20: 10.264106 | H20: 14.115339 | I20: 13.092232 | J20: 11.978275 | K20: 12.745625
A21: 10 Exploration and other mining support services | B21: 4.2466441 | C21: 5.0444949 | D21: 6.238508 | E21: 7.9809562 | F21: 9.4343331 | G21: 8.3292267 | H21: 9.5270083 | I21: 8.8033495 | J21: 8.6224901 | K21: 8.095306
A22: C Manufacturing | B22: 8.1773523 | C22: 7.8504553 | D22: 7.9932539 | E22: 8.4596634 | F22: 9.0999376 | G22: 9.659623 | H22: 9.9105314 | I22: 9.6177727 | J22: 9.6866092 | K22: 9.4144836
A23: C0 Manufacturing, nfd | B23: NP | C23: NP | D23: NP | E23: NP | F23: NP | G23: NP | H23: NP | I23: NP | J23: NP | K23: NP
A24: 11 Food product manufacturing | B24: 9.9135055 | C24: 9.2737443 | D24: 9.027016 | E24: 9.4083908 | F24: 9.767706 | G24: 11.539908 | H24: 11.24888 | I24: 12.302522 | J24: 12.348733 | K24: 11.255499
A25: 12 Beverage and tobacco product manufacturing | B25: 5.0127707 | C25: 4.4231714 | D25: 5.403496 | E25: 4.7126601 | F25: 4.5493688 | G25: 4.9580403 | H25: 5.0782307 | I25: 4.5854793 | J25: 5.2961938 | K25: 6.7836219
A26: 13 Textile, leather, clothing and footwear manufacturing | B26: 3.5311902 | C26: 3.9947248 | D26: 3.7422336 | E26: 4.8339019 | F26: 5.3773744 | G26: 5.4717273 | H26: 5.2508883 | I26: 6.240372 | J26: 5.7487885 | K26: 4.7822914
A27: 14 Wood product manufacturing | B27: 17.387768 | C27: 16.888502 | D27: 13.571082 | E27: 17.05349 | F27: 18.331105 | G27: 19.310994 | H27: 21.720194 | I27: 21.020646 | J27: 20.801754 | K27: 21.017362
A28: 15 Pulp, paper and converted paper product manufacturing | B28: 8.211177 | C28: 6.1136331 | D28: 6.3877312 | E28: 7.097387 | F28: 6.6296845 | G28: 4.6582735 | H28: 5.1012673 | I28: 6.1853194 | J28: 5.4246866 | K28: 4.1607295
A29: 16 Printing (including the reproduction of recorded media) | B29: 4.3905869 | C29: 3.568372 | D29: 3.9920151 | E29: 3.9245624 | F29: 3.9709638 | G29: 3.7869236 | H29: 4.2484208 | I29: 3.6159795 | J29: 3.8455276 | K29: 4.2105665
A30: 17 Petroleum and coal product manufacturing | B30: 2.9646056 | C30: 3.0061347 | D30: 2.0341876 | E30: 3.3355289 | F30: 2.8594476 | G30: 3.0406112 | H30: 3.8034949 | I30: 2.6487758 | J30: 3.227795 | K30: 4.2362677
A31: 18 Basic chemical and chemical product manufacturing | B31: 4.3840519 | C31: 4.4435536 | D31: 4.1003772 | E31: 5.1264551 | F31: 5.4492555 | G31: 5.2179667 | H31: 5.6353171 | I31: 5.4654128 | J31: 5.0818104 | K31: 5.1602127
A32: 19 Polymer product and rubber product manufacturing | B32: 8.0903335 | C32: 7.1686737 | D32: 8.7056563 | E32: 7.4629774 | F32: 9.7134493 | G32: 10.531382 | H32: 10.082799 | I32: 10.002053 | J32: 12.18193 | K32: 11.115581
A33: 20 Non-metallic mineral product manufacturing | B33: 13.237975 | C33: 14.957892 | D33: 12.540162 | E33: 13.727217 | F33: 16.024554 | G33: 16.958374 | H33: 17.927763 | I33: 18.357515 | J33: 17.559717 | K33: 17.620919
A34: 21 Primary metal and metal product manufacturing | B34: 3.1376386 | C34: 3.4227749 | D34: 4.516003 | E34: 3.4842276 | F34: 3.7209096 | G34: 4.0222757 | H34: 4.5207908 | I34: 4.1775323 | J34: 3.8587429 | K34: 4.4461453
A35: 22 Fabricated metal product manufacturing | B35: 20.73134 | C35: 18.878831 | D35: 18.166389 | E35: 17.945588 | F35: 20.643956 | G35: 21.158306 | H35: 19.745302 | I35: 19.533929 | J35: 21.085459 | K35: 17.934004
... A39: D Electricity, gas, water and waste services | B39: 4.0188933 | C39: 4.4012046 | D39: 3.9257435 | E39: 4.2563929 | F39: 4.0195748 | G39: 4.7098504 | H39: 5.6271383 | I39: 6.1710525 | J39: 6.1474213 | K39: 5.6885936
A40: D0 Electricity, gas, water and waste services, nfd | B40: NP | C40: NP | D40: NP | E40: NP | F40: NP | G40: NP | H40: NP | I40: NP | J40: NP | K40: NP
A41: 26 Electricity supply | B41: 2.2247195 | C41: 2.4190965 | D41: 2.440194 | E41: 2.3052542 | F41: 2.0828283 | G41: 2.2517937 | H41: 2.8495162 | I41: 3.2654473 | J41: 3.4639578 | K41: 2.9962263
A42: 27 Gas supply | B42: 0.38556687 | C42: 0.92693102 | D42: 0.43194249 | E42: 0.45064391 | F42: 0.60719749 | G42: 1.155238 | H42: 1.011821 | I42: 1.4457403 | J42: 0.53734811 | K42: 1.0050471
A43: 28 Water supply, sewerage and drainage services | B43: 3.0231808 | C43: 3.1308064 | D43: 2.0365755 | E43: 2.9008687 | F43: 2.3150689 | G43: 2.4602975 | H43: 2.904467 | I43: 3.5602904 | J43: 3.9804588 | K43: 3.5398713
A44: 29 Waste collection, treatment and disposal services | B44: 10.094095 | C44: 9.6581816 | D44: 9.1232371 | E44: 9.0952962 | F44: 8.9073765 | G44: 11.502697 | H44: 12.672321 | I44: 13.07679 | J44: 13.008094 | K44: 12.8635
...

Sheet Table 1.3
A1: ='Cover page'!$A$19 -> Table 1.3. Claims (incidence rate) by Industry (ANZSIC subdivision), 10 years to 2024-25
A2: Return to Cover page
A3: Time period scope restriction | B3: TRUE
A4: ClaimType_Label | B4: Serious claims
A6: Claims (incidence rate)
B7: 2015-16 | C7: 2016-17 | D7: 2017-18 | E7: 2018-19 | F7: 2019-20 | G7: 2020-21 | H7: 2021-22 | I7: 2022-23 | J7: 2023-24 | K7: 2024-25p
A8: A Agriculture, forestry and fishing | B8: 17.963416 | C8: 18.435382 | D8: 16.738563 | E8: 17.593379 | F8: 18.301903 | G8: 20.587334 | H8: 20.942062 | I8: 21.132729 | J8: 19.408568 | K8: 18.356768
A9: A0 Agriculture, forestry and fishing, nfd | B9: NP | C9: NP | D9: NP | E9: NP | F9: NP | G9: NP | H9: NP | I9: NP | J9: NP | K9: NP
A10: 01 Agriculture | B10: 16.796171 | C10: 18.489192 | D10: 16.170523 | E10: 16.1776 | F10: 16.805394 | G10: 18.32389 | H10: 19.321458 | I10: 19.40353 | J10: 17.70291 | K10: 17.017743
A11: 02 Aquaculture | B11: 11.493 | C11: 10.577825 | D11: 8.1269615 | E11: 17.958247 | F11: 13.031873 | G11: 19.262928 | H11: 13.451495 | I11: 30.436664 | J11: 22.936294 | K11: 30.383437
A12: 03 Forestry and logging | B12: 21.501036 | C12: 17.8517 | D12: 19.287553 | E12: 22.315612 | F12: 22.357667 | G12: 26.18773 | H12: 25.772074 | I12: 31.579053 | J12: 27.854156 | K12: 21.083938
A13: 04 Fishing, hunting and trapping | B13: 13.026903 | C13: 11.411196 | D13: 13.353671 | E13: 9.0649269 | F13: 12.93482 | G13: 14.484919 | H13: 23.659727 | I13: 23.59025 | J13: 10.381456 | K13: 43.460412
A14: 05 Agriculture, forestry and fishing support services | B14: 31.672069 | C14: 23.02119 | D14: 24.316916 | E14: 29.495709 | F14: 34.126753 | G14: 40.491712 | H14: 32.415977 | I14: 27.668727 | J14: 30.90128 | K14: 23.129583
A15: B Mining | B15: 9.8789088 | C15: 9.9650655 | D15: 10.553959 | E15: 10.931729 | F15: 11.261504 | G15: 11.394686 | H15: 14.781288 | I15: 15.934185 | J15: 15.678238 | K15: 13.955886
A16: B0 Mining, nfd | B16: NP | C16: NP | D16: NP | E16: NP | F16: NP | G16: NP | H16: NP | I16: NP | J16: NP | K16: NP
A17: 06 Coal mining | B17: 14.383763 | C17: 13.087994 | D17: 11.138769 | E17: 13.365938 | F17: 14.751276 | G17: 14.192206 | H17: 20.903698 | I17: 23.739157 | J17: 20.737741 | K17: 15.607434
A18: 07 Oil and gas extraction | B18: 2.0897876 | C18: 2.1096612 | D18: 2.0476836 | E18: 1.8313901 | F18: 2.0210138 | G18: 1.8045184 | H18: 3.1771057 | I18: 2.8063254 | J18: 4.5219183 | K18: 4.1053345
A19: 08 Metal ore mining | B19: 11.093734 | C19: 8.7326585 | D19: 10.037769 | E19: 7.9722295 | F19: 7.3957505 | G19: 7.7133279 | H19: 10.196312 | I19: 12.049602 | J19: 11.992495 | K19: 11.112017
A20: 09 Non-metallic mineral mining and quarrying | B20: 21.481044 | C20: 29.00046 | D20: 20.541502 | E20: 17.065112 | F20: 21.106777 | G20: 22.720765 | H20: 29.048755 | I20: 29.694934 | J20: 25.508969 | K20: 27.587606
A21: 10 Exploration and other mining support services | B21: 9.8514283 | C21: 11.275655 | D21: 13.870026 | E21: 17.845733 | F21: 20.953982 | G21: 17.755501 | H21: 20.823519 | I21: 19.709784 | J21: 19.293794 | K21: 17.967179
A22: C Manufacturing | B22: 15.192888 | C22: 14.828864 | D22: 15.088571 | E22: 15.810562 | F22: 16.649 | G22: 17.75491 | H22: 18.048285 | I22: 17.729112 | J22: 17.620431 | K22: 17.222086
A23: C0 Manufacturing, nfd | B23: NP | C23: NP | D23: NP | E23: NP | F23: NP | G23: NP | H23: NP | I23: NP | J23: NP | K23: NP
A24: 11 Food product manufacturing | B24: 16.886231 | C24: 15.995338 | D24: 15.378206 | E24: 16.475415 | F24: 16.492716 | G24: 19.573099 | H24: 19.389167 | I24: 20.981691 | J24: 20.723353 | K24: 18.656358
A25: 12 Beverage and tobacco product manufacturing | B25: 8.6644214 | C25: 8.3700819 | D25: 9.8953339 | E25: 8.2904256 | F25: 8.0401967 | G25: 8.8950556 | H25: 8.5903478 | I25: 8.0898245 | J25: 9.0484914 | K25: 11.215669
A26: 13 Textile, leather, clothing and footwear manufacturing | B26: 6.1310909 | C26: 7.087379 | D26: 6.4813632 | E26: 8.2127538 | F26: 8.4075374 | G26: 8.973856 | H26: 8.184807 | I26: 10.448589 | J26: 9.6158973 | K26: 8.0993702
A27: 14 Wood product manufacturing | B27: 33.899037 | C27: 32.705416 | D27: 27.057401 | E27: 31.369856 | F27: 32.810422 | G27: 37.789129 | H27: 38.995363 | I27: 39.51239 | J27: 38.744967 | K27: 39.293156
A28: 15 Pulp, paper and converted paper product manufacturing | B28: 15.743144 | C28: 11.378427 | D28: 13.143794 | E28: 13.115206 | F28: 12.463966 | G28: 9.2651783 | H28: 10.034809 | I28: 11.6824 | J28: 9.9901154 | K28: 8.2472744
A29: 16 Printing (including the reproduction of recorded media) | B29: 7.7926868 | C29: 6.5084954 | D29: 7.3215349 | E29: 6.9691705 | F29: 7.0415043 | G29: 6.6052889 | H29: 7.1674079 | I29: 6.478133 | J29: 6.7193566 | K29: 7.1876413
A30: 17 Petroleum and coal product manufacturing | B30: 5.2598426 | C30: 6.0143832 | D30: 4.2264139 | E30: 6.2624033 | F30: 5.196713 | G30: 5.7659072 | H30: 6.5639683 | I30: 5.3884441 | J30: 5.8441118 | K30: 9.2044997
A31: 18 Basic chemical and chemical product manufacturing | B31: 8.1985253 | C31: 8.7150508 | D31: 7.970493 | E31: 9.8081647 | F31: 10.232172 | G31: 9.5826743 | H31: 10.657814 | I31: 9.9082412 | J31: 9.687694 | K31: 9.6389767
A32: 19 Polymer product and rubber product manufacturing | B32: 15.424254 | C32: 14.226798 | D32: 16.82556 | E32: 14.865629 | F32: 18.436346 | G32: 20.47996 | H32: 19.153417 | I32: 17.758288 | J32: 23.442095 | K32: 21.233407
A33: 20 Non-metallic mineral product manufacturing | B33: 26.286086 | C33: 30.761866 | D33: 26.255552 | E33: 26.682896 | F33: 30.846557 | G33: 32.147352 | H33: 35.322095 | I33: 35.586703 | J33: 34.265676 | K33: 33.045345
A34: 21 Primary metal and metal product manufacturing | B34: 6.0878296 | C34: 6.8685452 | D34: 8.9757987 | E34: 6.8426169 | F34: 7.2831201 | G34: 7.8109275 | H34: 8.865006 | I34: 8.4130171 | J34: 7.4276892 | K34: 8.467446
A35: 22 Fabricated metal product manufacturing | B35: 40.488552 | C35: 36.632722 | D35: 36.022051 | E35: 35.478846 | F35: 40.290687 | G35: 40.245873 | H35: 37.547131 | I35: 37.584709 | J35: 39.512236 | K35: 34.830321
... A39: D Electricity, gas, water and waste services | B39: 7.8580486 | C39: 8.5763461 | D39: 7.6459541 | E39: 8.154138 | F39: 7.586222 | G39: 9.1708015 | H39: 10.776697 | I39: 11.719242 | J39: 11.417082 | K39: 10.590029
A40: D0 Electricity, gas, water and waste services, nfd | B40: NP | C40: NP | D40: NP | E40: NP | F40: NP | G40: NP | H40: NP | I40: NP | J40: NP | K40: NP
A41: 26 Electricity supply | B41: 4.2267729 | C41: 4.6924544 | D41: 4.5381436 | E41: 4.4612851 | F41: 3.9679332 | G41: 4.4065736 | H41: 5.5385115 | I41: 6.2113782 | J41: 6.4673065 | K41: 5.6236381
A42: 27 Gas supply | B42: 0.8618077 | C42: 1.8350611 | D42: 0.92059692 | E42: 0.86736346 | F42: 1.207066 | G42: 2.3653701 | H42: 1.8923717 | I42: 3.2401866 | J42: 1.0504025 | K42: 2.0619642
A43: 28 Water supply, sewerage and drainage services | B43: 5.7379881 | C43: 5.7936212 | D43: 4.0063992 | E43: 5.2966567 | F43: 3.9389737 | G43: 4.5293891 | H43: 5.3137262 | I43: 6.5023242 | J43: 6.9858527 | K43: 6.229367
A44: 29 Waste collection, treatment and disposal services | B44: 19.751346 | C44: 19.573442 | D44: 18.447259 | E44: 17.823446 | F44: 17.38933 | G44: 22.771441 | H44: 24.660249 | I44: 24.463619 | J44: 24.51772 | K44: 23.954824
...

Sheet Table 1.4
A1: ='Cover page'!$A$20 -> Table 1.4. Claims (median compensation) by Industry (ANZSIC subdivision), 10 years to 2024-25
A2: Return to Cover page
A3: Time period scope restriction | B3: TRUE
A4: ClaimType_Label | B4: Serious claims
A6: Claims (median compensation paid $)
B7: 2015-16 | C7: 2016-17 | D7: 2017-18 | E7: 2018-19 | F7: 2019-20 | G7: 2020-21 | H7: 2021-22 | I7: 2022-23 | J7: 2023-24 | K7: 2024-25p
A8: A Agriculture, forestry and fishing | B8: 11508 | C8: 12753.5 | D8: 13568 | E8: 13046 | F8: 12678 | G8: 12579 | H8: 13698 | I8: 14348 | J8: 15746 | K8: NP
A9: A0 Agriculture, forestry and fishing, nfd | B9: NP | C9: NP | D9: NP | E9: NP | F9: NP | G9: NP | H9: NP | I9: NP | J9: NP | K9: NP
A10: 01 Agriculture | B10: 11329 | C10: 12319 | D10: 13087.5 | E10: 12957 | F10: 12254.5 | G10: 12488 | H10: 13489 | I10: 14378 | J10: 15305 | K10: NP
A11: 02 Aquaculture | B11: 8923 | C11: 6515 | D11: 9753 | E11: 8594 | F11: 13315.5 | G11: 10622 | H11: 17676 | I11: 13162 | J11: 14965.5 | K11: NP
A12: 03 Forestry and logging | B12: 15786 | C12: 19096.5 | D12: 15211 | E12: 17503 | F12: 17335 | G12: 13600 | H12: 15181 | I12: 11916 | J12: 19194 | K12: NP
A13: 04 Fishing, hunting and trapping | B13: 21668 | C13: 16636 | D13: 18134 | E13: 20370 | F13: 16923 | G13: 12019.5 | H13: 23849 | I13: 17165 | J13: 22604 | K13: NP
A14: 05 Agriculture, forestry and fishing support services | B14: 10942 | C14: 14554 | D14: 17478.5 | E14: 12624 | F14: 12953.5 | G14: 12657.5 | H14: 13119.5 | I14: 14141 | J14: 17226 | K14: NP
A15: B Mining | B15: 30745 | C15: 31688.5 | D15: 31901.5 | E15: 32707.5 | F15: 36039 | G15: 35060 | H15: 34624 | I15: 36465 | J15: 38538 | K15: NP
A16: B0 Mining, nfd | B16: NP | C16: NP | D16: NP | E16: NP | F16: NP | G16: NP | H16: NP | I16: NP | J16: NP | K16: NP
A17: 06 Coal mining | B17: 33608 | C17: 31739 | D17: 34809 | E17: 34103.5 | F17: 37643 | G17: 38039 | H17: 27524 | I17: 33120.5 | J17: 31220 | K17: NP
A18: 07 Oil and gas extraction | B18: 55751 | C18: 44226 | D18: 37549 | E18: 45009 | F18: 48977.5 | G18: 45212 | H18: 60943 | I18: 67485 | J18: 43682 | K18: NP
A19: 08 Metal ore mining | B19: 35154 | C19: 39149 | D19: 36599.5 | E19: 36043.5 | F19: 41204 | G19: 45655.5 | H19: 44755.5 | I19: 41302 | J19: 47167 | K19: NP
A20: 09 Non-metallic mineral mining and quarrying | B20: 14453 | C20: 19041 | D20: 16129 | E20: 21718 | F20: 20950 | G20: 16811 | H20: 24755 | I20: 28213 | J20: 29998 | K20: NP
A21: 10 Exploration and other mining support services | B21: 26788 | C21: 31659 | D21: 30463 | E21: 29183.5 | F21: 33797 | G21: 30959.5 | H21: 30824 | I21: 35166.5 | J21: 38718.5 | K21: NP
A22: C Manufacturing | B22: 13862 | C22: 14820 | D22: 15028.5 | E22: 15277.5 | F22: 16062 | G22: 16176 | H22: 16375 | I22: 17972 | J22: 18717 | K22: NP
A23: C0 Manufacturing, nfd | B23: NP | C23: NP | D23: NP | E23: NP | F23: NP | G23: NP | H23: NP | I23: NP | J23: NP | K23: NP
A24: 11 Food product manufacturing | B24: 12489.5 | C24: 14030.5 | D24: 13774 | E24: 14729.5 | F24: 14620 | G24: 15980.5 | H24: 15227 | I24: 16011 | J24: 16828 | K24: NP
A25: 12 Beverage and tobacco product manufacturing | B25: 12633 | C25: 12281 | D25: 12609 | E25: 11022.5 | F25: 11592 | G25: 15179 | H25: 12845 | I25: 16136 | J25: 17054.5 | K25: NP
A26: 13 Textile, leather, clothing and footwear manufacturing | B26: 13478 | C26: 12616 | D26: 17371.5 | E26: 24549 | F26: 17528 | G26: 21442.5 | H26: 21128 | I26: 25110 | J26: 28078 | K26: NP
A27: 14 Wood product manufacturing | B27: 11081.5 | C27: 12440 | D27: 11937 | E27: 11875 | F27: 12405 | G27: 13545.5 | H27: 14122 | I27: 15279.5 | J27: 16362 | K27: NP
A28: 15 Pulp, paper and converted paper product manufacturing | B28: 24198 | C28: 19336 | D28: 25465 | E28: 17823 | F28: 18999 | G28: 19720 | H28: 27796 | I28: 31860 | J28: 27170.5 | K28: NP
A29: 16 Printing (including the reproduction of recorded media) | B29: 17351 | C29: 14075.5 | D29: 20854.5 | E29: 16669 | F29: 26157.5 | G29: 21587 | H29: 18832 | I29: 26453 | J29: 22696 | K29: NP
A30: 17 Petroleum and coal product manufacturing | B30: 27812 | C30: 16394 | D30: 28815 | E30: 29198 | F30: 32755 | G30: 15954 | H30: 28649 | I30: 22504 | J30: 20660.5 | K30: NP
A31: 18 Basic chemical and chemical product manufacturing | B31: 14339 | C31: 19713 | D31: 20508.5 | E31: 16768 | F31: 18399 | G31: 21349 | H31: 21231.5 | I31: 21232 | J31: 24429 | K31: NP
A32: 19 Polymer product and rubber product manufacturing | B32: 16984 | C32: 16387 | D32: 17329.5 | E32: 17744 | F32: 19321 | G32: 16922 | H32: 18924 | I32: 20459 | J32: 20199 | K32: NP
A33: 20 Non-metallic mineral product manufacturing | B33: 17361 | C33: 18982 | D33: 18086 | E33: 24352 | F33: 24513 | G33: 23235 | H33: 20343 | I33: 25520.5 | J33: 23499 | K33: NP
A34: 21 Primary metal and metal product manufacturing | B34: 16547.5 | C34: 17915.5 | D34: 20329.5 | E34: 21059 | F34: 22642.5 | G34: 21931 | H34: 26472 | I34: 23741 | J34: 23703 | K34: NP
A35: 22 Fabricated metal product manufacturing | B35: 12875.5 | C35: 13677 | D35: 14305.5 | E35: 14260 | F35: 15159 | G35: 14582.5 | H35: 15589 | I35: 17161 | J35: 18405.5 | K35: NP
... A39: D Electricity, gas, water and waste services | B39: 18281 | C39: 19515 | D39: 19039 | E39: 20301.5 | F39: 21491.5 | G39: 23640 | H39: 20896.5 | I39: 20442 | J39: 23113.5 | K39: NP
A40: D0 Electricity, gas, water and waste services, nfd | B40: NP | C40: NP | D40: NP | E40: NP | F40: NP | G40: NP | H40: NP | I40: NP | J40: NP | K40: NP
A41: 26 Electricity supply | B41: 15644 | C41: 23298 | D41: 21112 | E41: 20258 | F41: 26155 | G41: 25256 | H41: 21063 | I41: 20945 | J41: 21160.5 | K41: NP
A42: 27 Gas supply | B42: 13197.5 | C42: 21614 | D42: 15067 | E42: 37511 | F42: 14710 | G42: 17899.5 | H42: 27004 | I42: 9619 | J42: 20647.5 | K42: NP
A43: 28 Water supply, sewerage and drainage services | B43: 16898.5 | C43: 15904 | D43: 17765 | E43: 22612 | F43: 20596 | G43: 27181 | H43: 27573 | I43: 24923 | J43: 22369 | K43: NP
A44: 29 Waste collection, treatment and disposal services | B44: 19783.5 | C44: 19519 | D44: 18407 | E44: 19604 | F44: 20288 | G44: 22386.5 | H44: 19699 | I44: 19749 | J44: 24199.5 | K44: NP
...

Sheet Table 1.5
A1: ='Cover page'!$A$21 -> Table 1.5. Claims (median time lost) by Industry (ANZSIC subdivision), 10 years to 2024-25
A2: Return to Cover page
A3: Time period scope restriction | B3: TRUE
A4: ClaimType_Label | B4: Serious claims
A6: Claims (median time lost weeks)
B7: 2015-16 | C7: 2016-17 | D7: 2017-18 | E7: 2018-19 | F7: 2019-20 | G7: 2020-21 | H7: 2021-22 | I7: 2022-23 | J7: 2023-24 | K7: 2024-25p
A8: A Agriculture, forestry and fishing | B8: 6 | C8: 6.695 | D8: 7 | E8: 6.4 | F8: 6.27 | G8: 6.61 | H8: 6.835 | I8: 6.43 | J8: 7 | K8: NP
A9: A0 Agriculture, forestry and fishing, nfd | B9: NP | C9: NP | D9: NP | E9: NP | F9: NP | G9: NP | H9: NP | I9: NP | J9: NP | K9: NP
A10: 01 Agriculture | B10: 6 | C10: 6.6 | D10: 6.8 | E10: 6.4 | F10: 6.2 | G10: 6.61 | H10: 6.86 | I10: 6.6 | J10: 7 | K10: NP
A11: 02 Aquaculture | B11: 4.44 | C11: 4 | D11: 5.4 | E11: 4.1 | F11: 3.95 | G11: 6.355 | H11: 8.71 | I11: 5.2 | J11: 5 | K11: NP
A12: 03 Forestry and logging | B12: 6.51 | C12: 7.605 | D12: 6.92 | E12: 8.14 | F12: 7.88 | G12: 6.21 | H12: 6.31 | I12: 5.32 | J12: 8.145 | K12: NP
A13: 04 Fishing, hunting and trapping | B13: 8.6 | C13: 9.8 | D13: 9.47 | E13: 7.79 | F13: 10 | G13: 6.985 | H13: 12.75 | I13: 8.6 | J13: 12.59 | K13: NP
A14: 05 Agriculture, forestry and fishing support services | B14: 6 | C14: 7.8 | D14: 8.59 | E14: 6.4 | F14: 6.18 | G14: 6.68 | H14: 6.18 | I14: 6.595 | J14: 6.8 | K14: NP
A15: B Mining | B15: 8.32 | C15: 9.21 | D15: 9.6 | E15: 9.64 | F15: 10.795 | G15: 10.74 | H15: 10.98 | I15: 11.29 | J15: 11.46 | K15: NP
A16: B0 Mining, nfd | B16: NP | C16: NP | D16: NP | E16: NP | F16: NP | G16: NP | H16: NP | I16: NP | J16: NP | K16: NP
A17: 06 Coal mining | B17: 9.94 | C17: 10.21 | D17: 11.57 | E17: 11.4 | F17: 11.86 | G17: 11.57 | H17: 9.205 | I17: 10.97 | J17: 10.14 | K17: NP
A18: 07 Oil and gas extraction | B18: 11.2 | C18: 10.58 | D18: 12.6 | E18: 11.1 | F18: 17.965 | G18: 15.475 | H18: 28.415 | I18: 14.79 | J18: 12 | K18: NP
A19: 08 Metal ore mining | B19: 8.75 | C19: 9.03 | D19: 9 | E19: 9.155 | F19: 10.66 | G19: 12.515 | H19: 13.43 | I19: 11.775 | J19: 12.64 | K19: NP
A20: 09 Non-metallic mineral mining and quarrying | B20: 5.835 | C20: 6.6 | D20: 6.61 | E20: 6.705 | F20: 7.805 | G20: 7 | H20: 8.8 | I20: 9.3 | J20: 12.4 | K20: NP
A21: 10 Exploration and other mining support services | B21: 7.69 | C21: 9.485 | D21: 10.19 | E21: 9.2 | F21: 10.735 | G21: 10.19 | H21: 10.19 | I21: 11.2 | J21: 11.4 | K21: NP
A22: C Manufacturing | B22: 5.8 | C22: 6.2 | D22: 6.61 | E22: 6.55 | F22: 6.61 | G22: 7 | H22: 7 | I22: 7.235 | J22: 7.22 | K22: NP
A23: C0 Manufacturing, nfd | B23: NP | C23: NP | D23: NP | E23: NP | F23: NP | G23: NP | H23: NP | I23: NP | J23: NP | K23: NP
A24: 11 Food product manufacturing | B24: 5.63 | C24: 6.56 | D24: 6.75 | E24: 7 | F24: 6.8 | G24: 7.4 | H24: 7.03 | I24: 7.61 | J24: 7.21 | K24: NP
A25: 12 Beverage and tobacco product manufacturing | B25: 5.05 | C25: 4.6 | D25: 5.6 | E25: 4.75 | F25: 4.83 | G25: 5.89 | H25: 4.94 | I25: 6.265 | J25: 6.77 | K25: NP
A26: 13 Textile, leather, clothing and footwear manufacturing | B26: 8.57 | C26: 6.48 | D26: 10 | E26: 12.515 | F26: 8.1 | G26: 11.67 | H26: 10.35 | I26: 10.105 | J26: 10.71 | K26: NP
A27: 14 Wood product manufacturing | B27: 4.8 | C27: 5 | D27: 5.6 | E27: 5.205 | F27: 5.61 | G27: 6 | H27: 6.21 | I27: 6.7 | J27: 6.48 | K27: NP
A28: 15 Pulp, paper and converted paper product manufacturing | B28: 7 | C28: 8.4 | D28: 13.51 | E28: 8.61 | F28: 6.8 | G28: 12.61 | H28: 12.82 | I28: 9.515 | J28: 8.205 | K28: NP
A29: 16 Printing (including the reproduction of recorded media) | B29: 7 | C29: 6 | D29: 7.88 | E29: 7 | F29: 13 | G29: 10.2 | H29: 7.5 | I29: 11.9 | J29: 12.6 | K29: NP
A30: 17 Petroleum and coal product manufacturing | B30: 13 | C30: 9.3 | D30: 10.66 | E30: 10 | F30: 9 | G30: 9.88 | H30: 8.39 | I30: 11.6 | J30: 11.39 | K30: NP
A31: 18 Basic chemical and chemical product manufacturing | B31: 6.13 | C31: 7.78 | D31: 8.605 | E31: 6.8 | F31: 6.8 | G31: 8.8 | H31: 7.7 | I31: 7.25 | J31: 9.6 | K31: NP
A32: 19 Polymer product and rubber product manufacturing | B32: 7.72 | C32: 8.465 | D32: 8.235 | E32: 7.67 | F32: 8 | G32: 8.215 | H32: 9.875 | I32: 8.88 | J32: 8.2 | K32: NP
A33: 20 Non-metallic mineral product manufacturing | B33: 6.76 | C33: 8 | D33: 7.8 | E33: 10.6 | F33: 10.2 | G33: 9.795 | H33: 8.65 | I33: 9.08 | J33: 9 | K33: NP
A34: 21 Primary metal and metal product manufacturing | B34: 5.2 | C34: 5.16 | D34: 6.4 | E34: 6.205 | F34: 6.83 | G34: 6.8 | H34: 8.055 | I34: 8 | J34: 8 | K34: NP
A35: 22 Fabricated metal product manufacturing | B35: 5.4 | C35: 5.98 | D35: 6.05 | E35: 6 | F35: 6 | G35: 6 | H35: 6.6 | I35: 6.61 | J35: 7.195 | K35: NP
... A39: D Electricity, gas, water and waste services | B39: 7.66 | C39: 8.59 | D39: 8.4 | E39: 7.91 | F39: 8 | G39: 8.28 | H39: 8.14 | I39: 7.6 | J39: 8.59 | K39: NP
A40: D0 Electricity, gas, water and waste services, nfd | B40: NP | C40: NP | D40: NP | E40: NP | F40: NP | G40: NP | H40: NP | I40: NP | J40: NP | K40: NP
A41: 26 Electricity supply | B41: 5.995 | C41: 9.4 | D41: 8.4 | E41: 6.565 | F41: 7.21 | G41: 8 | H41: 7 | I41: 7.4 | J41: 7.42 | K41: NP
A42: 27 Gas supply | B42: 10.3 | C42: 9.2 | D42: 3 | E42: 18 | F42: 6.63 | G42: 6.19 | H42: 9.47 | I42: 5.595 | J42: 9.5 | K42: NP
A43: 28 Water supply, sewerage and drainage services | B43: 10.21 | C43: 7.705 | D43: 7.305 | E43: 9.44 | F43: 7.35 | G43: 8.13 | H43: 7.695 | I43: 8.98 | J43: 7.89 | K43: NP
A44: 29 Waste collection, treatment and disposal services | B44: 8.2 | C44: 8.16 | D44: 8.755 | E44: 8.115 | F44: 8.96 | G44: 8.41 | H44: 8.4 | I44: 7.645 | J44: 9.2 | K44: NP
...

Sheet Table 2.1
A1: ='Cover page'!$A$23 -> Table 2.1. Claims (count) by Occupation (ANZSCO Sub major group), 10 years to 2024-25
A2: Return to Cover page
A3: Time period scope restriction | B3: TRUE
A4: ClaimType_Label | B4: Serious claims
A6: Claims (count)
B7: 2015-16 | C7: 2016-17 | D7: 2017-18 | E7: 2018-19 | F7: 2019-20 | G7: 2020-21 | H7: 2021-22 | I7: 2022-23 | J7: 2023-24 | K7: 2024-25p
A8: 1 Managers | B8: 4552 | C8: 4739 | D8: 4885 | E8: 5664 | F8: 6020 | G8: 6190 | H8: 5948 | I8: 6799 | J8: 7827 | K8: 7614
A9: 10 Managers, nfd | B9: NP | C9: NP | D9: NP | E9: NP | F9: NP | G9: NP | H9: NP | I9: NP | J9: 7 | K9: NP
A10: 11 Chief executives, general managers and legislators | B10: 603 | C10: 694 | D10: 609 | E10: 499 | F10: 678 | G10: 835 | H10: 886 | I10: 920 | J10: 1029 | K10: 921
A11: 12 Farmers and farm managers | B11: 347 | C11: 350 | D11: 382 | E11: 466 | F11: 466 | G11: 495 | H11: 469 | I11: 434 | J11: 487 | K11: 458
A12: 13 Specialist managers | B12: 2053 | C12: 2097 | D12: 2323 | E12: 2970 | F12: 3074 | G12: 3079 | H12: 2700 | I12: 3353 | J12: 3734 | K12: 3590
A13: 14 Hospitality, retail and service managers | B13: 1545 | C13: 1598 | D13: 1571 | E13: 1726 | F13: 1801 | G13: 1780 | H13: 1892 | I13: 2091 | J13: 2570 | K13: 2641
A14: 2 Professionals | B14: 9652 | C14: 10786 | D14: 10847 | E14: 12071 | F14: 12302 | G14: 14560 | H14: 14888 | I14: 17939 | J14: 17822 | K14: 17534
A15: 20 Professionals, nfd | B15: NP | C15: NP | D15: NP | E15: NP | F15: NP | G15: NP | H15: NP | I15: NP | J15: NP | K15: NP
A16: 21 Arts and media professionals | B16: 265 | C16: 259 | D16: 273 | E16: 321 | F16: 306 | G16: 317 | H16: 268 | I16: 294 | J16: 320 | K16: 339
A17: 22 Business, human resource and marketing professionals | B17: 1223 | C17: 1436 | D17: 1326 | E17: 1310 | F17: 1231 | G17: 1787 | H17: 1590 | I17: 2387 | J17: 2088 | K17: 2062
A18: 23 Design, engineering, science and transport professionals | B18: 1199 | C18: 1460 | D18: 1358 | E18: 1366 | F18: 1303 | G18: 1218 | H18: 1284 | I18: 1396 | J18: 1601 | K18: 1556
A19: 24 Education professionals | B19: 3052 | C19: 3488 | D19: 3445 | E19: 3997 | F19: 4058 | G19: 4585 | H19: 5133 | I19: 6710 | J19: 6318 | K19: 5969
A20: 25 Health professionals | B20: 3087 | C20: 3302 | D20: 3570 | E20: 4024 | F20: 4219 | G20: 5503 | H20: 5461 | I20: 5689 | J20: 5849 | K20: 6060
A21: 26 ICT professionals | B21: 144 | C21: 138 | D21: 134 | E21: 149 | F21: 177 | G21: 133 | H21: 115 | I21: 149 | J21: 175 | K21: 164
A22: 27 Legal, social and welfare professionals | B22: 681 | C22: 701 | D22: 741 | E22: 903 | F22: 1004 | G22: 1014 | H22: 1036 | I22: 1314 | J22: 1469 | K22: 1381
A23: 3 Technicians and trades workers | B23: 18530 | C23: 19253 | D23: 19344 | E23: 20586 | F23: 22090 | G23: 22424 | H23: 21477 | I23: 22886 | J23: 24950 | K23: 25756
A24: 30 Technicians and trades workers, nfd | B24: NP | C24: NP | D24: NP | E24: NP | F24: 6 | G24: NP | H24: NP | I24: NP | J24: NP | K24: 5
A25: 31 Engineering, ICT and science technicians | B25: 834 | C25: 943 | D25: 978 | E25: 1000 | F25: 983 | G25: 999 | H25: 1112 | I25: 1293 | J25: 1354 | K25: 1421
A26: 32 Automotive and engineering trades workers | B26: 4897 | C26: 4840 | D26: 4859 | E26: 5175 | F26: 5553 | G26: 5407 | H26: 5144 | I26: 5169 | J26: 5904 | K26: 5911
A27: 33 Construction trades workers | B27: 4714 | C27: 5027 | D27: 5295 | E27: 5347 | F27: 5838 | G27: 5872 | H27: 5719 | I27: 6136 | J27: 6333 | K27: 6666
A28: 34 Electrotechnology and telecommunications trades workers | B28: 1892 | C28: 2007 | D28: 2082 | E28: 2208 | F28: 2349 | G28: 2442 | H28: 2239 | I28: 2347 | J28: 2704 | K28: 2902
A29: 35 Food trades workers | B29: 2267 | C29: 2290 | D29: 2170 | E29: 2339 | F29: 2340 | G29: 2430 | H29: 2417 | I29: 2767 | J29: 2869 | K29: 2909
A30: 36 Skilled animal and horticultural workers | B30: 1858 | C30: 1852 | D30: 1794 | E30: 2015 | F30: 2327 | G30: 2498 | H30: 2453 | I30: 2570 | J30: 2868 | K30: 2900
A31: 39 Other technicians and trades workers | B31: 2065 | C31: 2293 | D31: 2164 | E31: 2499 | F31: 2694 | G31: 2773 | H31: 2390 | I31: 2601 | J31: 2916 | K31: 3042
A32: 4 Community and personal service workers | B32: 16816 | C32: 17664 | D32: 18582 | E32: 22209 | F32: 23703 | G32: 26683 | H32: 29597 | I32: 32261 | J32: 32802 | K32: 33840
A33: 40 Community and personal service workers, nfd | B33: NP | C33: NP | D33: NP | E33: NP | F33: NP | G33: NP | H33: NP | I33: NP | J33: NP | K33: NP
A34: 41 Health and welfare support workers | B34: 2719 | C34: 2831 | D34: 3096 | E34: 3945 | F34: 4233 | G34: 4662 | H34: 4822 | I34: 5203 | J34: 5897 | K34: 6046
A35: 42 Carers and aides | B35: 7004 | C35: 7723 | D35: 7786 | E35: 9079 | F35: 9879 | G35: 11942 | H35: 11008 | I35: 12509 | J35: 13523 | K35: 14526
A36: 43 Hospitality workers | B36: 1679 | C36: 1586 | D36: 1822 | E36: 1923 | F36: 1983 | G36: 2013 | H36: 2722 | I36: 2364 | J36: 2303 | K36: 2415
A37: 44 Protective service workers | B37: 4306 | C37: 4303 | D37: 4621 | E37: 5746 | F37: 6118 | G37: 6758 | H37: 9617 | I37: 10491 | J37: 9243 | K37: 8922
A38: 45 Sports and personal service workers | B38: 1108 | C38: 1221 | D38: 1257 | E38: 1516 | F38: 1490 | G38: 1307 | H38: 1428 | I38: 1694 | J38: 1836 | K38: 1931
A39: 5 Clerical and administrative workers | B39: 5077 | C39: 4853 | D39: 5242 | E39: 5536 | F39: 5666 | G39: 5918 | H39: 5234 | I39: 5722 | J39: 6269 | K39: 6026
A40: 50 Clerical and administrative workers, nfd | B40: NP | C40: NP | D40: NP | E40: NP | F40: NP | G40: NP | H40: NP | I40: NP | J40: NP | K40: NP
A41: 51 Office managers and program administrators | B41: 384 | C41: 380 | D41: 422 | E41: 457 | F41: 434 | G41: 468 | H41: 410 | I41: 464 | J41: 537 | K41: 603
...

Sheet Table 2.2
A1: ='Cover page'!$A$24 -> Table 2.2. Claims (frequency rate) by Occupation (ANZSCO Sub major group), 10 years to 2024-25
A2: Return to Cover page
A3: Time period scope restriction | B3: TRUE
A4: ClaimType_Label | B4: Serious claims
A6: Claims (frequency rate)
B7: 2015-16 | C7: 2016-17 | D7: 2017-18 | E7: 2018-19 | F7: 2019-20 | G7: 2020-21 | H7: 2021-22 | I7: 2022-23 | J7: 2023-24 | K7: 2024-25p
A8: 1 Managers | B8: 1.6292812 | C8: 1.6940987 | D8: 1.7228618 | E8: 2.035173 | F8: 2.1585437 | G8: 2.1191127 | H8: 2.0027057 | I8: 2.1240424 | J8: 2.4331906 | K8: 2.3829458
A9: 10 Managers, nfd | B9: NP | C9: NP | D9: NP | E9: NP | F9: NP | G9: NP | H9: NP | I9: NP | J9: 0.9542275 | K9: NP
A10: 11 Chief executives, general managers and legislators | B10: 2.2177105 | C10: 2.8855402 | D10: 2.942775 | E10: 2.2745762 | F10: 3.7204193 | G10: 4.0700872 | H10: 3.4477024 | I10: 3.1605353 | J10: 4.0160733 | K10: 3.6128123
A11: 12 Farmers and farm managers | B11: 2.2445867 | C11: 2.5450126 | D11: 2.4459204 | E11: 3.1490486 | F11: 2.5294599 | G11: 3.1029577 | H11: 2.9913544 | I11: 3.06717 | J11: 2.8501173 | K11: 2.6692726
A12: 13 Specialist managers | B12: 1.4848465 | C12: 1.4345111 | D12: 1.5308268 | E12: 1.9727694 | F12: 1.9364696 | G12: 1.7802264 | H12: 1.5663172 | I12: 1.8196421 | J12: 2.0113631 | K12: 1.9613848
A13: 14 Hospitality, retail and service managers | B13: 1.7632623 | C13: 1.8188856 | D13: 1.6737681 | E13: 1.9025405 | F13: 2.1625728 | G13: 2.1540222 | H13: 2.2852639 | I13: 2.2692906 | J13: 2.775722 | K13: 2.8546056
A14: 2 Professionals | B14: 2.1149217 | C14: 2.2839851 | D14: 2.1942768 | E14: 2.3855448 | F14: 2.3455373 | G14: 2.664519 | H14: 2.7252585 | I14: 3.0950956 | J14: 2.9765202 | K14: 2.8166223
A15: 20 Professionals, nfd | B15: NP | C15: NP | D15: NP | E15: NP | F15: NP | G15: NP | H15: NP | I15: NP | J15: NP | K15: NP
A16: 21 Arts and media professionals | B16: 2.2983924 | C16: 2.5023087 | D16: 2.5049314 | E16: 3.0651568 | F16: 2.6953338 | G16: 2.7260641 | H16: 2.7264779 | I16: 2.9489809 | J16: 2.8657315 | K16: 3.044156
A17: 22 Business, human resource and marketing professionals | B17: 1.0298835 | C17: 1.1736534 | D17: 1.0392927 | E17: 0.99113019 | F17: 0.93158438 | G17: 1.2738852 | H17: 1.1247713 | I17: 1.5643305 | J17: 1.2937118 | K17: 1.3342712
A18: 23 Design, engineering, science and transport professionals | B18: 1.7756838 | C18: 1.958626 | D18: 1.8010077 | E18: 1.7862468 | F18: 1.6046559 | G18: 1.4681139 | H18: 1.5990115 | I18: 1.5807093 | J18: 1.806716 | K18: 1.6544166
A19: 24 Education professionals | B19: 3.4227556 | C19: 3.7501189 | D19: 3.5288893 | E19: 4.0923237 | F19: 3.9718439 | G19: 4.4800923 | H19: 4.8757589 | I19: 6.5311445 | J19: 6.1507543 | K19: 5.1822614
A20: 25 Health professionals | B20: 3.5829546 | C20: 3.7637482 | D20: 3.8827301 | E20: 4.2795765 | F20: 4.2626975 | G20: 5.4240508 | H20: 5.3843276 | I20: 5.2057635 | J20: 5.0638001 | K20: 4.8970604
A21: 26 ICT professionals | B21: 0.31167549 | C21: 0.29682587 | D21: 0.27023172 | E21: 0.26314505 | F21: 0.30135797 | G21: 0.20718423 | H21: 0.17767433 | I21: 0.21844234 | J21: 0.2471308 | K21: 0.22614441
A22: 27 Legal, social and welfare professionals | B22: 2.0685953 | C22: 2.0317661 | D22: 1.8723776 | E22: 2.3767652 | F22: 2.5754412 | G22: 2.3429561 | H22: 2.4559241 | I22: 2.890604 | J22: 3.3041321 | K22: 2.8611466
A23: 3 Technicians and trades workers | B23: 6.6507252 | C23: 6.9861383 | D23: 6.6172218 | E23: 6.9539718 | F23: 7.7609579 | G23: 7.9167024 | H23: 8.0197222 | I23: 7.6860337 | J23: 8.2991599 | K23: 8.3420399
A24: 30 Technicians and trades workers, nfd | B24: NP | C24: NP | D24: NP | E24: NP | F24: 1.1180328 | G24: NP | H24: NP | I24: NP | J24: NP | K24: 0.46422875
A25: 31 Engineering, ICT and science technicians | B25: 1.9308918 | C25: 2.1203794 | D25: 2.1908059 | E25: 1.9856663 | F25: 2.0103561 | G25: 1.9133887 | H25: 2.2886444 | I25: 2.565445 | J25: 2.4987998 | K25: 2.5903534
A26: 32 Automotive and engineering trades workers | B26: 7.1021854 | C26: 7.6242132 | D26: 6.9243244 | E26: 7.4068885 | F26: 8.3277582 | G26: 8.0672934 | H26: 7.9210004 | I26: 7.3937936 | J26: 8.5628062 | K26: 8.3060343
A27: 33 Construction trades workers | B27: 9.3868229 | C27: 10.102296 | D27: 9.4185226 | E27: 9.538844 | F27: 11.293279 | G27: 12.0002 | H27: 12.163102 | I27: 11.304715 | J27: 11.921218 | K27: 12.230574
A28: 34 Electrotechnology and telecommunications trades workers | B28: 4.2227279 | C28: 4.6700253 | D28: 4.6779021 | E28: 4.9850561 | F28: 5.2589765 | G28: 5.4512917 | H28: 5.7957919 | I28: 5.0902999 | J28: 5.8146344 | K28: 5.8429549
A29: 35 Food trades workers | B29: 7.481078 | C29: 7.3470284 | D29: 6.4114606 | E29: 7.1152472 | F29: 7.8422962 | G29: 8.6132452 | H29: 8.3058437 | I29: 8.3092321 | J29: 8.2172015 | K29: 8.4496409
A30: 36 Skilled animal and horticultural workers | B30: 12.617864 | C30: 11.266965 | D30: 10.373308 | E30: 13.016656 | F30: 12.843277 | G30: 15.208184 | H30: 14.843788 | I30: 14.241005 | J30: 15.553907 | K30: 17.453659
A31: 39 Other technicians and trades workers | B31: 8.4649123 | C31: 8.9815887 | D31: 8.7674792 | E31: 9.3649412 | F31: 11.13308 | G31: 11.128366 | H31: 10.772116 | I31: 10.614152 | J31: 12.572889 | K31: 11.506371
A32: 4 Community and personal service workers | B32: 10.453753 | C32: 10.763206 | D32: 10.888026 | E32: 12.535588 | F32: 14.053062 | G32: 15.427139 | H32: 16.704794 | I32: 16.237484 | J32: 15.758151 | K32: 15.655799
A33: 40 Community and personal service workers, nfd | B33: NP | C33: NP | D33: NP | E33: NP | F33: NP | G33: NP | H33: NP | I33: NP | J33: NP | K33: NP
A34: 41 Health and welfare support workers | B34: 14.0323 | C34: 15.717734 | D34: 17.690645 | E34: 19.110124 | F34: 21.770927 | G34: 22.606764 | H34: 22.384002 | I34: 22.897377 | J34: 22.854766 | K34: 23.605534
A35: 42 Carers and aides | B35: 10.849934 | C35: 11.421304 | D35: 10.86194 | E35: 12.339046 | F35: 13.030211 | G35: 15.704646 | H35: 13.459943 | I35: 13.966416 | J35: 13.752238 | K35: 13.978272
A36: 43 Hospitality workers | B36: 5.1568854 | C36: 4.7834882 | D36: 5.4568977 | E36: 5.6997086 | F36: 6.9032105 | G36: 6.3838445 | H36: 9.4481221 | I36: 6.5037957 | J36: 6.4455806 | K36: 6.9616715
A37: 44 Protective service workers | B37: 17.320876 | C37: 16.756392 | D37: 17.305921 | E37: 21.335492 | F37: 23.754466 | G37: 23.944382 | H37: 32.567265 | I37: 36.806172 | J37: 32.244028 | K37: 30.467744
A38: 45 Sports and personal service workers | B38: 5.6785001 | C38: 6.2142327 | D38: 5.876165 | E38: 6.8060074 | F38: 7.8721596 | G38: 7.9012779 | H38: 9.2063654 | I38: 7.8679408 | J38: 9.356013 | K38: 8.5379973
A39: 5 Clerical and administrative workers | B39: 1.986949 | C39: 1.9248989 | D39: 2.0750025 | E39: 2.0227364 | F39: 2.115039 | G39: 2.226486 | H39: 1.9839112 | I39: 2.1225637 | J39: 2.2169078 | K39: 2.1123268
A40: 50 Clerical and administrative workers, nfd | B40: NP | C40: NP | D40: NP | E40: NP | F40: NP | G40: NP | H40: NP | I40: NP | J40: NP | K40: NP
A41: 51 Office managers and program administrators | B41: 0.78815604 | C41: 0.83617049 | D41: 0.99210619 | E41: 0.86677861 | F41: 0.82573665 | G41: 0.96417652 | H41: 0.79504409 | I41: 0.9259181 | J41: 1.0419097 | K41: 1.1121921
...

Sheet Table 2.3
A1: ='Cover page'!$A$25 -> Table 2.3. Claims (incidence rate) by Occupation (ANZSCO Sub major group), 10 years to 2024-25
A2: Return to Cover page
A3: Time period scope restriction | B3: TRUE
A4: ClaimType_Label | B4: Serious claims
A6: Claims (incidence rate)
B7: 2015-16 | C7: 2016-17 | D7: 2017-18 | E7: 2018-19 | F7: 2019-20 | G7: 2020-21 | H7: 2021-22 | I7: 2022-23 | J7: 2023-24 | K7: 2024-25p
A8: 1 Managers | B8: 3.3756356 | C8: 3.4833342 | D8: 3.5212697 | E8: 4.1161288 | F8: 4.3142423 | G8: 4.1491042 | H8: 3.8790286 | I8: 4.1141063 | J8: 4.7157448 | K8: 4.5431323
A9: 10 Managers, nfd | B9: NP | C9: NP | D9: NP | E9: NP | F9: NP | G9: NP | H9: NP | I9: NP | J9: 1.6341217 | K9: NP
A10: 11 Chief executives, general managers and legislators | B10: 4.906436 | C10: 6.3072242 | D10: 6.3351682 | E10: 4.7568085 | F10: 7.6571856 | G10: 8.2105873 | H10: 6.9700382 | I10: 6.5143834 | J10: 8.0142567 | K10: 7.0770087
A11: 12 Farmers and farm managers | B11: 5.3523599 | C11: 6.259306 | D11: 5.6236242 | E11: 6.8058504 | F11: 5.9558324 | G11: 6.6675824 | H11: 6.5659819 | I11: 6.6361504 | J11: 6.5634091 | K11: 5.9252943
A12: 13 Specialist managers | B12: 3.0716431 | C12: 2.9374462 | D12: 3.1331075 | E12: 4.005623 | F12: 3.896028 | G12: 3.541207 | H12: 3.0700773 | I12: 3.562595 | J12: 3.9292637 | K12: 3.7785541
A13: 14 Hospitality, retail and service managers | B13: 3.5136955 | C13: 3.6100982 | D13: 3.3161592 | E13: 3.7549995 | F13: 4.1078145 | G13: 3.9885401 | H13: 4.1854477 | I13: 4.1648623 | J13: 5.1136678 | K13: 5.1684115
A14: 2 Professionals | B14: 3.622286 | C14: 3.8927997 | D14: 3.7498981 | E14: 4.0380762 | F14: 3.9833972 | G14: 4.5067407 | H14: 4.5774988 | I14: 5.1715953 | J14: 4.9206532 | K14: 4.6513383
A15: 20 Professionals, nfd | B15: NP | C15: NP | D15: NP | E15: NP | F15: NP | G15: NP | H15: NP | I15: NP | J15: NP | K15: NP
A16: 21 Arts and media professionals | B16: 3.7298639 | C16: 3.8966058 | D16: 4.0287116 | E16: 4.9441684 | F16: 4.4191916 | G16: 4.2940694 | H16: 4.2553851 | I16: 4.4338196 | J16: 4.2834794 | K16: 4.7035547
A17: 22 Business, human resource and marketing professionals | B17: 1.9005113 | C17: 2.1138585 | D17: 1.9063315 | E17: 1.778282 | F17: 1.6758757 | G17: 2.2999131 | H17: 2.010463 | I17: 2.7959143 | J17: 2.3092686 | K17: 2.3297472
A18: 23 Design, engineering, science and transport professionals | B18: 3.3556118 | C18: 3.6263664 | D18: 3.3548958 | E18: 3.2615247 | F18: 2.9326519 | G18: 2.6709613 | H18: 2.8689159 | I18: 2.8920024 | J18: 3.252511 | K18: 3.0216033
A19: 24 Education professionals | B19: 5.4844355 | C19: 6.0828083 | D19: 5.6683092 | E19: 6.6125453 | F19: 6.4352924 | G19: 7.0526828 | H19: 7.7095711 | I19: 10.222398 | J19: 9.3759703 | K19: 7.9252078
A20: 25 Health professionals | B20: 5.4047534 | C20: 5.7320691 | D20: 5.870423 | E20: 6.4556219 | F20: 6.4439682 | G20: 8.1144874 | H20: 8.0820176 | I20: 7.6365568 | J20: 7.3726375 | K20: 7.2613113
A21: 26 ICT professionals | B21: 0.58839645 | C21: 0.56438801 | D21: 0.51257388 | E21: 0.49601772 | F21: 0.5689075 | G21: 0.39590397 | H21: 0.33197487 | I21: 0.40408092 | J21: 0.45565547 | K21: 0.41941342
A22: 27 Legal, social and welfare professionals | B22: 3.4751205 | C22: 3.380073 | D22: 3.1197891 | E22: 3.8087435 | F22: 4.2144612 | G22: 3.9362045 | H22: 4.044854 | I22: 4.7492117 | J22: 5.3556249 | K22: 4.6053505
A23: 3 Technicians and trades workers | B23: 12.810871 | C23: 13.291107 | D23: 12.650009 | E23: 13.201499 | F23: 14.332504 | G23: 14.546647 | H23: 14.585493 | I23: 14.497445 | J23: 15.369064 | K23: 15.534959
A24: 30 Technicians and trades workers, nfd | B24: NP | C24: NP | D24: NP | E24: NP | F24: 2.2554098 | G24: NP | H24: NP | I24: NP | J24: NP | K24: 0.73470849
A25: 31 Engineering, ICT and science technicians | B25: 3.6418357 | C25: 3.9318778 | D25: 4.0666105 | E25: 3.748731 | F25: 3.6497217 | G25: 3.534585 | H25: 4.1801526 | I25: 4.7165486 | J25: 4.5999992 | K25: 4.7255955
A26: 32 Automotive and engineering trades workers | B26: 14.806198 | C26: 15.496617 | D26: 14.32268 | E26: 15.327681 | F26: 16.698491 | G26: 16.063332 | H26: 15.866075 | I26: 15.313438 | J26: 17.416934 | K26: 17.018573
A27: 33 Construction trades workers | B27: 18.848201 | C27: 20.085782 | D27: 18.97752 | E27: 18.666964 | F27: 21.470627 | G27: 22.983581 | H27: 23.210027 | I27: 22.038094 | J27: 22.808376 | K27: 23.529839
A28: 34 Electrotechnology and telecommunications trades workers | B28: 8.4944916 | C28: 9.3028116 | D28: 9.4591948 | E28: 10.084944 | F28: 10.39808 | G28: 10.517876 | H28: 11.097035 | I28: 10.167965 | J28: 11.435398 | K28: 11.452038
A29: 35 Food trades workers | B29: 13.354679 | C29: 13.22461 | D29: 11.369934 | E29: 12.477754 | F29: 13.00414 | G29: 14.137521 | H29: 13.452075 | I29: 14.468135 | J29: 13.794008 | K29: 14.273485
A30: 36 Skilled animal and horticultural workers | B30: 20.594159 | C30: 18.223459 | D30: 16.616228 | E30: 19.55334 | F30: 20.651506 | G30: 22.790163 | H30: 22.869242 | I30: 22.520122 | J30: 24.138569 | K30: 27.073488
A31: 39 Other technicians and trades workers | B31: 14.352792 | C31: 15.670671 | D31: 14.755294 | E31: 15.913723 | F31: 18.417301 | G31: 18.580778 | H31: 16.74935 | I31: 17.798039 | J31: 20.504307 | K31: 19.565407
A32: 4 Community and personal service workers | B32: 13.399431 | C32: 13.841799 | D32: 13.88948 | E32: 16.019371 | F32: 17.585304 | G32: 19.531157 | H32: 20.965562 | I32: 20.946753 | J32: 20.061291 | K32: 19.938091
A33: 40 Community and personal service workers, nfd | B33: NP | C33: NP | D33: NP | E33: NP | F33: NP | G33: NP | H33: NP | I33: NP | J33: NP | K33: NP
A34: 41 Health and welfare support workers | B34: 20.662731 | C34: 23.584076 | D34: 26.775839 | E34: 29.018078 | F34: 32.113549 | G34: 33.025255 | H34: 33.207523 | I34: 34.152577 | J34: 34.451997 | K34: 35.503213
A35: 42 Carers and aides | B35: 13.723802 | C35: 14.398532 | D35: 13.776395 | E35: 15.616145 | F35: 16.262371 | G35: 19.811162 | H35: 16.973332 | I35: 17.936361 | J35: 17.455923 | K35: 17.670077
A36: 43 Hospitality workers | B36: 5.5673182 | C36: 5.1992396 | D36: 5.6701871 | E36: 5.959551 | F36: 6.8903333 | G36: 6.7781978 | H36: 9.0271714 | I36: 6.945757 | J36: 6.6776751 | K36: 7.1364051
A37: 44 Protective service workers | B37: 30.102982 | C37: 28.710048 | D37: 29.677695 | E37: 37.162138 | F37: 40.03678 | G37: 41.235816 | H37: 56.855189 | I37: 64.887521 | J37: 57.74043 | K37: 53.093101
A38: 45 Sports and personal service workers | B38: 6.5791372 | C38: 7.4090042 | D38: 6.9827578 | E38: 7.9059721 | F38: 8.8693968 | G38: 8.1003182 | H38: 9.6986701 | I38: 8.9988391 | J38: 9.9656057 | K38: 9.7408338
A39: 5 Clerical and administrative workers | B39: 3.0641361 | C39: 2.9386745 | D39: 3.2106244 | E39: 3.1161273 | F39: 3.2375641 | G39: 3.4126418 | H39: 3.0472274 | I39: 3.2675095 | J39: 3.4066485 | K39: 3.2594015
A40: 50 Clerical and administrative workers, nfd | B40: NP | C40: NP | D40: NP | E40: NP | F40: NP | G40: NP | H40: NP | I40: NP | J40: NP | K40: NP
A41: 51 Office managers and program administrators | B41: 1.3407354 | C41: 1.4101955 | D41: 1.676502 | E41: 1.4684611 | F41: 1.4137474 | G41: 1.6333328 | H41: 1.3432072 | I41: 1.549516 | J41: 1.7232645 | K41: 1.8465864
...

Sheet Table 2.4
A1: ='Cover page'!$A$26 -> Table 2.4. Claims (median compensation) by Occupation (ANZSCO Sub major group), 10 years to 2024-25
A2: Return to Cover page
A3: Time period scope restriction | B3: TRUE
A4: ClaimType_Label | B4: Serious claims
A6: Claims (median compensation paid $)
B7: 2015-16 | C7: 2016-17 | D7: 2017-18 | E7: 2018-19 | F7: 2019-20 | G7: 2020-21 | H7: 2021-22 | I7: 2022-23 | J7: 2023-24 | K7: 2024-25p
A8: 1 Managers | B8: 18581 | C8: 21077 | D8: 21738 | E8: 22789 | F8: 23458 | G8: 23726.5 | H8: 26363 | I8: 30976.5 | J8: 34832 | K8: NP
A9: 10 Managers, nfd | B9: NP | C9: NP | D9: NP | E9: NP | F9: NP | G9: NP | H9: NP | I9: NP | J9: 49706 | K9: NP
A10: 11 Chief executives, general managers and legislators | B10: 25153 | C10: 26622 | D10: 31074 | E10: 38950.5 | F10: 37968 | G10: 37393 | H10: 36468.5 | I10: 50021 | J10: 47940 | K10: NP
A11: 12 Farmers and farm managers | B11: 11198 | C11: 16910 | D11: 14253 | E11: 15586.5 | F11: 11865 | G11: 13039 | H11: 15348 | I11: 18267 | J11: 22455 | K11: NP
A12: 13 Specialist managers | B12: 21033.5 | C12: 23697.5 | D12: 25031 | E12: 24972.5 | F12: 25276 | G12: 24816 | H12: 33295 | I12: 37453 | J12: 41557 | K12: NP
A13: 14 Hospitality, retail and service managers | B13: 14558 | C13: 16527 | D13: 17038.5 | E13: 17801 | F13: 20165.5 | G13: 20865 | H13: 18017 | I13: 21669 | J13: 24623 | K13: NP
A14: 2 Professionals | B14: 14052.5 | C14: 15449 | D14: 16424 | E14: 17376 | F14: 18423 | G14: 19242 | H14: 15607 | I14: 16576 | J14: 22562.5 | K14: NP
A15: 20 Professionals, nfd | B15: NP | C15: NP | D15: NP | E15: NP | F15: NP | G15: NP | H15: NP | I15: NP | J15: NP | K15: NP
A16: 21 Arts and media professionals | B16: 14830 | C16: 19847 | D16: 15959 | E16: 22584 | F16: 20119 | G16: 19726 | H16: 19531.5 | I16: 24585 | J16: 24233 | K16: NP
