Workbook

Sheet Cover page
A1: =_xlfn.CONCAT("Safe Work Australia – National Dataset for Compensation Based Statistics detailed data file ",$A$5) -> Safe Work Australia – National Dataset for Compensation Based Statistics detailed data file 2024-25
A5: 2024-25
A6: Published
A7: 46304
A9: Reference information:
A10: Workers’ compensation About data page [Link 1]
A11: Australian and New Zealand Standard Industrial Classification (ANZSIC) [Link 2]
A12: Australian and New Zealand Standard Classification of Occupations (ANZSCO) [Link 3]
A13: Type of Occurrence Classification System (TOOCS) 3rd Edition [Link 4]
A15: Contents
A16: NDS by Industry
A17: =_xlfn.CONCAT("Table 1.1. Claims (count) by Industry (ANZSIC subdivision), 10 years to"," ",$A$5) -> Table 1.1. Claims (count) by Industry (ANZSIC subdivision), 10 years to 2024-25 | B17: Link
A18: =_xlfn.CONCAT("Table 1.2. Claims (frequency rate) by Industry (ANZSIC subdivision), 10 years to"," ",$A$5) -> Table 1.2. Claims (frequency rate) by Industry (ANZSIC subdivision), 10 years to 2024-25 | B18: Link
A19: =_xlfn.CONCAT("Table 1.3. Claims (incidence rate) by Industry (ANZSIC subdivision), 10 years to"," ",$A$5) -> Table 1.3. Claims (incidence rate) by Industry (ANZSIC subdivision), 10 years to 2024-25 | B19: Link
A20: =_xlfn.CONCAT("Table 1.4. Claims (median compensation) by Industry (ANZSIC subdivision), 10 years to"," ",$A$5) -> Table 1.4. Claims (median compensation) by Industry (ANZSIC subdivision), 10 years to 2024-25 | B20: Link
A21: =_xlfn.CONCAT("Table 1.5. Claims (median time lost) by Industry (ANZSIC subdivision), 10 years to"," ",$A$5) -> Table 1.5. Claims (median time lost) by Industry (ANZSIC subdivision), 10 years to 2024-25 | B21: Link
A22: NDS by Occupation
A23: =_xlfn.CONCAT("Table 2.1. Claims (count) by Occupation (ANZSCO Sub major group), 10 years to"," ",$A$5) -> Table 2.1. Claims (count) by Occupation (ANZSCO Sub major group), 10 years to 2024-25 | B23: Link
A24: =_xlfn.CONCAT("Table 2.2. Claims (frequency rate) by Occupation (ANZSCO Sub major group), 10 years to"," ",$A$5) -> Table 2.2. Claims (frequency rate) by Occupation (ANZSCO Sub major group), 10 years to 2024-25 | B24: Link
A25: =_xlfn.CONCAT("Table 2.3. Claims (incidence rate) by Occupation (ANZSCO Sub major group), 10 years to"," ",$A$5) -> Table 2.3. Claims (incidence rate) by Occupation (ANZSCO Sub major group), 10 years to 2024-25 | B25: Link
A26: =_xlfn.CONCAT("Table 2.4. Claims (median compensation) by Occupation (ANZSCO Sub major group), 10 years to"," ",$A$5) -> Table 2.4. Claims (median compensation) by Occupation (ANZSCO Sub major group), 10 years to 2024-25 | B26: Link
A27: =_xlfn.CONCAT("Table 2.5. Claims (median time lost) by Occupation (ANZSCO Sub major group), 10 years to"," ",$A$5) -> Table 2.5. Claims (median time lost) by Occupation (ANZSCO Sub major group), 10 years to 2024-25 | B27: Link
A28: NDS by Nature of Injury or Disease
A29: =_xlfn.CONCAT("Table 3.1. Claims (count) by Nature (TOOCS Sub major group), 10 years to"," ",$A$5) -> Table 3.1. Claims (count) by Nature (TOOCS Sub major group), 10 years to 2024-25 | B29: Link
A30: =_xlfn.CONCAT("Table 3.2. Claims (median compensation) by Nature (TOOCS Sub major group), 10 years to"," ",$A$5) -> Table 3.2. Claims (median compensation) by Nature (TOOCS Sub major group), 10 years to 2024-25 | B30: Link
A31: =_xlfn.CONCAT("Table 3.3. Claims (median time lost) by Nature (TOOCS Sub major group), 10 years to"," ",$A$5) -> Table 3.3. Claims (median time lost) by Nature (TOOCS Sub major group), 10 years to 2024-25 | B31: Link
A32: NDS by Mechanism of Incident
A33: =_xlfn.CONCAT("Table 4.1. Claims (count) by Mechanism (TOOCS Sub major group), 10 years to"," ",$A$5) -> Table 4.1. Claims (count) by Mechanism (TOOCS Sub major group), 10 years to 2024-25 | B33: Link
A34: =_xlfn.CONCAT("Table 4.2. Claims (median compensation) by Mechanism (TOOCS Sub major group), 10 years to"," ",$A$5) -> Table 4.2. Claims (median compensation) by Mechanism (TOOCS Sub major group), 10 years to 2024-25 | B34: Link
A35: =_xlfn.CONCAT("Table 4.3. Claims (median time lost) by Mechanism (TOOCS Sub major group), 10 years to"," ",$A$5) -> Table 4.3. Claims (median time lost) by Mechanism (TOOCS Sub major group), 10 years to 2024-25 | B35: Link
A36: NDS by Bodily Location of Injury or Disease
A37: =_xlfn.CONCAT("Table 5.1. Claims (count) by Bodily location (TOOCS Sub major group), 10 years to"," ",$A$5) -> Table 5.1. Claims (count) by Bodily location (TOOCS Sub major group), 10 years to 2024-25 | B37: Link
A38: =_xlfn.CONCAT("Table 5.2. Claims (median compensation) by Bodily location (TOOCS Sub major group), 10 years to"," ",$A$5) -> Table 5.2. Claims (median compensation) by Bodily location (TOOCS Sub major group), 10 years to 2024-25 | B38: Link
A39: =_xlfn.CONCAT("Table 5.3. Claims (median time lost) by Bodily location (TOOCS Sub major group), 10 years to"," ",$A$5) -> Table 5.3. Claims (median time lost) by Bodily location (TOOCS Sub major group), 10 years to 2024-25 | B39: Link
A40: NDS by Agency of Injury or Disease
A41: =_xlfn.CONCAT("Table 6.1. Claims (count) by Agency (TOOCS Sub major group), 10 years to"," ",$A$5) -> Table 6.1. Claims (count) by Agency (TOOCS Sub major group), 10 years to 2024-25 | B41: Link
A42: =_xlfn.CONCAT("Table 6.2. Claims (median compensation) by Agency (TOOCS Sub major group), 10 years to"," ",$A$5) -> Table 6.2. Claims (median compensation) by Agency (TOOCS Sub major group), 10 years to 2024-25 | B42: Link
A43: =_xlfn.CONCAT("Table 6.3. Claims (median time lost) by Agency (TOOCS Sub major group), 10 years to"," ",$A$5) -> Table 6.3. Claims (median time lost) by Agency (TOOCS Sub major group), 10 years to 2024-25 | B43: Link
A44: NDS by Breakdown Agency of Injury or Disease
A45: =_xlfn.CONCAT("Table 7.1. Claims (count) by Breakdown agency (TOOCS Sub major group), 10 years to"," ",$A$5) -> Table 7.1. Claims (count) by Breakdown agency (TOOCS Sub major group), 10 years to 2024-25 | B45: Link
A46: =_xlfn.CONCAT("Table 7.2. Claims (median compensation) by Breakdown agency (TOOCS Sub major group), 10 years to"," ",$A$5) -> Table 7.2. Claims (median compensation) by Breakdown agency (TOOCS Sub major group), 10 years to 2024-25 | B46: Link
A47: =_xlfn.CONCAT("Table 7.3. Claims (median time lost) by Breakdown agency (TOOCS Sub major group), 10 years to"," ",$A$5) -> Table 7.3. Claims (median time lost) by Breakdown agency (TOOCS Sub major group), 10 years to 2024-25 | B47: Link
A48: NDS by Demographic Characteristics
A49: =_xlfn.CONCAT("Table 8.1. Claims (count) by Demographics (Age group and Sex), 10 years to"," ",$A$5) -> Table 8.1. Claims (count) by Demographics (Age group and Sex), 10 years to 2024-25 | B49: Link
A50: =_xlfn.CONCAT("Table 8.2. Claims (frequency rate) by Demographics (Age group and Sex), 10 years to"," ",$A$5) -> Table 8.2. Claims (frequency rate) by Demographics (Age group and Sex), 10 years to 2024-25 | B50: Link
A51: =_xlfn.CONCAT("Table 8.3. Claims (incidence rate) by Demographics (Age group and Sex), 10 years to"," ",$A$5) -> Table 8.3. Claims (incidence rate) by Demographics (Age group and Sex), 10 years to 2024-25 | B51: Link
A52: =_xlfn.CONCAT("Table 8.4. Claims (median compensation) by Demographics (Age group and Sex), 10 years to"," ",$A$5) -> Table 8.4. Claims (median compensation) by Demographics (Age group and Sex), 10 years to 2024-25 | B52: Link
A53: =_xlfn.CONCAT("Table 8.5. Claims (median time lost) by Demographics (Age group and Sex), 10 years to"," ",$A$5) -> Table 8.5. Claims (median time lost) by Demographics (Age group and Sex), 10 years to 2024-25 | B53: Link
A54: NDS by Location
A55: =_xlfn.CONCAT("Table 9.1. Claims (count) by Location (Jurisdiction), 10 years to"," ",$A$5) -> Table 9.1. Claims (count) by Location (Jurisdiction), 10 years to 2024-25 | B55: Link
A56: =_xlfn.CONCAT("Table 9.2. Claims (frequency rate) by Location (Jurisdiction), 10 years to"," ",$A$5) -> Table 9.2. Claims (frequency rate) by Location (Jurisdiction), 10 years to 2024-25 | B56: Link
A57: =_xlfn.CONCAT("Table 9.3. Claims (incidence rate) by Location (Jurisdiction), 10 years to"," ",$A$5) -> Table 9.3. Claims (incidence rate) by Location (Jurisdiction), 10 years to 2024-25 | B57: Link
A58: =_xlfn.CONCAT("Table 9.4. Claims (median compensation) by Location (Jurisdiction), 10 years to"," ",$A$5) -> Table 9.4. Claims (median compensation) by Location (Jurisdiction), 10 years to 2024-25 | B58: Link
A59: =_xlfn.CONCAT("Table 9.5. Claims (median time lost) by Location (Jurisdiction), 10 years to"," ",$A$5) -> Table 9.5. Claims (median time lost) by Location (Jurisdiction), 10 years to 2024-25 | B59: Link

Sheet Table 1.1
A1: ='Cover page'!$A$17 -> Table 1.1. Claims (count) by Industry (ANZSIC subdivision), 10 years to 2024-25
A2: Return to Cover page
A3: Time period scope restriction | B3: TRUE
A4: ClaimType_Label | B4: Serious claims
A6: Claims (count)
B7: 2015-16 | C7: 2016-17 | D7: 2017-18 | E7: 2018-19 | F7: 2019-20 | G7: 2020-21 | H7: 2021-22 | I7: 2022-23 | J7: 2023-24 | K7: 2024-25p
A8: A Agriculture, forestry and fishing | B8: 3547 | C8: 3632 | D8: 3570 | E8: 3646 | F8: 3893 | G8: 4237 | H8: 4050 | I8: 3933 | J8: 3924 | K8: 3654
A9: A0 Agriculture, forestry and fishing, nfd | B9: NP | C9: NP | D9: NP | E9: NP | F9: NP | G9: NP | H9: NP | I9: NP | J9: NP | K9: NP
A10: 01 Agriculture | B10: 2779 | C10: 2801 | D10: 2760 | E10: 2739 | F10: 2961 | G10: 3137 | H10: 2980 | I10: 2887 | J10: 2940 | K10: 2775
A11: 02 Aquaculture | B11: 60 | C11: 77 | D11: 71 | E11: 100 | F11: 82 | G11: 102 | H11: 97 | I11: 123 | J11: 139 | K11: 127
A12: 03 Forestry and logging | B12: 125 | C12: 144 | D12: 147 | E12: 145 | F12: 149 | G12: 161 | H12: 157 | I12: 136 | J12: 148 | K12: 116
A13: 04 Fishing, hunting and trapping | B13: 36 | C13: 53 | D13: 48 | E13: 43 | F13: 57 | G13: 54 | H13: 48 | I13: 63 | J13: 33 | K13: 61
A14: 05 Agriculture, forestry and fishing support services | B14: 547 | C14: 557 | D14: 544 | E14: 619 | F14: 644 | G14: 783 | H14: 768 | I14: 724 | J14: 664 | K14: 575
A15: B Mining | B15: 2174 | C15: 2162 | D15: 2345 | E15: 2647 | F15: 2680 | G15: 2964 | H15: 2928 | I15: 3279 | J15: 3470 | K15: 3201
A16: B0 Mining, nfd | B16: NP | C16: NP | D16: NP | E16: NP | F16: NP | G16: NP | H16: NP | I16: NP | J16: NP | K16: NP
A17: 06 Coal mining | B17: 603 | C17: 591 | D17: 569 | E17: 694 | F17: 707 | G17: 715 | H17: 616 | I17: 726 | J17: 753 | K17: 511
A18: 07 Oil and gas extraction | B18: 53 | C18: 42 | D18: 57 | E18: 46 | F18: 58 | G18: 42 | H18: 48 | I18: 43 | J18: 61 | K18: 67
A19: 08 Metal ore mining | B19: 724 | C19: 630 | D19: 708 | E19: 794 | F19: 797 | G19: 884 | H19: 944 | I19: 1126 | J19: 1196 | K19: 1129
A20: 09 Non-metallic mineral mining and quarrying | B20: 242 | C20: 243 | D20: 267 | E20: 264 | F20: 258 | G20: 279 | H20: 273 | I20: 291 | J20: 374 | K20: 328
A21: 10 Exploration and other mining support services | B21: 552 | C21: 656 | D21: 744 | E21: 849 | F21: 860 | G21: 1044 | H21: 1047 | I21: 1093 | J21: 1086 | K21: 1166
A22: C Manufacturing | B22: 12502 | C22: 12560 | D22: 12807 | E22: 13544 | F22: 14055 | G22: 14680 | H22: 14583 | I22: 14678 | J22: 15241 | K22: 14154
A23: C0 Manufacturing, nfd | B23: NP | C23: NP | D23: NP | E23: NP | F23: NP | G23: NP | H23: NP | I23: NP | J23: NP | K23: NP
A24: 11 Food product manufacturing | B24: 3126 | C24: 3059 | D24: 3013 | E24: 3306 | F24: 3307 | G24: 3708 | H24: 3676 | I24: 3821 | J24: 3945 | K24: 3558
A25: 12 Beverage and tobacco product manufacturing | B25: 293 | C25: 267 | D25: 295 | E25: 282 | F25: 266 | G25: 309 | H25: 293 | I25: 334 | J25: 330 | K25: 321
A26: 13 Textile, leather, clothing and footwear manufacturing | B26: 187 | C26: 176 | D26: 196 | E26: 238 | F26: 220 | G26: 257 | H26: 223 | I26: 242 | J26: 268 | K26: 209
A27: 14 Wood product manufacturing | B27: 1193 | C27: 1160 | D27: 1175 | E27: 1278 | F27: 1319 | G27: 1372 | H27: 1355 | I27: 1291 | J27: 1386 | K27: 1250
A28: 15 Pulp, paper and converted paper product manufacturing | B28: 191 | C28: 188 | D28: 190 | E28: 207 | F28: 225 | G28: 169 | H28: 176 | I28: 168 | J28: 178 | K28: 127
A29: 16 Printing (including the reproduction of recorded media) | B29: 257 | C29: 246 | D29: 246 | E29: 223 | F29: 225 | G29: 187 | H29: 181 | I29: 182 | J29: 177 | K29: 158
A30: 17 Petroleum and coal product manufacturing | B30: 41 | C30: 38 | D30: 40 | E30: 44 | F30: 41 | G30: 40 | H30: 31 | I30: 33 | J30: 45 | K30: 54
A31: 18 Basic chemical and chemical product manufacturing | B31: 405 | C31: 443 | D31: 416 | E31: 482 | F31: 543 | G31: 577 | H31: 505 | I31: 525 | J31: 537 | K31: 545
A32: 19 Polymer product and rubber product manufacturing | B32: 481 | C32: 448 | D32: 510 | E32: 516 | F32: 612 | G32: 606 | H32: 540 | I32: 519 | J32: 565 | K32: 490
A33: 20 Non-metallic mineral product manufacturing | B33: 841 | C33: 936 | D33: 851 | E33: 996 | F33: 1006 | G33: 946 | H33: 1050 | I33: 963 | J33: 1000 | K33: 929
A34: 21 Primary metal and metal product manufacturing | B34: 371 | C34: 432 | D34: 467 | E34: 442 | F34: 514 | G34: 521 | H34: 530 | I34: 495 | J34: 521 | K34: 501
A35: 22 Fabricated metal product manufacturing | B35: 2091 | C35: 2215 | D35: 2435 | E35: 2383 | F35: 2570 | G35: 2585 | H35: 2609 | I35: 2583 | J35: 2634 | K35: 2463
... A39: D Electricity, gas, water and waste services | B39: 1106 | C39: 1171 | D39: 1122 | E39: 1258 | F39: 1174 | G39: 1356 | H39: 1337 | I39: 1544 | J39: 1569 | K39: 1517
A40: D0 Electricity, gas, water and waste services, nfd | B40: NP | C40: NP | D40: NP | E40: NP | F40: NP | G40: NP | H40: NP | I40: NP | J40: NP | K40: NP
A41: 26 Electricity supply | B41: 250 | C41: 267 | D41: 289 | E41: 300 | F41: 269 | G41: 285 | H41: 299 | I41: 356 | J41: 401 | K41: 377
A42: 27 Gas supply | B42: 14 | C42: 23 | D42: 11 | E42: 9 | F42: 16 | G42: 31 | H42: 17 | I42: 26 | J42: 10 | K42: 18
A43: 28 Water supply, sewerage and drainage services | B43: 163 | C43: 164 | D43: 134 | E43: 173 | F43: 115 | G43: 138 | H43: 130 | I43: 166 | J43: 182 | K43: 168
A44: 29 Waste collection, treatment and disposal services | B44: 679 | C44: 717 | D44: 688 | E44: 776 | F44: 774 | G44: 902 | H44: 891 | I44: 996 | J44: 976 | K44: 954
A45: E Construction | B45: 12754 | C45: 12966 | D45: 13836 | E45: 14434 | F45: 15447 | G45: 16069 | H45: 16100 | I45: 17185 | J45: 17877 | K45: 17167
A46: E0 Construction, nfd | B46: NP | C46: NP | D46: NP | E46: NP | F46: NP | G46: NP | H46: NP | I46: NP | J46: NP | K46: NP
A47: 30 Building construction | B47: 2432 | C47: 2591 | D47: 2789 | E47: 2940 | F47: 3125 | G47: 3354 | H47: 3471 | I47: 3613 | J47: 3784 | K47: 3571
A48: 31 Heavy and civil engineering construction | B48: 1853 | C48: 1621 | D48: 1762 | E48: 1872 | F48: 1839 | G48: 1870 | H48: 1863 | I48: 2114 | J48: 2221 | K48: 2022
A49: 32 Construction services | B49: 8469 | C49: 8754 | D49: 9285 | E49: 9622 | F49: 10483 | G49: 10845 | H49: 10766 | I49: 11458 | J49: 11872 | K49: 11574
A50: F Wholesale trade | B50: 4357 | C50: 4259 | D50: 4596 | E50: 4990 | F50: 5133 | G50: 5336 | H50: 4974 | I50: 5262 | J50: 5413 | K50: 5310
A51: F0 Wholesale trade, nfd | B51: NP | C51: NP | D51: NP | E51: NP | F51: NP | G51: NP | H51: NP | I51: NP | J51: NP | K51: NP
A52: 33 Basic material wholesaling | B52: 1081 | C52: 1174 | D52: 1245 | E52: 1282 | F52: 1509 | G52: 1435 | H52: 1208 | I52: 1355 | J52: 1373 | K52: 1308
A53: 34 Machinery and equipment wholesaling | B53: 1023 | C53: 955 | D53: 1108 | E53: 1200 | F53: 1256 | G53: 1273 | H53: 1216 | I53: 1245 | J53: 1437 | K53: 1438
A54: 35 Motor vehicle and motor vehicle parts wholesaling | B54: 379 | C54: 384 | D54: 368 | E54: 448 | F54: 510 | G54: 464 | H54: 443 | I54: 443 | J54: 437 | K54: 462
A55: 36 Grocery, liquor and tobacco product wholesaling | B55: 1063 | C55: 977 | D55: 1022 | E55: 1146 | F55: 1039 | G55: 1252 | H55: 1340 | I55: 1345 | J55: 1212 | K55: 1193
A56: 37 Other goods wholesaling | B56: 738 | C56: 699 | D56: 765 | E56: 833 | F56: 733 | G56: 827 | H56: 685 | I56: 782 | J56: 830 | K56: 814
A57: 38 Commission-based wholesaling | B57: 73 | C57: 70 | D57: 88 | E57: 81 | F57: 86 | G57: 85 | H57: 82 | I57: 92 | J57: 124 | K57: 95
A58: G Retail trade | B58: 8279 | C58: 7966 | D58: 7995 | E58: 8441 | F58: 8563 | G58: 8999 | H58: 9557 | I58: 9932 | J58: 10325 | K58: 10245
A59: G0 Retail trade, nfd | B59: NP | C59: NP | D59: NP | E59: NP | F59: NP | G59: NP | H59: NP | I59: NP | J59: NP | K59: NP
A60: 39 Motor vehicle and motor vehicle parts retailing | B60: 1058 | C60: 1093 | D60: 1125 | E60: 1128 | F60: 1060 | G60: 1106 | H60: 995 | I60: 1079 | J60: 1191 | K60: 1172
A61: 40 Fuel retailing | B61: 206 | C61: 206 | D61: 238 | E61: 264 | F61: 343 | G61: 373 | H61: 297 | I61: 351 | J61: 272 | K61: 343
A62: 41 Food retailing | B62: 3575 | C62: 3122 | D62: 3154 | E62: 3265 | F62: 3305 | G62: 3574 | H62: 4397 | I62: 3872 | J62: 3886 | K62: 4076
A63: 42 Other store-based retailing | B63: 3363 | C63: 3481 | D63: 3417 | E63: 3721 | F63: 3771 | G63: 3833 | H63: 3695 | I63: 4439 | J63: 4750 | K63: 4455
A64: 43 Non-store retailing and retail commission-based buying and/or selling | B64: 77 | C64: 64 | D64: 61 | E64: 63 | F64: 84 | G64: 113 | H64: 173 | I64: 191 | J64: 226 | K64: 199
A65: H Accommodation and food services | B65: 6020 | C65: 5967 | D65: 5912 | E65: 6284 | F65: 6288 | G65: 6924 | H65: 7284 | I65: 7647 | J65: 8059 | K65: 7674
A66: H0 Accommodation and food services, nfd | B66: NP | C66: NP | D66: NP | E66: NP | F66: NP | G66: NP | H66: NP | I66: NP | J66: NP | K66: NP
A67: 44 Accommodation | B67: 1389 | C67: 1378 | D67: 1364 | E67: 1412 | F67: 1408 | G67: 1381 | H67: 1392 | I67: 1598 | J67: 1782 | K67: 1618
A68: 45 Food and beverage services | B68: 4631 | C68: 4589 | D68: 4548 | E68: 4872 | F68: 4880 | G68: 5543 | H68: 5892 | I68: 6049 | J68: 6277 | K68: 6056
A69: I Transport, postal and warehousing | B69: 8215 | C69: 8414 | D69: 8710 | E69: 9072 | F69: 9265 | G69: 9253 | H69: 9927 | I69: 10738 | J69: 10873 | K69: 10559
A70: I0 Transport, postal and warehousing, nfd | B70: NP | C70: NP | D70: NP | E70: NP | F70: NP | G70: NP | H70: NP | I70: NP | J70: NP | K70: NP
A71: 46 Road transport | B71: 4060 | C71: 4156 | D71: 4213 | E71: 4294 | F71: 4329 | G71: 4453 | H71: 4636 | I71: 4638 | J71: 4470 | K71: 4310
A72: 47 Rail transport | B72: 420 | C72: 512 | D72: 549 | E72: 580 | F72: 510 | G72: 626 | H72: 871 | I72: 1018 | J72: 992 | K72: 973
A73: 48 Water transport | B73: 148 | C73: 139 | D73: 164 | E73: 156 | F73: 174 | G73: 164 | H73: 176 | I73: 179 | J73: 192 | K73: 177
A74: 49 Air and space transport | B74: 574 | C74: 557 | D74: 541 | E74: 582 | F74: 551 | G74: 211 | H74: 270 | I74: 499 | J74: 459 | K74: 568
A75: 50 Other transport | B75: 384 | C75: 305 | D75: 354 | E75: 270 | F75: 211 | G75: 245 | H75: 209 | I75: 237 | J75: 277 | K75: 292
A76: 51 Postal and courier pick-up and delivery services | B76: 972 | C76: 1019 | D76: 1033 | E76: 1174 | F76: 1308 | G76: 1492 | H76: 1518 | I76: 1478 | J76: 1577 | K76: 1530
A77: 52 Transport support services | B77: 1055 | C77: 1139 | D77: 1222 | E77: 1298 | F77: 1438 | G77: 1272 | H77: 1274 | I77: 1632 | J77: 1862 | K77: 1674
A78: 53 Warehousing and storage services | B78: 602 | C78: 587 | D78: 634 | E78: 718 | F78: 744 | G78: 790 | H78: 973 | I78: 1057 | J78: 1044 | K78: 1035
A79: J Information media and telecommunications | B79: 537 | C79: 546 | D79: 485 | E79: 487 | F79: 493 | G79: 577 | H79: 639 | I79: 627 | J79: 584 | K79: 665
A80: J0 Information media and telecommunications, nfd | B80: NP | C80: NP | D80: NP | E80: NP | F80: NP | G80: NP | H80: NP | I80: NP | J80: NP | K80: NP
A81: 54 Publishing (except internet and music publishing) | B81: 96 | C81: 92 | D81: 91 | E81: 66 | F81: 91 | G81: 67 | H81: 53 | I81: 62 | J81: 58 | K81: 53
A82: 55 Motion picture and sound recording activities | B82: 114 | C82: 159 | D82: 107 | E82: 142 | F82: 130 | G82: 246 | H82: 344 | I82: 260 | J82: 167 | K82: 252
A83: 56 Broadcasting (except internet) | B83: 78 | C83: 63 | D83: 55 | E83: 61 | F83: 59 | G83: 66 | H83: 38 | I83: 41 | J83: 48 | K83: 53
A84: 57 Internet publishing and broadcasting | B84: NP | C84: NP | D84: NP | E84: NP | F84: 5 | G84: NP | H84: NP | I84: NP | J84: NP | K84: NP
A85: 58 Telecommunications services | B85: 171 | C85: 154 | D85: 160 | E85: 144 | F85: 137 | G85: 134 | H85: 134 | I85: 141 | J85: 162 | K85: 146
A86: 59 Internet service providers, web search portals and data processing services | B86: 33 | C86: 43 | D86: 32 | E86: 29 | F86: 43 | G86: 31 | H86: 31 | I86: 36 | J86: 50 | K86: 29
A87: 60 Library and other information services | B87: 43 | C87: 33 | D87: 37 | E87: 44 | F87: 28 | G87: 32 | H87: 38 | I87: 85 | J87: 97 | K87: 128
A88: K Financial and insurance services | B88: 613 | C88: 575 | D88: 679 | E88: 702 | F88: 726 | G88: 623 | H88: 529 | I88: 615 | J88: 791 | K88: 781
A89: K0 Financial and insurance services, nfd | B89: NP | C89: NP | D89: NP | E89: NP | F89: NP | G89: NP | H89: NP | I89: NP | J89: NP | K89: NP
A90: 62 Finance | B90: 282 | C90: 266 | D90: 297 | E90: 322 | F90: 309 | G90: 255 | H90: 223 | I90: 222 | J90: 257 | K90: 271
A91: 63 Insurance and superannuation funds | B91: 171 | C91: 188 | D91: 224 | E91: 202 | F91: 205 | G91: 204 | H91: 175 | I91: 207 | J91: 313 | K91: 274
A92: 64 Auxiliary finance and insurance services | B92: 160 | C92: 121 | D92: 158 | E92: 178 | F92: 212 | G92: 164 | H92: 131 | I92: 186 | J92: 221 | K92: 236
A93: L Rental, hiring and real estate services | B93: 953 | C93: 968 | D93: 1038 | E93: 1094 | F93: 1149 | G93: 1125 | H93: 1212 | I93: 1358 | J93: 1445 | K93: 1495
A94: L0 Rental, hiring and real estate services, nfd | B94: NP | C94: NP | D94: NP | E94: NP | F94: NP | G94: NP | H94: NP | I94: NP | J94: NP | K94: NP
A95: 66 Rental and hiring services (except real estate) | B95: 551 | C95: 539 | D95: 546 | E95: 561 | F95: 639 | G95: 611 | H95: 644 | I95: 736 | J95: 795 | K95: 859
A96: 67 Property operators and real estate services | B96: 402 | C96: 429 | D96: 492 | E96: 533 | F96: 510 | G96: 514 | H96: 568 | I96: 622 | J96: 650 | K96: 636
A97: M Professional, scientific and technical services | B97: 1657 | C97: 1735 | D97: 1917 | E97: 2179 | F97: 2292 | G97: 2316 | H97: 2057 | I97: 2488 | J97: 2692 | K97: 2706
A98: M0 Professional, scientific and technical services, nfd | B98: NP | C98: NP | D98: NP | E98: NP | F98: NP | G98: NP | H98: NP | I98: NP | J98: NP | K98: NP
A99: 69 Professional, scientific and technical services (except computer system design and related services) | B99: 1525 | C99: 1605 | D99: 1774 | E99: 1988 | F99: 2053 | G99: 2140 | H99: 1923 | I99: 2297 | J99: 2490 | K99: 2492
A100: 70 Computer system design and related services | B100: 132 | C100: 130 | D100: 143 | E100: 191 | F100: 239 | G100: 176 | H100: 134 | I100: 191 | J100: 202 | K100: 214
A101: N Administrative and support services | B101: 4137 | C101: 4571 | D101: 4859 | E101: 5195 | F101: 4974 | G101: 5219 | H101: 5007 | I101: 5516 | J101: 5991 | K101: 5815
A102: N0 Administrative and support services, nfd | B102: NP | C102: NP | D102: NP | E102: NP | F102: NP | G102: NP | H102: NP | I102: NP | J102: NP | K102: NP
A103: 72 Administrative services | B103: 2154 | C103: 2487 | D103: 2671 | E103: 2689 | F103: 2472 | G103: 2550 | H103: 2429 | I103: 2641 | J103: 3115 | K103: 2958
A104: 73 Building cleaning, pest control and other support services | B104: 1983 | C104: 2084 | D104: 2188 | E104: 2506 | F104: 2502 | G104: 2669 | H104: 2578 | I104: 2875 | J104: 2876 | K104: 2857
...

Sheet Table 1.2
A1: ='Cover page'!$A$18 -> Table 1.2. Claims (frequency rate) by Industry (ANZSIC subdivision), 10 years to 2024-25
A2: Return to Cover page
A3: Time period scope restriction | B3: TRUE
A4: ClaimType_Label | B4: Serious claims
A6: Claims (frequency rate)
B7: 2015-16 | C7: 2016-17 | D7: 2017-18 | E7: 2018-19 | F7: 2019-20 | G7: 2020-21 | H7: 2021-22 | I7: 2022-23 | J7: 2023-24 | K7: 2024-25p
A8: A Agriculture, forestry and fishing | B8: 9.1327931 | C8: 9.3700745 | D8: 8.6553103 | E8: 9.4316118 | F8: 9.3858443 | G8: 11.227363 | H8: 10.977449 | I8: 11.346306 | J8: 10.272579 | K8: 9.6372541
A9: A0 Agriculture, forestry and fishing, nfd | B9: NP | C9: NP | D9: NP | E9: NP | F9: NP | G9: NP | H9: NP | I9: NP | J9: NP | K9: NP
A10: 01 Agriculture | B10: 8.4243425 | C10: 9.3550945 | D10: 8.3617515 | E10: 8.6007725 | F10: 8.4050997 | G10: 9.8846749 | H10: 9.9887565 | I10: 10.46736 | J10: 9.3208894 | K10: 8.8851969
A11: 02 Aquaculture | B11: 6.3218456 | C11: 6.0215421 | D11: 4.1421654 | E11: 9.0332476 | F11: 7.3904678 | G11: 11.272901 | H11: 7.5249853 | I11: 18.049078 | J11: 14.561878 | K11: 18.039053
A12: 03 Forestry and logging | B12: 11.297089 | C12: 8.2321631 | D12: 8.630798 | E12: 11.813639 | F12: 10.583083 | G12: 14.766217 | H12: 13.002306 | I12: 14.688094 | J12: 13.971049 | K12: 10.088742
A13: 04 Fishing, hunting and trapping | B13: 6.5559871 | C13: 5.6507442 | D13: 6.9404434 | E13: 5.5774946 | F13: 9.6578418 | G13: 6.5328333 | H13: 15.517465 | I13: 15.517457 | J13: 5.926996 | K13: 29.295046
A14: 05 Agriculture, forestry and fishing support services | B14: 17.750987 | C14: 12.305612 | D14: 13.403486 | E14: 16.761455 | F14: 20.885895 | G14: 24.844572 | H14: 18.233872 | I14: 14.412517 | J14: 16.303513 | K14: 12.48357
A15: B Mining | B15: 4.3677536 | C15: 4.5392061 | D15: 4.7061631 | E15: 4.9850701 | F15: 5.2338484 | G15: 5.2275449 | H15: 6.796003 | I15: 7.140192 | J15: 7.0354885 | K15: 6.2465634
A16: B0 Mining, nfd | B16: NP | C16: NP | D16: NP | E16: NP | F16: NP | G16: NP | H16: NP | I16: NP | J16: NP | K16: NP
A17: 06 Coal mining | B17: 6.8870621 | C17: 6.44229 | D17: 5.3919508 | E17: 6.5015081 | F17: 7.261881 | G17: 6.6906953 | H17: 10.420119 | I17: 11.402482 | J17: 9.8164832 | K17: 6.9924582
A18: 07 Oil and gas extraction | B18: 0.91562431 | C18: 1.0167118 | D18: 0.90528804 | E18: 0.83619429 | F18: 1.0079058 | G18: 0.85115125 | H18: 1.5431315 | I18: 1.3286294 | J18: 2.2512823 | K18: 2.0941054
A19: 08 Metal ore mining | B19: 4.8084963 | C19: 3.8048033 | D19: 4.1744315 | E19: 3.583757 | F19: 3.3142884 | G19: 3.4437246 | H19: 4.5338697 | I19: 5.2665248 | J19: 5.2089033 | K19: 4.8487567
A20: 09 Non-metallic mineral mining and quarrying | B20: 9.3143125 | C20: 13.581507 | D20: 9.5535981 | E20: 7.2956005 | F20: 10.35379 | G20: 10.264106 | H20: 14.115339 | I20: 13.092232 | J20: 11.978275 | K20: 12.745625
A21: 10 Exploration and other mining support services | B21: 4.2466441 | C21: 5.0444949 | D21: 6.238508 | E21: 7.9809562 | F21: 9.4343331 | G21: 8.3292267 | H21: 9.5270083 | I21: 8.8033495 | J21: 8.6224901 | K21: 8.095306
A22: C Manufacturing | B22: 8.1773523 | C22: 7.8504553 | D22: 7.9932539 | E22: 8.4596634 | F22: 9.0999376 | G22: 9.659623 | H22: 9.9105314 | I22: 9.6177727 | J22: 9.6866092 | K22: 9.4144836
A23: C0 Manufacturing, nfd | B23: NP | C23: NP | D23: NP | E23: NP | F23: NP | G23: NP | H23: NP | I23: NP | J23: NP | K23: NP
A24: 11 Food product manufacturing | B24: 9.9135055 | C24: 9.2737443 | D24: 9.027016 | E24: 9.4083908 | F24: 9.767706 | G24: 11.539908 | H24: 11.24888 | I24: 12.302522 | J24: 12.348733 | K24: 11.255499
A25: 12 Beverage and tobacco product manufacturing | B25: 5.0127707 | C25: 4.4231714 | D25: 5.403496 | E25: 4.7126601 | F25: 4.5493688 | G25: 4.9580403 | H25: 5.0782307 | I25: 4.5854793 | J25: 5.2961938 | K25: 6.7836219
A26: 13 Textile, leather, clothing and footwear manufacturing | B26: 3.5311902 | C26: 3.9947248 | D26: 3.7422336 | E26: 4.8339019 | F26: 5.3773744 | G26: 5.4717273 | H26: 5.2508883 | I26: 6.240372 | J26: 5.7487885 | K26: 4.7822914
A27: 14 Wood product manufacturing | B27: 17.387768 | C27: 16.888502 | D27: 13.571082 | E27: 17.05349 | F27: 18.331105 | G27: 19.310994 | H27: 21.720194 | I27: 21.020646 | J27: 20.801754 | K27: 21.017362
A28: 15 Pulp, paper and converted paper product manufacturing | B28: 8.211177 | C28: 6.1136331 | D28: 6.3877312 | E28: 7.097387 | F28: 6.6296845 | G28: 4.6582735 | H28: 5.1012673 | I28: 6.1853194 | J28: 5.4246866 | K28: 4.1607295
A29: 16 Printing (including the reproduction of recorded media) | B29: 4.3905869 | C29: 3.568372 | D29: 3.9920151 | E29: 3.9245624 | F29: 3.9709638 | G29: 3.7869236 | H29: 4.2484208 | I29: 3.6159795 | J29: 3.8455276 | K29: 4.2105665
A30: 17 Petroleum and coal product manufacturing | B30: 2.9646056 | C30: 3.0061347 | D30: 2.0341876 | E30: 3.3355289 | F30: 2.8594476 | G30: 3.0406112 | H30: 3.8034949 | I30: 2.6487758 | J30: 3.227795 | K30: 4.2362677
A31: 18 Basic chemical and chemical product manufacturing | B31: 4.3840519 | C31: 4.4435536 | D31: 4.1003772 | E31: 5.1264551 | F31: 5.4492555 | G31: 5.2179667 | H31: 5.6353171 | I31: 5.4654128 | J31: 5.0818104 | K31: 5.1602127
A32: 19 Polymer product and rubber product manufacturing | B32: 8.0903335 | C32: 7.1686737 | D32: 8.7056563 | E32: 7.4629774 | F32: 9.7134493 | G32: 10.531382 | H32: 10.082799 | I32: 10.002053 | J32: 12.18193 | K32: 11.115581
A33: 20 Non-metallic mineral product manufacturing | B33: 13.237975 | C33: 14.957892 | D33: 12.540162 | E33: 13.727217 | F33: 16.024554 | G33: 16.958374 | H33: 17.927763 | I33: 18.357515 | J33: 17.559717 | K33: 17.620919
A34: 21 Primary metal and metal product manufacturing | B34: 3.1376386 | C34: 3.4227749 | D34: 4.516003 | E34: 3.4842276 | F34: 3.7209096 | G34: 4.0222757 | H34: 4.5207908 | I34: 4.1775323 | J34: 3.8587429 | K34: 4.4461453
A35: 22 Fabricated metal product manufacturing | B35: 20.73134 | C35: 18.878831 | D35: 18.166389 | E35: 17.945588 | F35: 20.643956 | G35: 21.158306 | H35: 19.745302 | I35: 19.533929 | J35: 21.085459 | K35: 17.934004
... A39: D Electricity, gas, water and waste services | B39: 4.0188933 | C39: 4.4012046 | D39: 3.9257435 | E39: 4.2563929 | F39: 4.0195748 | G39: 4.7098504 | H39: 5.6271383 | I39: 6.1710525 | J39: 6.1474213 | K39: 5.6885936
A40: D0 Electricity, gas, water and waste services, nfd | B40: NP | C40: NP | D40: NP | E40: NP | F40: NP | G40: NP | H40: NP | I40: NP | J40: NP | K40: NP
A41: 26 Electricity supply | B41: 2.2247195 | C41: 2.4190965 | D41: 2.440194 | E41: 2.3052542 | F41: 2.0828283 | G41: 2.2517937 | H41: 2.8495162 | I41: 3.2654473 | J41: 3.4639578 | K41: 2.9962263
A42: 27 Gas supply | B42: 0.38556687 | C42: 0.92693102 | D42: 0.43194249 | E42: 0.45064391 | F42: 0.60719749 | G42: 1.155238 | H42: 1.011821 | I42: 1.4457403 | J42: 0.53734811 | K42: 1.0050471
A43: 28 Water supply, sewerage and drainage services | B43: 3.0231808 | C43: 3.1308064 | D43: 2.0365755 | E43: 2.9008687 | F43: 2.3150689 | G43: 2.4602975 | H43: 2.904467 | I43: 3.5602904 | J43: 3.9804588 | K43: 3.5398713
A44: 29 Waste collection, treatment and disposal services | B44: 10.094095 | C44: 9.6581816 | D44: 9.1232371 | E44: 9.0952962 | F44: 8.9073765 | G44: 11.502697 | H44: 12.672321 | I44: 13.07679 | J44: 13.008094 | K44: 12.8635
A45: E Construction | B45: 8.0386933 | C45: 7.8256797 | D45: 7.4752781 | E45: 7.7309508 | F45: 8.4030732 | G45: 8.7674655 | H45: 10.463567 | I45: 9.0843488 | J45: 9.470133 | K45: 8.7989354
A46: E0 Construction, nfd | B46: NP | C46: NP | D46: NP | E46: NP | F46: NP | G46: NP | H46: NP | I46: NP | J46: NP | K46: NP
A47: 30 Building construction | B47: 5.4684732 | C47: 5.4995697 | D47: 5.0747589 | E47: 5.0808502 | F47: 5.8125121 | G47: 5.8363021 | H47: 7.9369567 | I47: 6.7217109 | J47: 6.6720663 | K47: 5.8737657
A48: 31 Heavy and civil engineering construction | B48: 11.718408 | C48: 10.778826 | D48: 8.7014204 | E48: 8.2072353 | F48: 8.3562067 | G48: 7.6869693 | H48: 9.494447 | I48: 8.5017397 | J48: 9.3751447 | K48: 9.7354911
A49: 32 Construction services | B49: 8.914614 | C49: 8.8101249 | D49: 8.5071055 | E49: 9.0806001 | F49: 9.7094831 | G49: 10.689228 | H49: 11.95077 | I49: 10.403867 | J49: 10.997916 | K49: 10.25733
A50: F Wholesale trade | B50: 6.4571394 | C50: 6.4957319 | D50: 6.8564618 | E50: 7.0739941 | F50: 7.3675671 | G50: 8.0087155 | H50: 8.0604467 | I50: 8.2694802 | J50: 7.7944961 | K50: 8.4122676
A51: F0 Wholesale trade, nfd | B51: NP | C51: NP | D51: NP | E51: NP | F51: NP | G51: NP | H51: NP | I51: NP | J51: NP | K51: NP
A52: 33 Basic material wholesaling | B52: 6.6698328 | C52: 7.182781 | D52: 6.890227 | E52: 7.3221176 | F52: 9.0540304 | G52: 8.9291139 | H52: 7.789839 | I52: 8.6989242 | J52: 7.584891 | K52: 8.5884748
A53: 34 Machinery and equipment wholesaling | B53: 5.3646891 | C53: 5.3578584 | D53: 6.7634585 | E53: 5.546561 | F53: 5.9578928 | G53: 7.2121745 | H53: 7.1801027 | I53: 6.5294761 | J53: 6.9941925 | K53: 8.1900286
A54: 35 Motor vehicle and motor vehicle parts wholesaling | B54: 9.0535007 | C54: 9.2200631 | D54: 10.011786 | E54: 12.011636 | F54: 10.954378 | G54: 8.8860842 | H54: 10.126421 | I54: 9.2152952 | J54: 8.1546451 | K54: 10.618984
A55: 36 Grocery, liquor and tobacco product wholesaling | B55: 9.3751837 | C55: 8.6323116 | D55: 9.2892291 | E55: 9.2583705 | F55: 9.7751888 | G55: 11.683049 | H55: 12.282722 | I55: 13.95848 | J55: 11.301297 | K55: 11.052685
A56: 37 Other goods wholesaling | B56: 6.0564573 | C56: 5.9396161 | D56: 4.823423 | E56: 6.0556352 | F56: 4.8935108 | G56: 5.3673607 | H56: 5.4185408 | I56: 6.1994619 | J56: 6.2817799 | K56: 5.8503905
A57: 38 Commission-based wholesaling | B57: 5.1857939 | C57: 4.6173666 | D57: 6.1385288 | E57: 6.03905 | F57: 5.1987418 | G57: 5.6685362 | H57: 6.5584035 | I57: 4.9931121 | J57: 8.4647579 | K57: 8.7122592
A58: G Retail trade | B58: 4.751184 | C58: 4.6871437 | D58: 4.4958941 | E58: 4.8205241 | F58: 5.1260812 | G58: 5.1385846 | H58: 5.6000227 | I58: 5.4401504 | J58: 5.7202655 | K58: 5.6247009
A59: G0 Retail trade, nfd | B59: NP | C59: NP | D59: NP | E59: NP | F59: NP | G59: NP | H59: NP | I59: NP | J59: NP | K59: NP
A60: 39 Motor vehicle and motor vehicle parts retailing | B60: 5.8806258 | C60: 5.3144794 | D60: 6.002658 | E60: 5.6978535 | F60: 5.4821613 | G60: 5.858365 | H60: 5.4537244 | I60: 6.0981025 | J60: 6.9223418 | K60: 6.5780224
A61: 40 Fuel retailing | B61: 3.5548287 | C61: 3.6062866 | D61: 4.0053166 | E61: 4.6290459 | F61: 6.8556367 | G61: 7.4658185 | H61: 5.4013323 | I61: 6.4220776 | J61: 5.3494037 | K61: 5.6386918
A62: 41 Food retailing | B62: 7.0863268 | C62: 5.9591467 | D62: 5.8933053 | E62: 6.2054435 | F62: 6.7741747 | G62: 7.1419197 | H62: 8.5385813 | I62: 7.1227312 | J62: 7.5223969 | K62: 7.6939827
A63: 42 Other store-based retailing | B63: 3.7212117 | C63: 4.1383638 | D63: 3.5537417 | E63: 3.9944175 | F63: 4.1664795 | G63: 3.902886 | H63: 4.0673604 | I63: 4.4175963 | J63: 4.6781956 | K63: 4.4325762
A64: 43 Non-store retailing and retail commission-based buying and/or selling | B64: 3.6607028 | C64: 5.0164171 | D64: 2.8993784 | E64: 1.9595324 | F64: 2.6387469 | G64: 3.8679269 | H64: 4.349193 | I64: 4.2591438 | J64: 4.6028929 | K64: 4.7074515
A65: H Accommodation and food services | B65: 5.7564785 | C65: 5.4505158 | D65: 5.2056714 | E65: 5.5491066 | F65: 6.2974477 | G65: 7.0675205 | H65: 7.3339317 | I65: 6.4932157 | J65: 7.1667282 | K65: 6.5781646
A66: H0 Accommodation and food services, nfd | B66: NP | C66: NP | D66: NP | E66: NP | F66: NP | G66: NP | H66: NP | I66: NP | J66: NP | K66: NP
A67: 44 Accommodation | B67: 8.6609623 | C67: 8.2687094 | D67: 7.9734292 | E67: 8.4826493 | F67: 12.62279 | G67: 12.03567 | H67: 10.83484 | I67: 10.931039 | J67: 12.766166 | K67: 10.716478
A68: 45 Food and beverage services | B68: 5.230384 | C68: 4.9444761 | D68: 4.7148282 | E68: 5.0464536 | F68: 5.5019673 | G68: 6.4084578 | H68: 6.8148108 | I68: 5.8646522 | J68: 6.3733831 | K68: 5.9642239
A69: I Transport, postal and warehousing | B69: 7.8544686 | C69: 8.1877484 | D69: 7.9753187 | E69: 8.4638645 | F69: 9.0905303 | G69: 8.9639432 | H69: 9.8749933 | I69: 9.8028565 | J69: 9.4259871 | K69: 9.1135214
A70: I0 Transport, postal and warehousing, nfd | B70: NP | C70: NP | D70: NP | E70: NP | F70: NP | G70: NP | H70: NP | I70: NP | J70: NP | K70: NP
A71: 46 Road transport | B71: 9.507446 | C71: 9.9707671 | D71: 8.8844746 | E71: 9.3688658 | F71: 10.612684 | G71: 9.9603709 | H71: 12.053869 | I71: 11.196403 | J71: 10.141755 | K71: 9.6512812
A72: 47 Rail transport | B72: 5.1803032 | C72: 6.5779578 | D72: 6.6950066 | E72: 6.8843366 | F72: 5.4513866 | G72: 7.1568856 | H72: 11.03059 | I72: 13.743184 | J72: 10.083807 | K72: 11.116826
A73: 48 Water transport | B73: 18.279625 | C73: 11.17246 | D73: 11.667294 | E73: 12.320895 | F73: 11.367827 | G73: 10.94262 | H73: 12.547768 | I73: 13.715836 | J73: 13.443433 | K73: 10.13659
A74: 49 Air and space transport | B74: 6.9762188 | C74: 6.476331 | D74: 6.500565 | E74: 7.5788117 | F74: 8.9021461 | G74: 4.2932001 | H74: 4.6808252 | I74: 7.4968897 | J74: 6.2544776 | K74: 8.0222252
A75: 50 Other transport | B75: 11.454686 | C75: 8.3386874 | D75: 9.8876472 | E75: 7.6148226 | F75: 6.0482711 | G75: 7.1414736 | H75: 5.2863834 | I75: 5.9648421 | J75: 7.2617719 | K75: 7.9551283
A76: 51 Postal and courier pick-up and delivery services | B76: 5.4339562 | C76: 6.0765524 | D76: 5.9945023 | E76: 6.6876479 | F76: 7.5188768 | G76: 8.0954081 | H76: 8.3677418 | I76: 7.6343415 | J76: 8.4778813 | K76: 8.4592614
A77: 52 Transport support services | B77: 8.2582013 | C77: 9.0908938 | D77: 9.1597252 | E77: 10.782155 | F77: 11.857391 | G77: 12.152939 | H77: 10.535765 | I77: 11.334514 | J77: 11.523929 | K77: 10.392565
A78: 53 Warehousing and storage services | B78: 6.8236521 | C78: 6.539184 | D78: 6.8836658 | E78: 6.7864767 | F78: 6.7862338 | G78: 7.2870753 | H78: 7.7729552 | I78: 7.1010037 | J78: 7.5357898 | K78: 6.9297609
A79: J Information media and telecommunications | B79: 1.4693968 | C79: 1.4987087 | D79: 1.3006664 | E79: 1.3365199 | F79: 1.4784948 | G79: 1.79599 | H79: 2.0433335 | I79: 2.0531128 | J79: 1.9143225 | K79: 2.2354206
A80: J0 Information media and telecommunications, nfd | B80: NP | C80: NP | D80: NP | E80: NP | F80: NP | G80: NP | H80: NP | I80: NP | J80: NP | K80: NP
A81: 54 Publishing (except internet and music publishing) | B81: 2.180667 | C81: 2.6071658 | D81: 2.7409689 | E81: 2.1512529 | F81: 3.3117752 | G81: 2.6216843 | H81: 2.2050379 | I81: 2.5588852 | J81: 3.2405669 | K81: 2.4139782
A82: 55 Motion picture and sound recording activities | B82: 3.6620235 | C82: 4.8499971 | D82: 2.9033199 | E82: 4.1721855 | F82: 4.2342381 | G82: 8.2069366 | H82: 8.9799894 | I82: 8.0514762 | J82: 5.0576546 | K82: 6.6457496
A83: 56 Broadcasting (except internet) | B83: 1.6259355 | C83: 1.2092888 | D83: 1.0053115 | E83: 1.1114573 | F83: 1.1863264 | G83: 1.4408346 | H83: 0.8614218 | I83: 0.79443966 | J83: 1.0839009 | K83: 1.1269564
A84: 57 Internet publishing and broadcasting | B84: NP | C84: NP | D84: NP | E84: NP | F84: 2.8309632 | G84: NP | H84: NP | I84: NP | J84: NP | K84: NP
A85: 58 Telecommunications services | B85: 0.79680048 | C85: 0.70772717 | D85: 0.72992969 | E85: 0.66022158 | F85: 0.6964774 | G85: 0.72390008 | H85: 0.76617165 | I85: 0.85474032 | J85: 0.9391843 | K85: 0.91414386
A86: 59 Internet service providers, web search portals and data processing services | B86: 2.3063486 | C86: 3.8895821 | D86: 2.834916 | E86: 3.2311025 | F86: 3.9236413 | G86: 2.7216375 | H86: 2.1536221 | I86: 3.342965 | J86: 3.6445272 | K86: 2.3240208
A87: 60 Library and other information services | B87: 3.4074682 | C87: 2.4714076 | D87: 2.2296192 | E87: 2.8028503 | F87: 1.738643 | G87: 1.5499559 | H87: 2.3518991 | I87: 4.5806523 | J87: 4.9052163 | K87: 8.0404645
A88: K Financial and insurance services | B88: 0.7904199 | C88: 0.72373167 | D88: 0.88663222 | E88: 0.894312 | F88: 0.88179689 | G88: 0.71845972 | H88: 0.599042 | I88: 0.67054833 | J88: 0.85990559 | K88: 0.86653357
A89: K0 Financial and insurance services, nfd | B89: NP | C89: NP | D89: NP | E89: NP | F89: NP | G89: NP | H89: NP | I89: NP | J89: NP | K89: NP
A90: 62 Finance | B90: 0.67041723 | C90: 0.59871383 | D90: 0.71530077 | E90: 0.78053913 | F90: 0.75523288 | G90: 0.59035642 | H90: 0.47297798 | I90: 0.45920056 | J90: 0.53966926 | K90: 0.56654777
A91: 63 Insurance and superannuation funds | B91: 1.1892783 | C91: 1.3986478 | D91: 1.5401082 | E91: 1.3532538 | F91: 1.1951532 | G91: 1.1479026 | H91: 1.0210293 | I91: 1.2000475 | J91: 1.6776259 | K91: 1.505078
A92: 64 Auxiliary finance and insurance services | B92: 0.76640507 | C92: 0.56257967 | D92: 0.77250409 | E92: 0.79772017 | F92: 0.87432325 | G92: 0.63695517 | H92: 0.54546845 | I92: 0.71227861 | J92: 0.85985351 | K92: 0.98115444
A93: L Rental, hiring and real estate services | B93: 2.5798935 | C93: 2.650848 | D93: 2.847008 | E93: 2.984617 | F93: 3.2794736 | G93: 3.2112003 | H93: 3.3532166 | I93: 3.7647079 | J93: 4.0864713 | K93: 3.6492311
A94: L0 Rental, hiring and real estate services, nfd | B94: NP | C94: NP | D94: NP | E94: NP | F94: NP | G94: NP | H94: NP | I94: NP | J94: NP | K94: NP
A95: 66 Rental and hiring services (except real estate) | B95: 8.2757786 | C95: 7.6249677 | D95: 8.0407186 | E95: 6.7529823 | F95: 11.27425 | G95: 9.6728775 | H95: 10.876384 | I95: 11.19363 | J95: 12.416694 | K95: 13.397371
A96: 67 Property operators and real estate services | B96: 1.3275421 | C96: 1.4568184 | D96: 1.6583026 | E96: 1.8802577 | F96: 1.7392373 | G96: 1.7898807 | H96: 1.8793439 | I96: 2.1087114 | J96: 2.2446371 | K96: 1.8436465
A97: M Professional, scientific and technical services | B97: 1.0058773 | C97: 1.0386046 | D97: 1.1341763 | E97: 1.2046852 | F97: 1.2432666 | G97: 1.1953404 | H97: 1.1010285 | I97: 1.219299 | J97: 1.2980644 | K97: 1.3041266
A98: M0 Professional, scientific and technical services, nfd | B98: NP | C98: NP | D98: NP | E98: NP | F98: NP | G98: NP | H98: NP | I98: NP | J98: NP | K98: NP
A99: 69 Professional, scientific and technical services (except computer system design and related services) | B99: 1.177522 | C99: 1.2466809 | D99: 1.3988763 | E99: 1.4760144 | F99: 1.4854197 | G99: 1.5152147 | H99: 1.4119759 | I99: 1.6019954 | J99: 1.6713449 | K99: 1.6646296
A100: 70 Computer system design and related services | B100: 0.3748313 | C100: 0.3394119 | D100: 0.33891533 | E100: 0.41363217 | F100: 0.51795551 | G100: 0.33512175 | H100: 0.26470182 | I100: 0.31482831 | J100: 0.3459147 | K100: 0.37031894
A101: N Administrative and support services | B101: 5.6826511 | C101: 6.1457529 | D101: 6.7567788 | E101: 6.8892309 | F101: 6.5810756 | G101: 7.4214635 | H101: 4.1245675 | I101: 4.7208677 | J101: 5.0574112 | K101: 4.6573884
A102: N0 Administrative and support services, nfd | B102: NP | C102: NP | D102: NP | E102: NP | F102: NP | G102: NP | H102: NP | I102: NP | J102: NP | K102: NP
A103: 72 Administrative services | B103: 4.0334551 | C103: 4.5364337 | D103: 5.0264765 | E103: 4.8587396 | F103: 4.4596528 | G103: 5.2343983 | H103: 2.4169884 | I103: 2.7976223 | J103: 3.2325659 | K103: 2.8698428
A104: 73 Building cleaning, pest control and other support services | B104: 10.223134 | C104: 10.657793 | D104: 11.654198 | E104: 12.490046 | F104: 12.416857 | G104: 12.352561 | H104: 12.336357 | I104: 12.811736 | J104: 13.015495 | K104: 13.155253
...

Sheet Table 1.3
A1: ='Cover page'!$A$19 -> Table 1.3. Claims (incidence rate) by Industry (ANZSIC subdivision), 10 years to 2024-25
A2: Return to Cover page
A3: Time period scope restriction | B3: TRUE
A4: ClaimType_Label | B4: Serious claims
A6: Claims (incidence rate)
B7: 2015-16 | C7: 2016-17 | D7: 2017-18 | E7: 2018-19 | F7: 2019-20 | G7: 2020-21 | H7: 2021-22 | I7: 2022-23 | J7: 2023-24 | K7: 2024-25p
A8: A Agriculture, forestry and fishing | B8: 17.963416 | C8: 18.435382 | D8: 16.738563 | E8: 17.593379 | F8: 18.301903 | G8: 20.587334 | H8: 20.942062 | I8: 21.132729 | J8: 19.408568 | K8: 18.356768
A9: A0 Agriculture, forestry and fishing, nfd | B9: NP | C9: NP | D9: NP | E9: NP | F9: NP | G9: NP | H9: NP | I9: NP | J9: NP | K9: NP
A10: 01 Agriculture | B10: 16.796171 | C10: 18.489192 | D10: 16.170523 | E10: 16.1776 | F10: 16.805394 | G10: 18.32389 | H10: 19.321458 | I10: 19.40353 | J10: 17.70291 | K10: 17.017743
A11: 02 Aquaculture | B11: 11.493 | C11: 10.577825 | D11: 8.1269615 | E11: 17.958247 | F11: 13.031873 | G11: 19.262928 | H11: 13.451495 | I11: 30.436664 | J11: 22.936294 | K11: 30.383437
A12: 03 Forestry and logging | B12: 21.501036 | C12: 17.8517 | D12: 19.287553 | E12: 22.315612 | F12: 22.357667 | G12: 26.18773 | H12: 25.772074 | I12: 31.579053 | J12: 27.854156 | K12: 21.083938
A13: 04 Fishing, hunting and trapping | B13: 13.026903 | C13: 11.411196 | D13: 13.353671 | E13: 9.0649269 | F13: 12.93482 | G13: 14.484919 | H13: 23.659727 | I13: 23.59025 | J13: 10.381456 | K13: 43.460412
A14: 05 Agriculture, forestry and fishing support services | B14: 31.672069 | C14: 23.02119 | D14: 24.316916 | E14: 29.495709 | F14: 34.126753 | G14: 40.491712 | H14: 32.415977 | I14: 27.668727 | J14: 30.90128 | K14: 23.129583
A15: B Mining | B15: 9.8789088 | C15: 9.9650655 | D15: 10.553959 | E15: 10.931729 | F15: 11.261504 | G15: 11.394686 | H15: 14.781288 | I15: 15.934185 | J15: 15.678238 | K15: 13.955886
A16: B0 Mining, nfd | B16: NP | C16: NP | D16: NP | E16: NP | F16: NP | G16: NP | H16: NP | I16: NP | J16: NP | K16: NP
A17: 06 Coal mining | B17: 14.383763 | C17: 13.087994 | D17: 11.138769 | E17: 13.365938 | F17: 14.751276 | G17: 14.192206 | H17: 20.903698 | I17: 23.739157 | J17: 20.737741 | K17: 15.607434
A18: 07 Oil and gas extraction | B18: 2.0897876 | C18: 2.1096612 | D18: 2.0476836 | E18: 1.8313901 | F18: 2.0210138 | G18: 1.8045184 | H18: 3.1771057 | I18: 2.8063254 | J18: 4.5219183 | K18: 4.1053345
A19: 08 Metal ore mining | B19: 11.093734 | C19: 8.7326585 | D19: 10.037769 | E19: 7.9722295 | F19: 7.3957505 | G19: 7.7133279 | H19: 10.196312 | I19: 12.049602 | J19: 11.992495 | K19: 11.112017
A20: 09 Non-metallic mineral mining and quarrying | B20: 21.481044 | C20: 29.00046 | D20: 20.541502 | E20: 17.065112 | F20: 21.106777 | G20: 22.720765 | H20: 29.048755 | I20: 29.694934 | J20: 25.508969 | K20: 27.587606
A21: 10 Exploration and other mining support services | B21: 9.8514283 | C21: 11.275655 | D21: 13.870026 | E21: 17.845733 | F21: 20.953982 | G21: 17.755501 | H21: 20.823519 | I21: 19.709784 | J21: 19.293794 | K21: 17.967179
A22: C Manufacturing | B22: 15.192888 | C22: 14.828864 | D22: 15.088571 | E22: 15.810562 | F22: 16.649 | G22: 17.75491 | H22: 18.048285 | I22: 17.729112 | J22: 17.620431 | K22: 17.222086
A23: C0 Manufacturing, nfd | B23: NP | C23: NP | D23: NP | E23: NP | F23: NP | G23: NP | H23: NP | I23: NP | J23: NP | K23: NP
A24: 11 Food product manufacturing | B24: 16.886231 | C24: 15.995338 | D24: 15.378206 | E24: 16.475415 | F24: 16.492716 | G24: 19.573099 | H24: 19.389167 | I24: 20.981691 | J24: 20.723353 | K24: 18.656358
A25: 12 Beverage and tobacco product manufacturing | B25: 8.6644214 | C25: 8.3700819 | D25: 9.8953339 | E25: 8.2904256 | F25: 8.0401967 | G25: 8.8950556 | H25: 8.5903478 | I25: 8.0898245 | J25: 9.0484914 | K25: 11.215669
A26: 13 Textile, leather, clothing and footwear manufacturing | B26: 6.1310909 | C26: 7.087379 | D26: 6.4813632 | E26: 8.2127538 | F26: 8.4075374 | G26: 8.973856 | H26: 8.184807 | I26: 10.448589 | J26: 9.6158973 | K26: 8.0993702
A27: 14 Wood product manufacturing | B27: 33.899037 | C27: 32.705416 | D27: 27.057401 | E27: 31.369856 | F27: 32.810422 | G27: 37.789129 | H27: 38.995363 | I27: 39.51239 | J27: 38.744967 | K27: 39.293156
A28: 15 Pulp, paper and converted paper product manufacturing | B28: 15.743144 | C28: 11.378427 | D28: 13.143794 | E28: 13.115206 | F28: 12.463966 | G28: 9.2651783 | H28: 10.034809 | I28: 11.6824 | J28: 9.9901154 | K28: 8.2472744
A29: 16 Printing (including the reproduction of recorded media) | B29: 7.7926868 | C29: 6.5084954 | D29: 7.3215349 | E29: 6.9691705 | F29: 7.0415043 | G29: 6.6052889 | H29: 7.1674079 | I29: 6.478133 | J29: 6.7193566 | K29: 7.1876413
A30: 17 Petroleum and coal product manufacturing | B30: 5.2598426 | C30: 6.0143832 | D30: 4.2264139 | E30: 6.2624033 | F30: 5.196713 | G30: 5.7659072 | H30: 6.5639683 | I30: 5.3884441 | J30: 5.8441118 | K30: 9.2044997
A31: 18 Basic chemical and chemical product manufacturing | B31: 8.1985253 | C31: 8.7150508 | D31: 7.970493 | E31: 9.8081647 | F31: 10.232172 | G31: 9.5826743 | H31: 10.657814 | I31: 9.9082412 | J31: 9.687694 | K31: 9.6389767
A32: 19 Polymer product and rubber product manufacturing | B32: 15.424254 | C32: 14.226798 | D32: 16.82556 | E32: 14.865629 | F32: 18.436346 | G32: 20.47996 | H32: 19.153417 | I32: 17.758288 | J32: 23.442095 | K32: 21.233407
A33: 20 Non-metallic mineral product manufacturing | B33: 26.286086 | C33: 30.761866 | D33: 26.255552 | E33: 26.682896 | F33: 30.846557 | G33: 32.147352 | H33: 35.322095 | I33: 35.586703 | J33: 34.265676 | K33: 33.045345
A34: 21 Primary metal and metal product manufacturing | B34: 6.0878296 | C34: 6.8685452 | D34: 8.9757987 | E34: 6.8426169 | F34: 7.2831201 | G34: 7.8109275 | H34: 8.865006 | I34: 8.4130171 | J34: 7.4276892 | K34: 8.467446
A35: 22 Fabricated metal product manufacturing | B35: 40.488552 | C35: 36.632722 | D35: 36.022051 | E35: 35.478846 | F35: 40.290687 | G35: 40.245873 | H35: 37.547131 | I35: 37.584709 | J35: 39.512236 | K35: 34.830321
... A39: D Electricity, gas, water and waste services | B39: 7.8580486 | C39: 8.5763461 | D39: 7.6459541 | E39: 8.154138 | F39: 7.586222 | G39: 9.1708015 | H39: 10.776697 | I39: 11.719242 | J39: 11.417082 | K39: 10.590029
A40: D0 Electricity, gas, water and waste services, nfd | B40: NP | C40: NP | D40: NP | E40: NP | F40: NP | G40: NP | H40: NP | I40: NP | J40: NP | K40: NP
A41: 26 Electricity supply | B41: 4.2267729 | C41: 4.6924544 | D41: 4.5381436 | E41: 4.4612851 | F41: 3.9679332 | G41: 4.4065736 | H41: 5.5385115 | I41: 6.2113782 | J41: 6.4673065 | K41: 5.6236381
A42: 27 Gas supply | B42: 0.8618077 | C42: 1.8350611 | D42: 0.92059692 | E42: 0.86736346 | F42: 1.207066 | G42: 2.3653701 | H42: 1.8923717 | I42: 3.2401866 | J42: 1.0504025 | K42: 2.0619642
A43: 28 Water supply, sewerage and drainage services | B43: 5.7379881 | C43: 5.7936212 | D43: 4.0063992 | E43: 5.2966567 | F43: 3.9389737 | G43: 4.5293891 | H43: 5.3137262 | I43: 6.5023242 | J43: 6.9858527 | K43: 6.229367
A44: 29 Waste collection, treatment and disposal services | B44: 19.751346 | C44: 19.573442 | D44: 18.447259 | E44: 17.823446 | F44: 17.38933 | G44: 22.771441 | H44: 24.660249 | I44: 24.463619 | J44: 24.51772 | K44: 23.954824
A45: E Construction | B45: 16.033438 | C45: 15.558774 | D45: 14.933876 | E45: 15.365887 | F45: 16.166572 | G45: 16.814818 | H45: 19.818239 | I45: 17.902538 | J45: 18.168235 | K45: 16.921391
A46: E0 Construction, nfd | B46: NP | C46: NP | D46: NP | E46: NP | F46: NP | G46: NP | H46: NP | I46: NP | J46: NP | K46: NP
A47: 30 Building construction | B47: 10.828106 | C47: 11.102204 | D47: 10.282407 | E47: 10.131815 | F47: 11.285593 | G47: 11.246996 | H47: 14.852828 | I47: 13.14264 | J47: 12.561897 | K47: 11.29257
A48: 31 Heavy and civil engineering construction | B48: 25.718043 | C48: 23.178767 | D48: 18.549235 | E48: 17.703715 | F48: 17.304097 | G48: 16.080507 | H48: 20.432499 | I48: 18.470049 | J48: 19.629281 | K48: 19.946024
A49: 32 Construction services | B49: 17.536011 | C49: 17.181894 | D49: 16.691078 | E49: 17.733466 | F49: 18.332827 | G49: 20.049622 | H49: 22.161188 | I49: 20.147738 | J49: 20.916156 | K49: 19.483674
A50: F Wholesale trade | B50: 12.075938 | C50: 12.183713 | D50: 13.042744 | E50: 13.252136 | F50: 13.508343 | G50: 14.697614 | H50: 14.561232 | I50: 15.134066 | J50: 14.051321 | K50: 15.337162
A51: F0 Wholesale trade, nfd | B51: NP | C51: NP | D51: NP | E51: NP | F51: NP | G51: NP | H51: NP | I51: NP | J51: NP | K51: NP
A52: 33 Basic material wholesaling | B52: 12.440081 | C52: 13.491777 | D52: 13.796532 | E52: 13.999055 | F52: 17.439604 | G52: 16.712292 | H52: 14.522817 | I52: 16.267669 | J52: 14.019809 | K52: 16.10854
A53: 34 Machinery and equipment wholesaling | B53: 10.636812 | C53: 10.524631 | D53: 13.300712 | E53: 10.945181 | F53: 11.431613 | G53: 13.95742 | H53: 13.654828 | I53: 12.448996 | J53: 12.855771 | K53: 15.398514
A54: 35 Motor vehicle and motor vehicle parts wholesaling | B54: 18.063701 | C54: 18.118115 | D54: 19.176242 | E54: 22.00622 | F54: 20.421346 | G54: 17.071755 | H54: 19.300778 | I54: 17.043511 | J54: 15.538453 | K54: 20.623254
A55: 36 Grocery, liquor and tobacco product wholesaling | B55: 17.059982 | C55: 15.794388 | D55: 16.60458 | E55: 16.830685 | F55: 17.127927 | G55: 20.591745 | H55: 20.908981 | I55: 23.701574 | J55: 19.662719 | K55: 19.554557
A56: 37 Other goods wholesaling | B56: 10.517745 | C56: 10.61283 | D56: 8.8431261 | E56: 10.57458 | F56: 8.3419413 | G56: 9.1760302 | H56: 9.1692295 | I56: 11.014468 | J56: 10.753165 | K56: 10.028325
A57: 38 Commission-based wholesaling | B57: 10.223779 | C57: 8.7224735 | D57: 11.163336 | E57: 11.361582 | F57: 8.6182662 | G57: 11.208672 | H57: 11.861557 | I57: 9.0841272 | J57: 14.83205 | K57: 16.17639
A58: G Retail trade | B58: 6.5917463 | C58: 6.519814 | D58: 6.2626351 | E58: 6.6216563 | F58: 6.9774722 | G58: 6.9990471 | H58: 7.528297 | I58: 7.3320939 | J58: 7.6595235 | K58: 7.4971718
A59: G0 Retail trade, nfd | B59: NP | C59: NP | D59: NP | E59: NP | F59: NP | G59: NP | H59: NP | I59: NP | J59: NP | K59: NP
A60: 39 Motor vehicle and motor vehicle parts retailing | B60: 11.414585 | C60: 10.492302 | D60: 11.704762 | E60: 10.622541 | F60: 9.9879643 | G60: 10.81262 | H60: 10.090587 | I60: 11.035185 | J60: 12.68512 | K60: 12.168953
A61: 40 Fuel retailing | B61: 5.6559124 | C61: 5.4230452 | D61: 5.8395485 | E61: 6.5594792 | F61: 9.6642178 | G61: 10.048465 | H61: 7.1935961 | I61: 9.0493626 | J61: 7.2586139 | K61: 8.0201816
A62: 41 Food retailing | B62: 9.0368873 | C62: 7.6460964 | D62: 7.5636376 | E62: 7.8603381 | F62: 8.2827247 | G62: 8.7711872 | H62: 10.329022 | I62: 8.8661732 | J62: 9.139477 | K62: 9.3852669
A63: 42 Other store-based retailing | B63: 5.0370936 | C63: 5.6129442 | D63: 4.8780882 | E63: 5.3994526 | F63: 5.6788358 | G63: 5.315062 | H63: 5.4786749 | I63: 5.897045 | J63: 6.2417314 | K63: 5.8345209
A64: 43 Non-store retailing and retail commission-based buying and/or selling | B64: 6.1655873 | C64: 6.9456785 | D64: 5.1332545 | E64: 3.260006 | F64: 3.9430395 | G64: 6.5525156 | H64: 6.8219442 | I64: 6.815534 | J64: 7.6285622 | K64: 7.773508
A65: H Accommodation and food services | B65: 7.1635915 | C65: 6.9059006 | D65: 6.5045266 | E65: 6.8955592 | F65: 7.3690455 | G65: 8.254091 | H65: 8.3188116 | I65: 7.965889 | J65: 8.5046248 | K65: 7.825011
A66: H0 Accommodation and food services, nfd | B66: NP | C66: NP | D66: NP | E66: NP | F66: NP | G66: NP | H66: NP | I66: NP | J66: NP | K66: NP
A67: 44 Accommodation | B67: 13.232517 | C67: 12.347293 | D67: 12.569763 | E67: 13.068853 | F67: 16.758495 | G67: 17.23207 | H67: 14.879509 | I67: 15.584043 | J67: 17.887473 | K67: 15.662728
A68: 45 Food and beverage services | B68: 6.2973226 | C68: 6.0988227 | D68: 5.6822219 | E68: 6.0679295 | F68: 6.3435773 | G68: 7.3057689 | H68: 7.5346552 | I68: 7.0551591 | J68: 7.402621 | K68: 6.9039056
A69: I Transport, postal and warehousing | B69: 14.730231 | C69: 15.257272 | D69: 15.180295 | E69: 15.585927 | F69: 16.475953 | G69: 16.086091 | H69: 17.472696 | I69: 18.079323 | J69: 16.991671 | K69: 16.403596
A70: I0 Transport, postal and warehousing, nfd | B70: NP | C70: NP | D70: NP | E70: NP | F70: NP | G70: NP | H70: NP | I70: NP | J70: NP | K70: NP
A71: 46 Road transport | B71: 19.356584 | C71: 20.410226 | D71: 18.125706 | E71: 18.443912 | F71: 20.440533 | G71: 19.326585 | H71: 22.989612 | I71: 22.099117 | J71: 19.456823 | K71: 18.439578
A72: 47 Rail transport | B72: 10.088709 | C72: 12.337108 | D72: 13.155972 | E72: 13.148344 | F72: 10.820435 | G72: 13.222188 | H72: 21.093642 | I72: 26.042169 | J72: 18.904948 | K72: 20.255967
A73: 48 Water transport | B73: 33.139302 | C73: 20.133914 | D73: 22.63218 | E73: 24.403283 | F73: 20.204141 | G73: 19.656734 | H73: 20.682181 | I73: 23.535186 | J73: 26.34262 | K73: 20.719455
A74: 49 Air and space transport | B74: 11.474649 | C74: 10.919611 | D74: 11.004667 | E74: 12.721295 | F74: 12.954939 | G74: 5.9244387 | H74: 6.9811351 | I74: 12.082146 | J74: 10.196564 | K74: 13.117855
A75: 50 Other transport | B75: 21.001742 | C75: 15.295172 | D75: 18.260624 | E75: 14.345696 | F75: 10.865738 | G75: 12.131872 | H75: 9.1682648 | I75: 11.15552 | J75: 13.566168 | K75: 13.923178
A76: 51 Postal and courier pick-up and delivery services | B76: 9.2629373 | C76: 10.280626 | D76: 10.571993 | E76: 11.352677 | F76: 12.878557 | G76: 13.677967 | H76: 13.821576 | I76: 13.362256 | J76: 13.842968 | K76: 14.067189
A77: 52 Transport support services | B77: 15.562087 | C77: 16.489726 | D77: 17.079694 | E77: 18.744825 | F77: 21.212249 | G77: 21.144623 | H77: 18.413356 | I77: 21.067792 | J77: 21.019383 | K77: 18.702912
A78: 53 Warehousing and storage services | B78: 12.053819 | C78: 11.425747 | D78: 12.143115 | E78: 11.965478 | F78: 11.819833 | G78: 12.553662 | H78: 13.050452 | I78: 12.268449 | J78: 12.872042 | K78: 11.905656
A79: J Information media and telecommunications | B79: 2.5793841 | C79: 2.5555556 | D79: 2.2940345 | E79: 2.3224053 | F79: 2.4920066 | G79: 3.1444205 | H79: 3.4811476 | I79: 3.4660051 | J79: 3.2704767 | K79: 3.7555858
A80: J0 Information media and telecommunications, nfd | B80: NP | C80: NP | D80: NP | E80: NP | F80: NP | G80: NP | H80: NP | I80: NP | J80: NP | K80: NP
A81: 54 Publishing (except internet and music publishing) | B81: 3.5843779 | C81: 4.3643955 | D81: 4.4534395 | E81: 3.6127912 | F81: 5.4892175 | G81: 4.5308681 | H81: 3.4882726 | I81: 4.1435311 | J81: 5.2708348 | K81: 3.8262239
A82: 55 Motion picture and sound recording activities | B82: 5.7026381 | C82: 7.6252379 | D82: 4.5117314 | E82: 5.9045625 | F82: 6.0368217 | G82: 12.855733 | H82: 14.466809 | I82: 10.84958 | J82: 7.3380066 | K82: 10.147559
A83: 56 Broadcasting (except internet) | B83: 2.9331005 | C83: 2.0082776 | D83: 1.855634 | E83: 1.9207392 | F83: 1.9856418 | G83: 2.5221937 | H83: 1.4577651 | I83: 1.3554611 | J83: 1.8799549 | K83: 1.8944857
A84: 57 Internet publishing and broadcasting | B84: NP | C84: NP | D84: NP | E84: NP | F84: 6.245191 | G84: NP | H84: NP | I84: NP | J84: NP | K84: NP
A85: 58 Telecommunications services | B85: 1.4655329 | C85: 1.2576279 | D85: 1.3525147 | E85: 1.2184704 | F85: 1.2390881 | G85: 1.3212639 | H85: 1.3705782 | I85: 1.5455646 | J85: 1.6818773 | K85: 1.6166315
A86: 59 Internet service providers, web search portals and data processing services | B86: 4.175814 | C86: 7.0667048 | D86: 5.3374837 | E86: 5.8368835 | F86: 7.144521 | G86: 5.4595192 | H86: 4.3389354 | I86: 6.6476536 | J86: 6.737792 | K86: 4.7067153
A87: 60 Library and other information services | B87: 4.4871915 | C87: 3.1471767 | D87: 2.9212255 | E87: 3.8539041 | F87: 2.2182839 | G87: 2.1612166 | H87: 2.9161569 | I87: 6.4174486 | J87: 7.2295493 | K87: 10.42577
A88: K Financial and insurance services | B88: 1.4116887 | C88: 1.3267131 | D88: 1.5947688 | E88: 1.5807681 | F88: 1.5937194 | G88: 1.3132455 | H88: 1.0727995 | I88: 1.1985221 | J88: 1.5528551 | K88: 1.5262432
A89: K0 Financial and insurance services, nfd | B89: NP | C89: NP | D89: NP | E89: NP | F89: NP | G89: NP | H89: NP | I89: NP | J89: NP | K89: NP
A90: 62 Finance | B90: 1.1924375 | C90: 1.0898056 | D90: 1.2850751 | E90: 1.3777307 | F90: 1.3726769 | G90: 1.0867403 | H90: 0.85308068 | I90: 0.82090133 | J90: 0.97716623 | K90: 1.0090549
A91: 63 Insurance and superannuation funds | B91: 2.145439 | C91: 2.5060634 | D91: 2.7247385 | E91: 2.4196449 | F91: 2.143663 | G91: 2.0774945 | H91: 1.7989478 | I91: 2.0972889 | J91: 2.9385588 | K91: 2.5948008
A92: 64 Auxiliary finance and insurance services | B92: 1.3704535 | C92: 1.062398 | D92: 1.4093022 | E92: 1.403034 | F92: 1.5739204 | G92: 1.1585576 | H92: 0.97472914 | I92: 1.292055 | J92: 1.5805239 | K92: 1.7186763
A93: L Rental, hiring and real estate services | B93: 4.7112521 | C93: 4.7876121 | D93: 5.0742629 | E93: 5.3836704 | F93: 5.6820286 | G93: 5.7838009 | H93: 5.9509011 | I93: 6.7285967 | J93: 7.3678101 | K93: 6.4555675
A94: L0 Rental, hiring and real estate services, nfd | B94: NP | C94: NP | D94: NP | E94: NP | F94: NP | G94: NP | H94: NP | I94: NP | J94: NP | K94: NP
A95: 66 Rental and hiring services (except real estate) | B95: 14.967248 | C95: 13.82946 | D95: 14.934781 | E95: 13.016239 | F95: 19.80901 | G95: 17.735567 | H95: 20.078338 | I95: 20.591015 | J95: 22.402591 | K95: 23.192024
A96: 67 Property operators and real estate services | B96: 2.4294732 | C96: 2.6284557 | D96: 2.9285231 | E96: 3.329022 | F96: 3.004376 | G96: 3.2113314 | H96: 3.3101725 | I96: 3.7451515 | J96: 4.0464045 | K96: 3.2756228
A97: M Professional, scientific and technical services | B97: 1.8520045 | C97: 1.8791608 | D97: 2.0549713 | E97: 2.1621785 | F97: 2.2246519 | G97: 2.1432391 | H97: 1.9638181 | I97: 2.1807665 | J97: 2.312977 | K97: 2.312685
A98: M0 Professional, scientific and technical services, nfd | B98: NP | C98: NP | D98: NP | E98: NP | F98: NP | G98: NP | H98: NP | I98: NP | J98: NP | K98: NP
A99: 69 Professional, scientific and technical services (except computer system design and related services) | B99: 2.1330165 | C99: 2.2159765 | D99: 2.4891435 | E99: 2.592098 | F99: 2.6073125 | G99: 2.6563173 | H99: 2.4736042 | I99: 2.8065402 | J99: 2.9236604 | K99: 2.9035938
A100: 70 Computer system design and related services | B100: 0.73444442 | C100: 0.65340071 | D100: 0.65006777 | E100: 0.79329684 | F100: 0.98405445 | G100: 0.64004487 | H100: 0.49628926 | I100: 0.59236226 | J100: 0.64718962 | K100: 0.68632801
A101: N Administrative and support services | B101: 8.9993511 | C101: 9.7095495 | D101: 10.776148 | E101: 10.932994 | F101: 10.175386 | G101: 11.368036 | H101: 6.8928832 | I101: 8.0383344 | J101: 8.5771474 | K101: 7.8746062
A102: N0 Administrative and support services, nfd | B102: NP | C102: NP | D102: NP | E102: NP | F102: NP | G102: NP | H102: NP | I102: NP | J102: NP | K102: NP
A103: 72 Administrative services | B103: 6.7512479 | C103: 7.5295444 | D103: 8.512343 | E103: 8.120414 | F103: 7.3580421 | G103: 8.5167719 | H103: 4.2481003 | I103: 4.9928587 | J103: 5.7400481 | K103: 5.0900963
A104: 73 Building cleaning, pest control and other support services | B104: 14.099059 | C104: 14.835404 | D104: 15.956406 | E104: 17.399586 | F104: 16.367092 | G104: 16.714153 | H104: 16.673521 | I104: 18.28766 | J104: 18.4589 | K104: 18.193424
...

Sheet Table 1.4
A1: ='Cover page'!$A$20 -> Table 1.4. Claims (median compensation) by Industry (ANZSIC subdivision), 10 years to 2024-25
A2: Return to Cover page
A3: Time period scope restriction | B3: TRUE
A4: ClaimType_Label | B4: Serious claims
A6: Claims (median compensation paid $)
B7: 2015-16 | C7: 2016-17 | D7: 2017-18 | E7: 2018-19 | F7: 2019-20 | G7: 2020-21 | H7: 2021-22 | I7: 2022-23 | J7: 2023-24 | K7: 2024-25p
A8: A Agriculture, forestry and fishing | B8: 11508 | C8: 12753.5 | D8: 13568 | E8: 13046 | F8: 12678 | G8: 12579 | H8: 13698 | I8: 14348 | J8: 15746 | K8: NP
A9: A0 Agriculture, forestry and fishing, nfd | B9: NP | C9: NP | D9: NP | E9: NP | F9: NP | G9: NP | H9: NP | I9: NP | J9: NP | K9: NP
A10: 01 Agriculture | B10: 11329 | C10: 12319 | D10: 13087.5 | E10: 12957 | F10: 12254.5 | G10: 12488 | H10: 13489 | I10: 14378 | J10: 15305 | K10: NP
A11: 02 Aquaculture | B11: 8923 | C11: 6515 | D11: 9753 | E11: 8594 | F11: 13315.5 | G11: 10622 | H11: 17676 | I11: 13162 | J11: 14965.5 | K11: NP
A12: 03 Forestry and logging | B12: 15786 | C12: 19096.5 | D12: 15211 | E12: 17503 | F12: 17335 | G12: 13600 | H12: 15181 | I12: 11916 | J12: 19194 | K12: NP
A13: 04 Fishing, hunting and trapping | B13: 21668 | C13: 16636 | D13: 18134 | E13: 20370 | F13: 16923 | G13: 12019.5 | H13: 23849 | I13: 17165 | J13: 22604 | K13: NP
A14: 05 Agriculture, forestry and fishing support services | B14: 10942 | C14: 14554 | D14: 17478.5 | E14: 12624 | F14: 12953.5 | G14: 12657.5 | H14: 13119.5 | I14: 14141 | J14: 17226 | K14: NP
A15: B Mining | B15: 30745 | C15: 31688.5 | D15: 31901.5 | E15: 32707.5 | F15: 36039 | G15: 35060 | H15: 34624 | I15: 36465 | J15: 38538 | K15: NP
A16: B0 Mining, nfd | B16: NP | C16: NP | D16: NP | E16: NP | F16: NP | G16: NP | H16: NP | I16: NP | J16: NP | K16: NP
A17: 06 Coal mining | B17: 33608 | C17: 31739 | D17: 34809 | E17: 34103.5 | F17: 37643 | G17: 38039 | H17: 27524 | I17: 33120.5 | J17: 31220 | K17: NP
A18: 07 Oil and gas extraction | B18: 55751 | C18: 44226 | D18: 37549 | E18: 45009 | F18: 48977.5 | G18: 45212 | H18: 60943 | I18: 67485 | J18: 43682 | K18: NP
A19: 08 Metal ore mining | B19: 35154 | C19: 39149 | D19: 36599.5 | E19: 36043.5 | F19: 41204 | G19: 45655.5 | H19: 44755.5 | I19: 41302 | J19: 47167 | K19: NP
A20: 09 Non-metallic mineral mining and quarrying | B20: 14453 | C20: 19041 | D20: 16129 | E20: 21718 | F20: 20950 | G20: 16811 | H20: 24755 | I20: 28213 | J20: 29998 | K20: NP
A21: 10 Exploration and other mining support services | B21: 26788 | C21: 31659 | D21: 30463 | E21: 29183.5 | F21: 33797 | G21: 30959.5 | H21: 30824 | I21: 35166.5 | J21: 38718.5 | K21: NP
A22: C Manufacturing | B22: 13862 | C22: 14820 | D22: 15028.5 | E22: 15277.5 | F22: 16062 | G22: 16176 | H22: 16375 | I22: 17972 | J22: 18717 | K22: NP
A23: C0 Manufacturing, nfd | B23: NP | C23: NP | D23: NP | E23: NP | F23: NP | G23: NP | H23: NP | I23: NP | J23: NP | K23: NP
A24: 11 Food product manufacturing | B24: 12489.5 | C24: 14030.5 | D24: 13774 | E24: 14729.5 | F24: 14620 | G24: 15980.5 | H24: 15227 | I24: 16011 | J24: 16828 | K24: NP
A25: 12 Beverage and tobacco product manufacturing | B25: 12633 | C25: 12281 | D25: 12609 | E25: 11022.5 | F25: 11592 | G25: 15179 | H25: 12845 | I25: 16136 | J25: 17054.5 | K25: NP
A26: 13 Textile, leather, clothing and footwear manufacturing | B26: 13478 | C26: 12616 | D26: 17371.5 | E26: 24549 | F26: 17528 | G26: 21442.5 | H26: 21128 | I26: 25110 | J26: 28078 | K26: NP
A27: 14 Wood product manufacturing | B27: 11081.5 | C27: 12440 | D27: 11937 | E27: 11875 | F27: 12405 | G27: 13545.5 | H27: 14122 | I27: 15279.5 | J27: 16362 | K27: NP
A28: 15 Pulp, paper and converted paper product manufacturing | B28: 24198 | C28: 19336 | D28: 25465 | E28: 17823 | F28: 18999 | G28: 19720 | H28: 27796 | I28: 31860 | J28: 27170.5 | K28: NP
A29: 16 Printing (including the reproduction of recorded media) | B29: 17351 | C29: 14075.5 | D29: 20854.5 | E29: 16669 | F29: 26157.5 | G29: 21587 | H29: 18832 | I29: 26453 | J29: 22696 | K29: NP
A30: 17 Petroleum and coal product manufacturing | B30: 27812 | C30: 16394 | D30: 28815 | E30: 29198 | F30: 32755 | G30: 15954 | H30: 28649 | I30: 22504 | J30: 20660.5 | K30: NP
A31: 18 Basic chemical and chemical product manufacturing | B31: 14339 | C31: 19713 | D31: 20508.5 | E31: 16768 | F31: 18399 | G31: 21349 | H31: 21231.5 | I31: 21232 | J31: 24429 | K31: NP
A32: 19 Polymer product and rubber product manufacturing | B32: 16984 | C32: 16387 | D32: 17329.5 | E32: 17744 | F32: 19321 | G32: 16922 | H32: 18924 | I32: 20459 | J32: 20199 | K32: NP
A33: 20 Non-metallic mineral product manufacturing | B33: 17361 | C33: 18982 | D33: 18086 | E33: 24352 | F33: 24513 | G33: 23235 | H33: 20343 | I33: 25520.5 | J33: 23499 | K33: NP
A34: 21 Primary metal and metal product manufacturing | B34: 16547.5 | C34: 17915.5 | D34: 20329.5 | E34: 21059 | F34: 22642.5 | G34: 21931 | H34: 26472 | I34: 23741 | J34: 23703 | K34: NP
A35: 22 Fabricated metal product manufacturing | B35: 12875.5 | C35: 13677 | D35: 14305.5 | E35: 14260 | F35: 15159 | G35: 14582.5 | H35: 15589 | I35: 17161 | J35: 18405.5 | K35: NP
... A39: D Electricity, gas, water and waste services | B39: 18281 | C39: 19515 | D39: 19039 | E39: 20301.5 | F39: 21491.5 | G39: 23640 | H39: 20896.5 | I39: 20442 | J39: 23113.5 | K39: NP
A40: D0 Electricity, gas, water and waste services, nfd | B40: NP | C40: NP | D40: NP | E40: NP | F40: NP | G40: NP | H40: NP | I40: NP | J40: NP | K40: NP
A41: 26 Electricity supply | B41: 15644 | C41: 23298 | D41: 21112 | E41: 20258 | F41: 26155 | G41: 25256 | H41: 21063 | I41: 20945 | J41: 21160.5 | K41: NP
A42: 27 Gas supply | B42: 13197.5 | C42: 21614 | D42: 15067 | E42: 37511 | F42: 14710 | G42: 17899.5 | H42: 27004 | I42: 9619 | J42: 20647.5 | K42: NP
A43: 28 Water supply, sewerage and drainage services | B43: 16898.5 | C43: 15904 | D43: 17765 | E43: 22612 | F43: 20596 | G43: 27181 | H43: 27573 | I43: 24923 | J43: 22369 | K43: NP
A44: 29 Waste collection, treatment and disposal services | B44: 19783.5 | C44: 19519 | D44: 18407 | E44: 19604 | F44: 20288 | G44: 22386.5 | H44: 19699 | I44: 19749 | J44: 24199.5 | K44: NP
A45: E Construction | B45: 16664.5 | C45: 16755.5 | D45: 17713 | E45: 18298 | F45: 18407 | G45: 18046.5 | H45: 19001 | I45: 20251 | J45: 21544.5 | K45: NP
A46: E0 Construction, nfd | B46: NP | C46: NP | D46: NP | E46: NP | F46: NP | G46: NP | H46: NP | I46: NP | J46: NP | K46: NP
A47: 30 Building construction | B47: 15776.5 | C47: 16067 | D47: 16635 | E47: 17419 | F47: 17105 | G47: 16551.5 | H47: 16990 | I47: 18676.5 | J47: 21054.5 | K47: NP
A48: 31 Heavy and civil engineering construction | B48: 22813 | C48: 22353 | D48: 22421.5 | E48: 26021 | F48: 25071 | G48: 24248 | H48: 26488 | I48: 26554 | J48: 25541 | K48: NP
A49: 32 Construction services | B49: 15960 | C49: 16154 | D49: 17291 | E49: 17672 | F49: 17990 | G49: 17728 | H49: 18665 | I49: 19704 | J49: 21126 | K49: NP
A50: F Wholesale trade | B50: 14084.5 | C50: 14778 | D50: 16170.5 | E50: 15602 | F50: 16631 | G50: 17141 | H50: 15941 | I50: 18931 | J50: 20154 | K50: NP
A51: F0 Wholesale trade, nfd | B51: NP | C51: NP | D51: NP | E51: NP | F51: NP | G51: NP | H51: NP | I51: NP | J51: NP | K51: NP
A52: 33 Basic material wholesaling | B52: 13859 | C52: 13514 | D52: 16672 | E52: 16617.5 | F52: 16013.5 | G52: 15846 | H52: 14234 | I52: 18121 | J52: 18393 | K52: NP
A53: 34 Machinery and equipment wholesaling | B53: 14609.5 | C53: 15932 | D53: 15118 | E53: 14943 | F53: 17774 | G53: 16747 | H53: 17326.5 | I53: 18678.5 | J53: 21457 | K53: NP
A54: 35 Motor vehicle and motor vehicle parts wholesaling | B54: 12907 | C54: 12518 | D54: 15124 | E54: 13854 | F54: 15317 | G54: 15018.5 | H54: 16667 | I54: 16595 | J54: 17924 | K54: NP
A55: 36 Grocery, liquor and tobacco product wholesaling | B55: 13678 | C55: 15004 | D55: 17448 | E55: 14030 | F55: 14968.5 | G55: 18111 | H55: 13774 | I55: 18198 | J55: 18550 | K55: NP
A56: 37 Other goods wholesaling | B56: 14258 | C56: 15436 | D56: 16179 | E56: 18116 | F56: 19499 | G56: 19243 | H56: 18339 | I56: 23196.5 | J56: 23234 | K56: NP
A57: 38 Commission-based wholesaling | B57: 21521 | C57: 23223.5 | D57: 21928 | E57: 25959 | F57: 18790 | G57: 18702 | H57: 23974 | I57: 20294.5 | J57: 28338 | K57: NP
A58: G Retail trade | B58: 11100 | C58: 12294 | D58: 12408 | E58: 12955 | F58: 13543 | G58: 13856.5 | H58: 11055 | I58: 14654 | J58: 16078 | K58: NP
A59: G0 Retail trade, nfd | B59: NP | C59: NP | D59: NP | E59: NP | F59: NP | G59: NP | H59: NP | I59: NP | J59: NP | K59: NP
A60: 39 Motor vehicle and motor vehicle parts retailing | B60: 11717.5 | C60: 12123 | D60: 12392 | E60: 13684 | F60: 14009 | G60: 12836.5 | H60: 14751 | I60: 16969 | J60: 14510 | K60: NP
A61: 40 Fuel retailing | B61: 11531 | C61: 12348 | D61: 13294 | E61: 11540 | F61: 13038 | G61: 14875 | H61: 12361 | I61: 16709 | J61: 24854 | K61: NP
A62: 41 Food retailing | B62: 10936 | C62: 12259 | D62: 12575 | E62: 12325 | F62: 14266 | G62: 14473.5 | H62: 7935.5 | I62: 13242 | J62: 17345 | K62: NP
A63: 42 Other store-based retailing | B63: 11094 | C63: 12338.5 | D63: 12208 | E63: 13440 | F63: 12991.5 | G63: 12947.5 | H63: 13375 | I63: 15255 | J63: 15306.5 | K63: NP
A64: 43 Non-store retailing and retail commission-based buying and/or selling | B64: 13185 | C64: 16560 | D64: 16669 | E64: 21145 | F64: 17098.5 | G64: 21981 | H64: 15518.5 | I64: 18401 | J64: 19249 | K64: NP
A65: H Accommodation and food services | B65: 6428 | C65: 7248 | D65: 7554 | E65: 7755 | F65: 7766.5 | G65: 7704 | H65: 6447 | I65: 9366.5 | J65: 9975 | K65: NP
A66: H0 Accommodation and food services, nfd | B66: NP | C66: NP | D66: NP | E66: NP | F66: NP | G66: NP | H66: NP | I66: NP | J66: NP | K66: NP
A67: 44 Accommodation | B67: 6682 | C67: 7219.5 | D67: 7828 | E67: 8134 | F67: 7840 | G67: 8672.5 | H67: 7793 | I67: 9284 | J67: 10066.5 | K67: NP
A68: 45 Food and beverage services | B68: 6329 | C68: 7250 | D68: 7423 | E68: 7632.5 | F68: 7751.5 | G68: 7331 | H68: 6073 | I68: 9380 | J68: 9973 | K68: NP
A69: I Transport, postal and warehousing | B69: 16917 | C69: 17512 | D69: 18734 | E69: 19402 | F69: 21101 | G69: 22156 | H69: 19083.5 | I69: 21113 | J69: 25647 | K69: NP
A70: I0 Transport, postal and warehousing, nfd | B70: NP | C70: NP | D70: NP | E70: NP | F70: NP | G70: NP | H70: NP | I70: NP | J70: NP | K70: NP
A71: 46 Road transport | B71: 17948.5 | C71: 18252 | D71: 20692.5 | E71: 21040 | F71: 23184 | G71: 24144 | H71: 21339 | I71: 25038.5 | J71: 28260.5 | K71: NP
A72: 47 Rail transport | B72: 15221.5 | C72: 16743.5 | D72: 15662 | E72: 18597 | F72: 22338 | G72: 26980 | H72: 11008 | I72: 18479.5 | J72: 26178 | K72: NP
A73: 48 Water transport | B73: 39266 | C73: 21284 | D73: 30814 | E73: 34198.5 | F73: 31623 | G73: 33243 | H73: 37425.5 | I73: 32455 | J73: 34324 | K73: NP
A74: 49 Air and space transport | B74: 14133.5 | C74: 11294 | D74: 14617 | E74: 19720 | F74: 20552 | G74: 26634.5 | H74: 10854 | I74: 7808.5 | J74: 12545 | K74: NP
A75: 50 Other transport | B75: 14142 | C75: 17167 | D75: 16891 | E75: 19265.5 | F75: 18440 | G75: 15450 | H75: 15965.5 | I75: 20826.5 | J75: 23106.5 | K75: NP
A76: 51 Postal and courier pick-up and delivery services | B76: 15823.5 | C76: 16455 | D76: 17694 | E76: 16170.5 | F76: 18830.5 | G76: 17334 | H76: 18528 | I76: 20548 | J76: 23231 | K76: NP
A77: 52 Transport support services | B77: 16964.5 | C77: 17333.5 | D77: 16509 | E77: 18140 | F77: 18931 | G77: 21306 | H77: 17332 | I77: 21011.5 | J77: 25433 | K77: NP
A78: 53 Warehousing and storage services | B78: 16219 | C78: 21068 | D78: 18639.5 | E78: 18695 | F78: 17893 | G78: 19095 | H78: 19822 | I78: 17752 | J78: 22747.5 | K78: NP
A79: J Information media and telecommunications | B79: 17666 | C79: 15362.5 | D79: 21388 | E79: 18151.5 | F79: 21767 | G79: 17574 | H79: 13783 | I79: 27274.5 | J79: 31069 | K79: NP
A80: J0 Information media and telecommunications, nfd | B80: NP | C80: NP | D80: NP | E80: NP | F80: NP | G80: NP | H80: NP | I80: NP | J80: NP | K80: NP
A81: 54 Publishing (except internet and music publishing) | B81: 19275.5 | C81: 15169 | D81: 17702 | E81: 14061 | F81: 22672.5 | G81: 12640 | H81: 15144.5 | I81: 22820 | J81: 24702.5 | K81: NP
A82: 55 Motion picture and sound recording activities | B82: 13550.5 | C82: 11089 | D82: 14724 | E82: 13086 | F82: 14267.5 | G82: 10926 | H82: 3696 | I82: 19354 | J82: 28030 | K82: NP
A83: 56 Broadcasting (except internet) | B83: 19940 | C83: 14472 | D83: 14747 | E83: 16772 | F83: 20892 | G83: 27629 | H83: 28406 | I83: 36491.5 | J83: 31588.5 | K83: NP
A84: 57 Internet publishing and broadcasting | B84: NP | C84: NP | D84: NP | E84: NP | F84: 21767 | G84: NP | H84: NP | I84: NP | J84: NP | K84: NP
A85: 58 Telecommunications services | B85: 18925.5 | C85: 16380.5 | D85: 34224.5 | E85: 22051.5 | F85: 31207.5 | G85: 21858 | H85: 29058.5 | I85: 34402 | J85: 29745 | K85: NP
A86: 59 Internet service providers, web search portals and data processing services | B86: 24031 | C86: 21392 | D86: 22310 | E86: 31395 | F86: 19935.5 | G86: 44109 | H86: 31656.5 | I86: 76130 | J86: 53726.5 | K86: NP
A87: 60 Library and other information services | B87: 15905 | C87: 18385 | D87: 24297 | E87: 22708 | F87: 26858.5 | G87: 23209 | H87: 15664 | I87: 32168 | J87: 46210.5 | K87: NP
A88: K Financial and insurance services | B88: 20940 | C88: 27760 | D88: 22792 | E88: 25744 | F88: 30327 | G88: 32501 | H88: 33184.5 | I88: 42668 | J88: 46732.5 | K88: NP
A89: K0 Financial and insurance services, nfd | B89: NP | C89: NP | D89: NP | E89: NP | F89: NP | G89: NP | H89: NP | I89: NP | J89: NP | K89: NP
A90: 62 Finance | B90: 17175 | C90: 29081 | D90: 21509 | E90: 23505 | F90: 27391 | G90: 23347 | H90: 29666 | I90: 42635.5 | J90: 44235.5 | K90: NP
A91: 63 Insurance and superannuation funds | B91: 21787 | C91: 25596 | D91: 21416 | E91: 25106 | F91: 27666 | G91: 31930 | H91: 34863 | I91: 44120.5 | J91: 49885 | K91: NP
A92: 64 Auxiliary finance and insurance services | B92: 23378 | C92: 30554 | D92: 26988 | E92: 28150.5 | F92: 40129 | G92: 51277 | H92: 38437 | I92: 42477 | J92: 44211 | K92: NP
A93: L Rental, hiring and real estate services | B93: 13297.5 | C93: 17034 | D93: 15554 | E93: 17492 | F93: 16978 | G93: 18824 | H93: 17049 | I93: 21185.5 | J93: 23794 | K93: NP
A94: L0 Rental, hiring and real estate services, nfd | B94: NP | C94: NP | D94: NP | E94: NP | F94: NP | G94: NP | H94: NP | I94: NP | J94: NP | K94: NP
A95: 66 Rental and hiring services (except real estate) | B95: 12662 | C95: 16003 | D95: 14347 | E95: 16305.5 | F95: 14739.5 | G95: 16971 | H95: 17858 | I95: 18568 | J95: 19352 | K95: NP
A96: 67 Property operators and real estate services | B96: 14356.5 | C96: 18181 | D96: 17553 | E96: 19475 | F96: 21070 | G96: 21429 | H96: 15901 | I96: 25168 | J96: 30062 | K96: NP
A97: M Professional, scientific and technical services | B97: 16753 | C97: 19191.5 | D97: 19921 | E97: 19684.5 | F97: 19081 | G97: 19134.5 | H97: 18199.5 | I97: 24305 | J97: 28002 | K97: NP
A98: M0 Professional, scientific and technical services, nfd | B98: NP | C98: NP | D98: NP | E98: NP | F98: NP | G98: NP | H98: NP | I98: NP | J98: NP | K98: NP
A99: 69 Professional, scientific and technical services (except computer system design and related services) | B99: 16592.5 | C99: 18478.5 | D99: 18803.5 | E99: 18982 | F99: 17971.5 | G99: 18812 | H99: 17774 | I99: 22727.5 | J99: 26589 | K99: NP
A100: 70 Computer system design and related services | B100: 19635.5 | C100: 26902 | D100: 38399 | E100: 25863 | F100: 33892 | G100: 27324 | H100: 41715 | I100: 47479 | J100: 47007 | K100: NP
A101: N Administrative and support services | B101: 10857 | C101: 10961 | D101: 11559 | E101: 11567.5 | F101: 12392.5 | G101: 12018 | H101: 12459.5 | I101: 13772 | J101: 14271.5 | K101: NP
A102: N0 Administrative and support services, nfd | B102: NP | C102: NP | D102: NP | E102: NP | F102: NP | G102: NP | H102: NP | I102: NP | J102: NP | K102: NP
A103: 72 Administrative services | B103: 9911.5 | C103: 9743.5 | D103: 10455 | E103: 11178 | F103: 11760 | G103: 10253 | H103: 9656.5 | I103: 10918 | J103: 12392 | K103: NP
A104: 73 Building cleaning, pest control and other support services | B104: 11656.5 | C104: 12652.5 | D104: 13504 | E104: 11810 | F104: 13494 | G104: 13824 | H104: 14895 | I104: 16091 | J104: 16522 | K104: NP
...

Sheet Table 1.5
A1: ='Cover page'!$A$21 -> Table 1.5. Claims (median time lost) by Industry (ANZSIC subdivision), 10 years to 2024-25
A2: Return to Cover page
A3: Time period scope restriction | B3: TRUE
A4: ClaimType_Label | B4: Serious claims
A6: Claims (median time lost weeks)
B7: 2015-16 | C7: 2016-17 | D7: 2017-18 | E7: 2018-19 | F7: 2019-20 | G7: 2020-21 | H7: 2021-22 | I7: 2022-23 | J7: 2023-24 | K7: 2024-25p
A8: A Agriculture, forestry and fishing | B8: 6 | C8: 6.695 | D8: 7 | E8: 6.4 | F8: 6.27 | G8: 6.61 | H8: 6.835 | I8: 6.43 | J8: 7 | K8: NP
A9: A0 Agriculture, forestry and fishing, nfd | B9: NP | C9: NP | D9: NP | E9: NP | F9: NP | G9: NP | H9: NP | I9: NP | J9: NP | K9: NP
A10: 01 Agriculture | B10: 6 | C10: 6.6 | D10: 6.8 | E10: 6.4 | F10: 6.2 | G10: 6.61 | H10: 6.86 | I10: 6.6 | J10: 7 | K10: NP
A11: 02 Aquaculture | B11: 4.44 | C11: 4 | D11: 5.4 | E11: 4.1 | F11: 3.95 | G11: 6.355 | H11: 8.71 | I11: 5.2 | J11: 5 | K11: NP
A12: 03 Forestry and logging | B12: 6.51 | C12: 7.605 | D12: 6.92 | E12: 8.14 | F12: 7.88 | G12: 6.21 | H12: 6.31 | I12: 5.32 | J12: 8.145 | K12: NP
A13: 04 Fishing, hunting and trapping | B13: 8.6 | C13: 9.8 | D13: 9.47 | E13: 7.79 | F13: 10 | G13: 6.985 | H13: 12.75 | I13: 8.6 | J13: 12.59 | K13: NP
A14: 05 Agriculture, forestry and fishing support services | B14: 6 | C14: 7.8 | D14: 8.59 | E14: 6.4 | F14: 6.18 | G14: 6.68 | H14: 6.18 | I14: 6.595 | J14: 6.8 | K14: NP
A15: B Mining | B15: 8.32 | C15: 9.21 | D15: 9.6 | E15: 9.64 | F15: 10.795 | G15: 10.74 | H15: 10.98 | I15: 11.29 | J15: 11.46 | K15: NP
A16: B0 Mining, nfd | B16: NP | C16: NP | D16: NP | E16: NP | F16: NP | G16: NP | H16: NP | I16: NP | J16: NP | K16: NP
A17: 06 Coal mining | B17: 9.94 | C17: 10.21 | D17: 11.57 | E17: 11.4 | F17: 11.86 | G17: 11.57 | H17: 9.205 | I17: 10.97 | J17: 10.14 | K17: NP
A18: 07 Oil and gas extraction | B18: 11.2 | C18: 10.58 | D18: 12.6 | E18: 11.1 | F18: 17.965 | G18: 15.475 | H18: 28.415 | I18: 14.79 | J18: 12 | K18: NP
A19: 08 Metal ore mining | B19: 8.75 | C19: 9.03 | D19: 9 | E19: 9.155 | F19: 10.66 | G19: 12.515 | H19: 13.43 | I19: 11.775 | J19: 12.64 | K19: NP
A20: 09 Non-metallic mineral mining and quarrying | B20: 5.835 | C20: 6.6 | D20: 6.61 | E20: 6.705 | F20: 7.805 | G20: 7 | H20: 8.8 | I20: 9.3 | J20: 12.4 | K20: NP
A21: 10 Exploration and other mining support services | B21: 7.69 | C21: 9.485 | D21: 10.19 | E21: 9.2 | F21: 10.735 | G21: 10.19 | H21: 10.19 | I21: 11.2 | J21: 11.4 | K21: NP
A22: C Manufacturing | B22: 5.8 | C22: 6.2 | D22: 6.61 | E22: 6.55 | F22: 6.61 | G22: 7 | H22: 7 | I22: 7.235 | J22: 7.22 | K22: NP
A23: C0 Manufacturing, nfd | B23: NP | C23: NP | D23: NP | E23: NP | F23: NP | G23: NP | H23: NP | I23: NP | J23: NP | K23: NP
A24: 11 Food product manufacturing | B24: 5.63 | C24: 6.56 | D24: 6.75 | E24: 7 | F24: 6.8 | G24: 7.4 | H24: 7.03 | I24: 7.61 | J24: 7.21 | K24: NP
A25: 12 Beverage and tobacco product manufacturing | B25: 5.05 | C25: 4.6 | D25: 5.6 | E25: 4.75 | F25: 4.83 | G25: 5.89 | H25: 4.94 | I25: 6.265 | J25: 6.77 | K25: NP
A26: 13 Textile, leather, clothing and footwear manufacturing | B26: 8.57 | C26: 6.48 | D26: 10 | E26: 12.515 | F26: 8.1 | G26: 11.67 | H26: 10.35 | I26: 10.105 | J26: 10.71 | K26: NP
A27: 14 Wood product manufacturing | B27: 4.8 | C27: 5 | D27: 5.6 | E27: 5.205 | F27: 5.61 | G27: 6 | H27: 6.21 | I27: 6.7 | J27: 6.48 | K27: NP
A28: 15 Pulp, paper and converted paper product manufacturing | B28: 7 | C28: 8.4 | D28: 13.51 | E28: 8.61 | F28: 6.8 | G28: 12.61 | H28: 12.82 | I28: 9.515 | J28: 8.205 | K28: NP
A29: 16 Printing (including the reproduction of recorded media) | B29: 7 | C29: 6 | D29: 7.88 | E29: 7 | F29: 13 | G29: 10.2 | H29: 7.5 | I29: 11.9 | J29: 12.6 | K29: NP
A30: 17 Petroleum and coal product manufacturing | B30: 13 | C30: 9.3 | D30: 10.66 | E30: 10 | F30: 9 | G30: 9.88 | H30: 8.39 | I30: 11.6 | J30: 11.39 | K30: NP
A31: 18 Basic chemical and chemical product manufacturing | B31: 6.13 | C31: 7.78 | D31: 8.605 | E31: 6.8 | F31: 6.8 | G31: 8.8 | H31: 7.7 | I31: 7.25 | J31: 9.6 | K31: NP
A32: 19 Polymer product and rubber product manufacturing | B32: 7.72 | C32: 8.465 | D32: 8.235 | E32: 7.67 | F32: 8 | G32: 8.215 | H32: 9.875 | I32: 8.88 | J32: 8.2 | K32: NP
A33: 20 Non-metallic mineral product manufacturing | B33: 6.76 | C33: 8 | D33: 7.8 | E33: 10.6 | F33: 10.2 | G33: 9.795 | H33: 8.65 | I33: 9.08 | J33: 9 | K33: NP
A34: 21 Primary metal and metal product manufacturing | B34: 5.2 | C34: 5.16 | D34: 6.4 | E34: 6.205 | F34: 6.83 | G34: 6.8 | H34: 8.055 | I34: 8 | J34: 8 | K34: NP
A35: 22 Fabricated metal product manufacturing | B35: 5.4 | C35: 5.98 | D35: 6.05 | E35: 6 | F35: 6 | G35: 6 | H35: 6.6 | I35: 6.61 | J35: 7.195 | K35: NP
... A39: D Electricity, gas, water and waste services | B39: 7.66 | C39: 8.59 | D39: 8.4 | E39: 7.91 | F39: 8 | G39: 8.28 | H39: 8.14 | I39: 7.6 | J39: 8.59 | K39: NP
A40: D0 Electricity, gas, water and waste services, nfd | B40: NP | C40: NP | D40: NP | E40: NP | F40: NP | G40: NP | H40: NP | I40: NP | J40: NP | K40: NP
A41: 26 Electricity supply | B41: 5.995 | C41: 9.4 | D41: 8.4 | E41: 6.565 | F41: 7.21 | G41: 8 | H41: 7 | I41: 7.4 | J41: 7.42 | K41: NP
A42: 27 Gas supply | B42: 10.3 | C42: 9.2 | D42: 3 | E42: 18 | F42: 6.63 | G42: 6.19 | H42: 9.47 | I42: 5.595 | J42: 9.5 | K42: NP
A43: 28 Water supply, sewerage and drainage services | B43: 10.21 | C43: 7.705 | D43: 7.305 | E43: 9.44 | F43: 7.35 | G43: 8.13 | H43: 7.695 | I43: 8.98 | J43: 7.89 | K43: NP
A44: 29 Waste collection, treatment and disposal services | B44: 8.2 | C44: 8.16 | D44: 8.755 | E44: 8.115 | F44: 8.96 | G44: 8.41 | H44: 8.4 | I44: 7.645 | J44: 9.2 | K44: NP
A45: E Construction | B45: 7.2 | C45: 7.4 | D45: 8 | E45: 8.28 | F45: 8.2 | G45: 8.2 | H45: 8.5 | I45: 8.52 | J45: 8.8 | K45: NP
A46: E0 Construction, nfd | B46: NP | C46: NP | D46: NP | E46: NP | F46: NP | G46: NP | H46: NP | I46: NP | J46: NP | K46: NP
A47: 30 Building construction | B47: 6.4 | C47: 6.7 | D47: 7.2 | E47: 7.865 | F47: 7 | G47: 7 | H47: 7.2 | I47: 7.72 | J47: 8 | K47: NP
A48: 31 Heavy and civil engineering construction | B48: 8.6 | C48: 8.8 | D48: 8.605 | E48: 9.295 | F48: 9.96 | G48: 9.945 | H48: 10.4 | I48: 10 | J48: 9.81 | K48: NP
A49: 32 Construction services | B49: 7.2 | C49: 7.4 | D49: 8.2 | E49: 8.305 | F49: 8.39 | G49: 8.22 | H49: 8.6 | I49: 8.54 | J49: 8.97 | K49: NP
A50: F Wholesale trade | B50: 6.6 | C50: 6.8 | D50: 7.4 | E50: 7.02 | F50: 7 | G50: 7.785 | H50: 7 | I50: 8.2 | J50: 8.2 | K50: NP
A51: F0 Wholesale trade, nfd | B51: NP | C51: NP | D51: NP | E51: NP | F51: NP | G51: NP | H51: NP | I51: NP | J51: NP | K51: NP
A52: 33 Basic material wholesaling | B52: 6.81 | C52: 6.335 | D52: 8 | E52: 7.195 | F52: 7 | G52: 7.4 | H52: 6.785 | I52: 8.4 | J52: 7.79 | K52: NP
A53: 34 Machinery and equipment wholesaling | B53: 5.61 | C53: 6 | D53: 5.915 | E53: 6 | F53: 6.21 | G53: 6.6 | H53: 6 | I53: 6.4 | J53: 7.22 | K53: NP
A54: 35 Motor vehicle and motor vehicle parts wholesaling | B54: 5.5 | C54: 6.575 | D54: 7.4 | E54: 6.61 | F54: 7.4 | G54: 7 | H54: 7 | I54: 6.6 | J54: 7.33 | K54: NP
A55: 36 Grocery, liquor and tobacco product wholesaling | B55: 7 | C55: 7.71 | D55: 8.205 | E55: 7.605 | F55: 7 | G55: 9 | H55: 6.96 | I55: 8.8 | J55: 8.565 | K55: NP
A56: 37 Other goods wholesaling | B56: 7 | C56: 7.71 | D56: 8.57 | E56: 9.23 | F56: 8.8 | G56: 8.42 | H56: 9 | I56: 10.59 | J56: 10.245 | K56: NP
A57: 38 Commission-based wholesaling | B57: 11.8 | C57: 10.6 | D57: 10.31 | E57: 11.82 | F57: 8.105 | G57: 9.18 | H57: 11.77 | I57: 10.095 | J57: 8.1 | K57: NP
A58: G Retail trade | B58: 6 | C58: 6.54 | D58: 7 | E58: 7.83 | F58: 8 | G58: 8.24 | H58: 6.4 | I58: 8 | J58: 8.21 | K58: NP
A59: G0 Retail trade, nfd | B59: NP | C59: NP | D59: NP | E59: NP | F59: NP | G59: NP | H59: NP | I59: NP | J59: NP | K59: NP
A60: 39 Motor vehicle and motor vehicle parts retailing | B60: 4.845 | C60: 5.4 | D60: 6 | E60: 5.8 | F60: 6 | G60: 6 | H60: 6.21 | I60: 6.56 | J60: 6.6 | K60: NP
A61: 40 Fuel retailing | B61: 8.74 | C61: 9.065 | D61: 7.5 | E61: 8.395 | F61: 8.81 | G61: 9.64 | H61: 9.8 | I61: 10.2 | J61: 12.825 | K61: NP
A62: 41 Food retailing | B62: 6.45 | C62: 6.815 | D62: 7.605 | E62: 8.77 | F62: 8.73 | G62: 9.215 | H62: 5.05 | I62: 7.79 | J62: 9.2 | K62: NP
A63: 42 Other store-based retailing | B63: 5.8 | C63: 6.51 | D63: 6.8 | E63: 7.75 | F63: 7.94 | G63: 8 | H63: 7.88 | I63: 8.02 | J63: 7.68 | K63: NP
A64: 43 Non-store retailing and retail commission-based buying and/or selling | B64: 6.69 | C64: 9.775 | D64: 10.19 | E64: 11.8 | F64: 9.9 | G64: 10.74 | H64: 8 | I64: 9 | J64: 12.66 | K64: NP
A65: H Accommodation and food services | B65: 4.9 | C65: 4.4 | D65: 4.765 | E65: 4.85 | F65: 4.8 | G65: 5 | H65: 4 | I65: 5.2 | J65: 5.33 | K65: NP
A66: H0 Accommodation and food services, nfd | B66: NP | C66: NP | D66: NP | E66: NP | F66: NP | G66: NP | H66: NP | I66: NP | J66: NP | K66: NP
A67: 44 Accommodation | B67: 5.2 | C67: 4.8 | D67: 5.16 | E67: 5.17 | F67: 5.265 | G67: 6 | H67: 5.2 | I67: 5.535 | J67: 5.785 | K67: NP
A68: 45 Food and beverage services | B68: 4.79 | C68: 4.24 | D68: 4.6 | E68: 4.72 | F68: 4.605 | G68: 4.66 | H68: 4 | I68: 5.14 | J68: 5.2 | K68: NP
A69: I Transport, postal and warehousing | B69: 7.84 | C69: 8 | D69: 8.815 | E69: 8.2 | F69: 9.26 | G69: 10 | H69: 8.79 | I69: 8.935 | J69: 10.22 | K69: NP
A70: I0 Transport, postal and warehousing, nfd | B70: NP | C70: NP | D70: NP | E70: NP | F70: NP | G70: NP | H70: NP | I70: NP | J70: NP | K70: NP
A71: 46 Road transport | B71: 9.16 | C71: 9 | D71: 10.39 | E71: 9.4 | F71: 10 | G71: 11.6 | H71: 10 | I71: 10.8 | J71: 11.97 | K71: NP
A72: 47 Rail transport | B72: 5.8 | C72: 5.695 | D72: 5.4 | E72: 5.75 | F72: 6.365 | G72: 7.745 | H72: 3.9 | I72: 5.385 | J72: 8.125 | K72: NP
A73: 48 Water transport | B73: 10.25 | C73: 8.4 | D73: 10.89 | E73: 12.14 | F73: 12.135 | G73: 10.95 | H73: 13.43 | I73: 10.81 | J73: 12.005 | K73: NP
A74: 49 Air and space transport | B74: 6.465 | C74: 7.6 | D74: 8.07 | E74: 9.64 | F74: 13.01 | G74: 11.2 | H74: 7 | I74: 6 | J74: 8.08 | K74: NP
A75: 50 Other transport | B75: 4.88 | C75: 6 | D75: 6.945 | E75: 7 | F75: 7.56 | G75: 6.7 | H75: 6.2 | I75: 6.44 | J75: 9 | K75: NP
A76: 51 Postal and courier pick-up and delivery services | B76: 6.6 | C76: 7.2 | D76: 7.84 | E76: 6.67 | F76: 8.375 | G76: 7.68 | H76: 8.43 | I76: 8.35 | J76: 9.34 | K76: NP
A77: 52 Transport support services | B77: 6.8 | C77: 6.6 | D77: 7 | E77: 6.815 | F77: 8 | G77: 8.61 | H77: 7.17 | I77: 7.825 | J77: 9 | K77: NP
A78: 53 Warehousing and storage services | B78: 10 | C78: 11.6 | D78: 11.855 | E78: 10.55 | F78: 9.58 | G78: 10.815 | H78: 11.11 | I78: 10.19 | J78: 11.27 | K78: NP
A79: J Information media and telecommunications | B79: 6.2 | C79: 5.93 | D79: 8.2 | E79: 6.89 | F79: 7.4 | G79: 6.42 | H79: 4.8 | I79: 9.39 | J79: 10.82 | K79: NP
A80: J0 Information media and telecommunications, nfd | B80: NP | C80: NP | D80: NP | E80: NP | F80: NP | G80: NP | H80: NP | I80: NP | J80: NP | K80: NP
A81: 54 Publishing (except internet and music publishing) | B81: 8.555 | C81: 6 | D81: 7.2 | E81: 5.875 | F81: 8.2 | G81: 6.24 | H81: 7.39 | I81: 6.06 | J81: 12.395 | K81: NP
A82: 55 Motion picture and sound recording activities | B82: 5.23 | C82: 5.8 | D82: 6.8 | E82: 5.8 | F82: 5.1 | G82: 4.785 | H82: 2 | I82: 7.2 | J82: 9.8 | K82: NP
A83: 56 Broadcasting (except internet) | B83: 6 | C83: 6.2 | D83: 5.81 | E83: 5.01 | F83: 7.8 | G83: 8.16 | H83: 10.295 | I83: 11.61 | J83: 11.81 | K83: NP
A84: 57 Internet publishing and broadcasting | B84: NP | C84: NP | D84: NP | E84: NP | F84: 12 | G84: NP | H84: NP | I84: NP | J84: NP | K84: NP
A85: 58 Telecommunications services | B85: 5.9 | C85: 4.87 | D85: 9.25 | E85: 7.475 | F85: 9.2 | G85: 6.41 | H85: 10.7 | I85: 11.47 | J85: 8.085 | K85: NP
A86: 59 Internet service providers, web search portals and data processing services | B86: 7.61 | C86: 12.21 | D86: 14.305 | E86: 13.13 | F86: 7.5 | G86: 22.3 | H86: 26.6 | I86: 40.905 | J86: 19.105 | K86: NP
A87: 60 Library and other information services | B87: 8.87 | C87: 10.79 | D87: 12.4 | E87: 12.34 | F87: 11.645 | G87: 10.64 | H87: 4.355 | I87: 12 | J87: 18.6 | K87: NP
A88: K Financial and insurance services | B88: 7.79 | C88: 10.39 | D88: 9.78 | E88: 10 | F88: 12.85 | G88: 14.99 | H88: 15.2 | I88: 17.2 | J88: 19.84 | K88: NP
A89: K0 Financial and insurance services, nfd | B89: NP | C89: NP | D89: NP | E89: NP | F89: NP | G89: NP | H89: NP | I89: NP | J89: NP | K89: NP
A90: 62 Finance | B90: 6.8 | C90: 9.49 | D90: 8.21 | E90: 8.9 | F90: 11.21 | G90: 10.83 | H90: 12.87 | I90: 14.9 | J90: 16.5 | K90: NP
A91: 63 Insurance and superannuation funds | B91: 8.39 | C91: 10.16 | D91: 10.79 | E91: 11.565 | F91: 13.29 | G91: 14.025 | H91: 15.31 | I91: 22.4 | J91: 22 | K91: NP
A92: 64 Auxiliary finance and insurance services | B92: 10.5 | C92: 12.83 | D92: 13.23 | E92: 10 | F92: 16.145 | G92: 21.345 | H92: 22.09 | I92: 14.63 | J92: 20 | K92: NP
A93: L Rental, hiring and real estate services | B93: 7 | C93: 7.285 | D93: 7 | E93: 8 | F93: 8 | G93: 8.6 | H93: 8 | I93: 9.46 | J93: 10 | K93: NP
A94: L0 Rental, hiring and real estate services, nfd | B94: NP | C94: NP | D94: NP | E94: NP | F94: NP | G94: NP | H94: NP | I94: NP | J94: NP | K94: NP
A95: 66 Rental and hiring services (except real estate) | B95: 6.2 | C95: 6.61 | D95: 6.76 | E95: 6.86 | F95: 6.6 | G95: 8.47 | H95: 8 | I95: 8.21 | J95: 7.51 | K95: NP
A96: 67 Property operators and real estate services | B96: 8 | C96: 8.39 | D96: 8.035 | E96: 10 | F96: 10.6 | G96: 9 | H96: 8.265 | I96: 11.455 | J96: 12.81 | K96: NP
A97: M Professional, scientific and technical services | B97: 6.4 | C97: 7.4 | D97: 7.8 | E97: 7.2 | F97: 8 | G97: 7.785 | H97: 7.59 | I97: 9 | J97: 10.4 | K97: NP
A98: M0 Professional, scientific and technical services, nfd | B98: NP | C98: NP | D98: NP | E98: NP | F98: NP | G98: NP | H98: NP | I98: NP | J98: NP | K98: NP
A99: 69 Professional, scientific and technical services (except computer system design and related services) | B99: 6.4 | C99: 7.2 | D99: 7.48 | E99: 7.015 | F99: 7.79 | G99: 7.39 | H99: 7.1 | I99: 8.6 | J99: 10 | K99: NP
A100: 70 Computer system design and related services | B100: 6.785 | C100: 9.405 | D100: 12.18 | E100: 7.8 | F100: 13 | G100: 9.545 | H100: 12.3 | I100: 17.51 | J100: 18.275 | K100: NP
A101: N Administrative and support services | B101: 6.39 | C101: 6.6 | D101: 7.35 | E101: 7 | F101: 7.355 | G101: 7.6 | H101: 7.63 | I101: 7.805 | J101: 7.78 | K101: NP
A102: N0 Administrative and support services, nfd | B102: NP | C102: NP | D102: NP | E102: NP | F102: NP | G102: NP | H102: NP | I102: NP | J102: NP | K102: NP
A103: 72 Administrative services | B103: 5.51 | C103: 5.6 | D103: 6.39 | E103: 6.2 | F103: 6.21 | G103: 6.135 | H103: 6 | I103: 6.12 | J103: 6.45 | K103: NP
A104: 73 Building cleaning, pest control and other support services | B104: 7.25 | C104: 7.94 | D104: 9 | E104: 7.8 | F104: 8.465 | G104: 9 | H104: 9.685 | I104: 9.4 | J104: 9.2 | K104: NP
...

Sheet Table 2.1
A1: ='Cover page'!$A$23 -> Table 2.1. Claims (count) by Occupation (ANZSCO Sub major group), 10 years to 2024-25
A2: Return to Cover page
A3: Time period scope restriction | B3: TRUE
A4: ClaimType_Label | B4: Serious claims
A6: Claims (count)
B7: 2015-16 | C7: 2016-17 | D7: 2017-18 | E7: 2018-19 | F7: 2019-20 | G7: 2020-21 | H7: 2021-22 | I7: 2022-23 | J7: 2023-24 | K7: 2024-25p
A8: 1 Managers | B8: 4552 | C8: 4739 | D8: 4885 | E8: 5664 | F8: 6020 | G8: 6190 | H8: 5948 | I8: 6799 | J8: 7827 | K8: 7614
A9: 10 Managers, nfd | B9: NP | C9: NP | D9: NP | E9: NP | F9: NP | G9: NP | H9: NP | I9: NP | J9: 7 | K9: NP
A10: 11 Chief executives, general managers and legislators | B10: 603 | C10: 694 | D10: 609 | E10: 499 | F10: 678 | G10: 835 | H10: 886 | I10: 920 | J10: 1029 | K10: 921
A11: 12 Farmers and farm managers | B11: 347 | C11: 350 | D11: 382 | E11: 466 | F11: 466 | G11: 495 | H11: 469 | I11: 434 | J11: 487 | K11: 458
A12: 13 Specialist managers | B12: 2053 | C12: 2097 | D12: 2323 | E12: 2970 | F12: 3074 | G12: 3079 | H12: 2700 | I12: 3353 | J12: 3734 | K12: 3590
A13: 14 Hospitality, retail and service managers | B13: 1545 | C13: 1598 | D13: 1571 | E13: 1726 | F13: 1801 | G13: 1780 | H13: 1892 | I13: 2091 | J13: 2570 | K13: 2641
A14: 2 Professionals | B14: 9652 | C14: 10786 | D14: 10847 | E14: 12071 | F14: 12302 | G14: 14560 | H14: 14888 | I14: 17939 | J14: 17822 | K14: 17534
A15: 20 Professionals, nfd | B15: NP | C15: NP | D15: NP | E15: NP | F15: NP | G15: NP | H15: NP | I15: NP | J15: NP | K15: NP
A16: 21 Arts and media professionals | B16: 265 | C16: 259 | D16: 273 | E16: 321 | F16: 306 | G16: 317 | H16: 268 | I16: 294 | J16: 320 | K16: 339
A17: 22 Business, human resource and marketing professionals | B17: 1223 | C17: 1436 | D17: 1326 | E17: 1310 | F17: 1231 | G17: 1787 | H17: 1590 | I17: 2387 | J17: 2088 | K17: 2062
A18: 23 Design, engineering, science and transport professionals | B18: 1199 | C18: 1460 | D18: 1358 | E18: 1366 | F18: 1303 | G18: 1218 | H18: 1284 | I18: 1396 | J18: 1601 | K18: 1556
A19: 24 Education professionals | B19: 3052 | C19: 3488 | D19: 3445 | E19: 3997 | F19: 4058 | G19: 4585 | H19: 5133 | I19: 6710 | J19: 6318 | K19: 5969
A20: 25 Health professionals | B20: 3087 | C20: 3302 | D20: 3570 | E20: 4024 | F20: 4219 | G20: 5503 | H20: 5461 | I20: 5689 | J20: 5849 | K20: 6060
A21: 26 ICT professionals | B21: 144 | C21: 138 | D21: 134 | E21: 149 | F21: 177 | G21: 133 | H21: 115 | I21: 149 | J21: 175 | K21: 164
A22: 27 Legal, social and welfare professionals | B22: 681 | C22: 701 | D22: 741 | E22: 903 | F22: 1004 | G22: 1014 | H22: 1036 | I22: 1314 | J22: 1469 | K22: 1381
A23: 3 Technicians and trades workers | B23: 18530 | C23: 19253 | D23: 19344 | E23: 20586 | F23: 22090 | G23: 22424 | H23: 21477 | I23: 22886 | J23: 24950 | K23: 25756
A24: 30 Technicians and trades workers, nfd | B24: NP | C24: NP | D24: NP | E24: NP | F24: 6 | G24: NP | H24: NP | I24: NP | J24: NP | K24: 5
A25: 31 Engineering, ICT and science technicians | B25: 834 | C25: 943 | D25: 978 | E25: 1000 | F25: 983 | G25: 999 | H25: 1112 | I25: 1293 | J25: 1354 | K25: 1421
A26: 32 Automotive and engineering trades workers | B26: 4897 | C26: 4840 | D26: 4859 | E26: 5175 | F26: 5553 | G26: 5407 | H26: 5144 | I26: 5169 | J26: 5904 | K26: 5911
A27: 33 Construction trades workers | B27: 4714 | C27: 5027 | D27: 5295 | E27: 5347 | F27: 5838 | G27: 5872 | H27: 5719 | I27: 6136 | J27: 6333 | K27: 6666
A28: 34 Electrotechnology and telecommunications trades workers | B28: 1892 | C28: 2007 | D28: 2082 | E28: 2208 | F28: 2349 | G28: 2442 | H28: 2239 | I28: 2347 | J28: 2704 | K28: 2902
A29: 35 Food trades workers | B29: 2267 | C29: 2290 | D29: 2170 | E29: 2339 | F29: 2340 | G29: 2430 | H29: 2417 | I29: 2767 | J29: 2869 | K29: 2909
A30: 36 Skilled animal and horticultural workers | B30: 1858 | C30: 1852 | D30: 1794 | E30: 2015 | F30: 2327 | G30: 2498 | H30: 2453 | I30: 2570 | J30: 2868 | K30: 2900
A31: 39 Other technicians and trades workers | B31: 2065 | C31: 2293 | D31: 2164 | E31: 2499 | F31: 2694 | G31: 2773 | H31: 2390 | I31: 2601 | J31: 2916 | K31: 3042
A32: 4 Community and personal service workers | B32: 16816 | C32: 17664 | D32: 18582 | E32: 22209 | F32: 23703 | G32: 26683 | H32: 29597 | I32: 32261 | J32: 32802 | K32: 33840
A33: 40 Community and personal service workers, nfd | B33: NP | C33: NP | D33: NP | E33: NP | F33: NP | G33: NP | H33: NP | I33: NP | J33: NP | K33: NP
A34: 41 Health and welfare support workers | B34: 2719 | C34: 2831 | D34: 3096 | E34: 3945 | F34: 4233 | G34: 4662 | H34: 4822 | I34: 5203 | J34: 5897 | K34: 6046
A35: 42 Carers and aides | B35: 7004 | C35: 7723 | D35: 7786 | E35: 9079 | F35: 9879 | G35: 11942 | H35: 11008 | I35: 12509 | J35: 13523 | K35: 14526
A36: 43 Hospitality workers | B36: 1679 | C36: 1586 | D36: 1822 | E36: 1923 | F36: 1983 | G36: 2013 | H36: 2722 | I36: 2364 | J36: 2303 | K36: 2415
A37: 44 Protective service workers | B37: 4306 | C37: 4303 | D37: 4621 | E37: 5746 | F37: 6118 | G37: 6758 | H37: 9617 | I37: 10491 | J37: 9243 | K37: 8922
A38: 45 Sports and personal service workers | B38: 1108 | C38: 1221 | D38: 1257 | E38: 1516 | F38: 1490 | G38: 1307 | H38: 1428 | I38: 1694 | J38: 1836 | K38: 1931
A39: 5 Clerical and administrative workers | B39: 5077 | C39: 4853 | D39: 5242 | E39: 5536 | F39: 5666 | G39: 5918 | H39: 5234 | I39: 5722 | J39: 6269 | K39: 6026
A40: 50 Clerical and administrative workers, nfd | B40: NP | C40: NP | D40: NP | E40: NP | F40: NP | G40: NP | H40: NP | I40: NP | J40: NP | K40: NP
A41: 51 Office managers and program administrators | B41: 384 | C41: 380 | D41: 422 | E41: 457 | F41: 434 | G41: 468 | H41: 410 | I41: 464 | J41: 537 | K41: 603
A42: 52 Personal assistants and secretaries | B42: 141 | C42: 161 | D42: 163 | E42: 132 | F42: 146 | G42: 124 | H42: 123 | I42: 128 | J42: 143 | K42: 144
A43: 53 General clerical workers | B43: 829 | C43: 655 | D43: 562 | E43: 639 | F43: 700 | G43: 730 | H43: 638 | I43: 687 | J43: 770 | K43: 686
A44: 54 Inquiry clerks and receptionists | B44: 523 | C44: 488 | D44: 528 | E44: 534 | F44: 526 | G44: 562 | H44: 535 | I44: 501 | J44: 607 | K44: 587
A45: 55 Numerical clerks | B45: 447 | C45: 398 | D45: 421 | E45: 464 | F45: 457 | G45: 394 | H45: 335 | I45: 340 | J45: 421 | K45: 414
A46: 56 Clerical and office support workers | B46: 844 | C46: 963 | D46: 1022 | E46: 1231 | F46: 1342 | G46: 1527 | H46: 1345 | I46: 1369 | J46: 1513 | K46: 1443
A47: 59 Other clerical and administrative workers | B47: 1909 | C47: 1808 | D47: 2124 | E47: 2079 | F47: 2061 | G47: 2112 | H47: 1848 | I47: 2233 | J47: 2278 | K47: 2149
A48: 6 Sales workers | B48: 5302 | C48: 5091 | D48: 4822 | E48: 5046 | F48: 5155 | G48: 4895 | H48: 4511 | I48: 5100 | J48: 5523 | K48: 5009
A49: 60 Sales workers, nfd | B49: NP | C49: NP | D49: NP | E49: NP | F49: NP | G49: NP | H49: NP | I49: NP | J49: NP | K49: NP
A50: 61 Sales representatives and agents | B50: 619 | C50: 590 | D50: 639 | E50: 740 | F50: 730 | G50: 622 | H50: 532 | I50: 660 | J50: 713 | K50: 667
A51: 62 Sales assistants and salespersons | B51: 4079 | C51: 3830 | D51: 3588 | E51: 3710 | F51: 3864 | G51: 3667 | H51: 3533 | I51: 3863 | J51: 4290 | K51: 3841
A52: 63 Sales support workers | B52: 604 | C52: 671 | D52: 595 | E52: 596 | F52: 561 | G52: 606 | H52: 446 | I52: 577 | J52: 520 | K52: 501
A53: 7 Machinery operators and drivers | B53: 14640 | C53: 14920 | D53: 14727 | E53: 16123 | F53: 16205 | G53: 16630 | H53: 17198 | I53: 17701 | J53: 18829 | K53: 19161
A54: 70 Machinery operators and drivers, nfd | B54: NP | C54: NP | D54: NP | E54: 5 | F54: NP | G54: NP | H54: NP | I54: NP | J54: NP | K54: 9
A55: 71 Machine and stationary plant operators | B55: 3027 | C55: 3027 | D55: 3073 | E55: 3456 | F55: 3638 | G55: 3719 | H55: 3463 | I55: 3858 | J55: 4195 | K55: 4250
A56: 72 Mobile plant operators | B56: 2040 | C56: 2090 | D56: 1939 | E56: 2184 | F56: 2192 | G56: 2083 | H56: 2106 | I56: 2294 | J56: 2538 | K56: 2346
A57: 73 Road and rail drivers | B57: 7004 | C57: 7247 | D57: 7071 | E57: 7390 | F57: 7313 | G57: 7479 | H57: 7597 | I57: 7977 | J57: 8354 | K57: 8285
A58: 74 Storepersons | B58: 2566 | C58: 2554 | D58: 2641 | E58: 3088 | F58: 3060 | G58: 3347 | H58: 4030 | I58: 3569 | J58: 3740 | K58: 4271
A59: 8 Labourers | B59: 25877 | C59: 25765 | D59: 26568 | E59: 27594 | F59: 28461 | G59: 32900 | H59: 34988 | I59: 36313 | J59: 35989 | K59: 31127
A60: 80 Labourers, nfd | B60: 17 | C60: 9 | D60: 5 | E60: 6 | F60: 6 | G60: 7 | H60: NP | I60: 7 | J60: NP | K60: 5
A61: 81 Cleaners and laundry workers | B61: 3405 | C61: 3490 | D61: 3555 | E61: 3869 | F61: 3793 | G61: 4030 | H61: 3682 | I61: 4114 | J61: 4181 | K61: 4378
A62: 82 Construction and mining labourers | B62: 3465 | C62: 3380 | D62: 3611 | E62: 4197 | F62: 4418 | G62: 4263 | H62: 4403 | I62: 4349 | J62: 4903 | K62: 4780
A63: 83 Factory process workers | B63: 4377 | C63: 4192 | D63: 4242 | E63: 4722 | F63: 4755 | G63: 5124 | H63: 5042 | I63: 5208 | J63: 5689 | K63: 5068
A64: 84 Farm, forestry and garden workers | B64: 2544 | C64: 2514 | D64: 2729 | E64: 2931 | F64: 3156 | G64: 3132 | H64: 2870 | I64: 2932 | J64: 3028 | K64: 3054
A65: 85 Food preparation assistants | B65: 1583 | C65: 1613 | D65: 1445 | E65: 1675 | F65: 1749 | G65: 1847 | H65: 1606 | I65: 1613 | J65: 1696 | K65: 1714
A66: 89 Other labourers | B66: 10486 | C66: 10567 | D66: 10981 | E66: 10194 | F66: 10584 | G66: 14497 | H66: 17383 | I66: 18090 | J66: 16489 | K66: 12128
A67: Total | B67: 102564 | C67: 104431 | D67: 107949 | E67: 116879 | F67: 121277 | G67: 131735 | H67: 134650 | I67: 145745 | J67: 150973 | K67: 147174

Sheet Table 2.2
A1: ='Cover page'!$A$24 -> Table 2.2. Claims (frequency rate) by Occupation (ANZSCO Sub major group), 10 years to 2024-25
A2: Return to Cover page
A3: Time period scope restriction | B3: TRUE
A4: ClaimType_Label | B4: Serious claims
A6: Claims (frequency rate)
B7: 2015-16 | C7: 2016-17 | D7: 2017-18 | E7: 2018-19 | F7: 2019-20 | G7: 2020-21 | H7: 2021-22 | I7: 2022-23 | J7: 2023-24 | K7: 2024-25p
A8: 1 Managers | B8: 1.6292812 | C8: 1.6940987 | D8: 1.7228618 | E8: 2.035173 | F8: 2.1585437 | G8: 2.1191127 | H8: 2.0027057 | I8: 2.1240424 | J8: 2.4331906 | K8: 2.3829458
A9: 10 Managers, nfd | B9: NP | C9: NP | D9: NP | E9: NP | F9: NP | G9: NP | H9: NP | I9: NP | J9: 0.9542275 | K9: NP
A10: 11 Chief executives, general managers and legislators | B10: 2.2177105 | C10: 2.8855402 | D10: 2.942775 | E10: 2.2745762 | F10: 3.7204193 | G10: 4.0700872 | H10: 3.4477024 | I10: 3.1605353 | J10: 4.0160733 | K10: 3.6128123
A11: 12 Farmers and farm managers | B11: 2.2445867 | C11: 2.5450126 | D11: 2.4459204 | E11: 3.1490486 | F11: 2.5294599 | G11: 3.1029577 | H11: 2.9913544 | I11: 3.06717 | J11: 2.8501173 | K11: 2.6692726
A12: 13 Specialist managers | B12: 1.4848465 | C12: 1.4345111 | D12: 1.5308268 | E12: 1.9727694 | F12: 1.9364696 | G12: 1.7802264 | H12: 1.5663172 | I12: 1.8196421 | J12: 2.0113631 | K12: 1.9613848
A13: 14 Hospitality, retail and service managers | B13: 1.7632623 | C13: 1.8188856 | D13: 1.6737681 | E13: 1.9025405 | F13: 2.1625728 | G13: 2.1540222 | H13: 2.2852639 | I13: 2.2692906 | J13: 2.775722 | K13: 2.8546056
A14: 2 Professionals | B14: 2.1149217 | C14: 2.2839851 | D14: 2.1942768 | E14: 2.3855448 | F14: 2.3455373 | G14: 2.664519 | H14: 2.7252585 | I14: 3.0950956 | J14: 2.9765202 | K14: 2.8166223
A15: 20 Professionals, nfd | B15: NP | C15: NP | D15: NP | E15: NP | F15: NP | G15: NP | H15: NP | I15: NP | J15: NP | K15: NP
A16: 21 Arts and media professionals | B16: 2.2983924 | C16: 2.5023087 | D16: 2.5049314 | E16: 3.0651568 | F16: 2.6953338 | G16: 2.7260641 | H16: 2.7264779 | I16: 2.9489809 | J16: 2.8657315 | K16: 3.044156
A17: 22 Business, human resource and marketing professionals | B17: 1.0298835 | C17: 1.1736534 | D17: 1.0392927 | E17: 0.99113019 | F17: 0.93158438 | G17: 1.2738852 | H17: 1.1247713 | I17: 1.5643305 | J17: 1.2937118 | K17: 1.3342712
A18: 23 Design, engineering, science and transport professionals | B18: 1.7756838 | C18: 1.958626 | D18: 1.8010077 | E18: 1.7862468 | F18: 1.6046559 | G18: 1.4681139 | H18: 1.5990115 | I18: 1.5807093 | J18: 1.806716 | K18: 1.6544166
A19: 24 Education professionals | B19: 3.4227556 | C19: 3.7501189 | D19: 3.5288893 | E19: 4.0923237 | F19: 3.9718439 | G19: 4.4800923 | H19: 4.8757589 | I19: 6.5311445 | J19: 6.1507543 | K19: 5.1822614
A20: 25 Health professionals | B20: 3.5829546 | C20: 3.7637482 | D20: 3.8827301 | E20: 4.2795765 | F20: 4.2626975 | G20: 5.4240508 | H20: 5.3843276 | I20: 5.2057635 | J20: 5.0638001 | K20: 4.8970604
A21: 26 ICT professionals | B21: 0.31167549 | C21: 0.29682587 | D21: 0.27023172 | E21: 0.26314505 | F21: 0.30135797 | G21: 0.20718423 | H21: 0.17767433 | I21: 0.21844234 | J21: 0.2471308 | K21: 0.22614441
A22: 27 Legal, social and welfare professionals | B22: 2.0685953 | C22: 2.0317661 | D22: 1.8723776 | E22: 2.3767652 | F22: 2.5754412 | G22: 2.3429561 | H22: 2.4559241 | I22: 2.890604 | J22: 3.3041321 | K22: 2.8611466
A23: 3 Technicians and trades workers | B23: 6.6507252 | C23: 6.9861383 | D23: 6.6172218 | E23: 6.9539718 | F23: 7.7609579 | G23: 7.9167024 | H23: 8.0197222 | I23: 7.6860337 | J23: 8.2991599 | K23: 8.3420399
A24: 30 Technicians and trades workers, nfd | B24: NP | C24: NP | D24: NP | E24: NP | F24: 1.1180328 | G24: NP | H24: NP | I24: NP | J24: NP | K24: 0.46422875
A25: 31 Engineering, ICT and science technicians | B25: 1.9308918 | C25: 2.1203794 | D25: 2.1908059 | E25: 1.9856663 | F25: 2.0103561 | G25: 1.9133887 | H25: 2.2886444 | I25: 2.565445 | J25: 2.4987998 | K25: 2.5903534
A26: 32 Automotive and engineering trades workers | B26: 7.1021854 | C26: 7.6242132 | D26: 6.9243244 | E26: 7.4068885 | F26: 8.3277582 | G26: 8.0672934 | H26: 7.9210004 | I26: 7.3937936 | J26: 8.5628062 | K26: 8.3060343
A27: 33 Construction trades workers | B27: 9.3868229 | C27: 10.102296 | D27: 9.4185226 | E27: 9.538844 | F27: 11.293279 | G27: 12.0002 | H27: 12.163102 | I27: 11.304715 | J27: 11.921218 | K27: 12.230574
A28: 34 Electrotechnology and telecommunications trades workers | B28: 4.2227279 | C28: 4.6700253 | D28: 4.6779021 | E28: 4.9850561 | F28: 5.2589765 | G28: 5.4512917 | H28: 5.7957919 | I28: 5.0902999 | J28: 5.8146344 | K28: 5.8429549
A29: 35 Food trades workers | B29: 7.481078 | C29: 7.3470284 | D29: 6.4114606 | E29: 7.1152472 | F29: 7.8422962 | G29: 8.6132452 | H29: 8.3058437 | I29: 8.3092321 | J29: 8.2172015 | K29: 8.4496409
A30: 36 Skilled animal and horticultural workers | B30: 12.617864 | C30: 11.266965 | D30: 10.373308 | E30: 13.016656 | F30: 12.843277 | G30: 15.208184 | H30: 14.843788 | I30: 14.241005 | J30: 15.553907 | K30: 17.453659
A31: 39 Other technicians and trades workers | B31: 8.4649123 | C31: 8.9815887 | D31: 8.7674792 | E31: 9.3649412 | F31: 11.13308 | G31: 11.128366 | H31: 10.772116 | I31: 10.614152 | J31: 12.572889 | K31: 11.506371
A32: 4 Community and personal service workers | B32: 10.453753 | C32: 10.763206 | D32: 10.888026 | E32: 12.535588 | F32: 14.053062 | G32: 15.427139 | H32: 16.704794 | I32: 16.237484 | J32: 15.758151 | K32: 15.655799
A33: 40 Community and personal service workers, nfd | B33: NP | C33: NP | D33: NP | E33: NP | F33: NP | G33: NP | H33: NP | I33: NP | J33: NP | K33: NP
A34: 41 Health and welfare support workers | B34: 14.0323 | C34: 15.717734 | D34: 17.690645 | E34: 19.110124 | F34: 21.770927 | G34: 22.606764 | H34: 22.384002 | I34: 22.897377 | J34: 22.854766 | K34: 23.605534
A35: 42 Carers and aides | B35: 10.849934 | C35: 11.421304 | D35: 10.86194 | E35: 12.339046 | F35: 13.030211 | G35: 15.704646 | H35: 13.459943 | I35: 13.966416 | J35: 13.752238 | K35: 13.978272
A36: 43 Hospitality workers | B36: 5.1568854 | C36: 4.7834882 | D36: 5.4568977 | E36: 5.6997086 | F36: 6.9032105 | G36: 6.3838445 | H36: 9.4481221 | I36: 6.5037957 | J36: 6.4455806 | K36: 6.9616715
A37: 44 Protective service workers | B37: 17.320876 | C37: 16.756392 | D37: 17.305921 | E37: 21.335492 | F37: 23.754466 | G37: 23.944382 | H37: 32.567265 | I37: 36.806172 | J37: 32.244028 | K37: 30.467744
A38: 45 Sports and personal service workers | B38: 5.6785001 | C38: 6.2142327 | D38: 5.876165 | E38: 6.8060074 | F38: 7.8721596 | G38: 7.9012779 | H38: 9.2063654 | I38: 7.8679408 | J38: 9.356013 | K38: 8.5379973
A39: 5 Clerical and administrative workers | B39: 1.986949 | C39: 1.9248989 | D39: 2.0750025 | E39: 2.0227364 | F39: 2.115039 | G39: 2.226486 | H39: 1.9839112 | I39: 2.1225637 | J39: 2.2169078 | K39: 2.1123268
A40: 50 Clerical and administrative workers, nfd | B40: NP | C40: NP | D40: NP | E40: NP | F40: NP | G40: NP | H40: NP | I40: NP | J40: NP | K40: NP
A41: 51 Office managers and program administrators | B41: 0.78815604 | C41: 0.83617049 | D41: 0.99210619 | E41: 0.86677861 | F41: 0.82573665 | G41: 0.96417652 | H41: 0.79504409 | I41: 0.9259181 | J41: 1.0419097 | K41: 1.1121921
A42: 52 Personal assistants and secretaries | B42: 0.96958123 | C42: 1.1202622 | D42: 1.1147743 | E42: 0.98466331 | F42: 1.152832 | G42: 0.99244952 | H42: 0.9138756 | I42: 0.96494513 | J42: 1.0423964 | K42: 1.146159
A43: 53 General clerical workers | B43: 1.9566005 | C43: 1.5315053 | D43: 1.3074274 | E43: 1.2634362 | F43: 1.3953311 | G43: 1.3913099 | H43: 1.3343061 | I43: 1.3597844 | J43: 1.6129691 | K43: 1.4201551
A44: 54 Inquiry clerks and receptionists | B44: 1.2527002 | C44: 1.1962037 | D44: 1.3248527 | E44: 1.2115473 | F44: 1.2146744 | G44: 1.383688 | H44: 1.3314128 | I44: 1.1700804 | J44: 1.4229986 | K44: 1.3708765
A45: 55 Numerical clerks | B45: 0.85822715 | C45: 0.72220085 | D45: 0.76230335 | E45: 0.84205736 | F45: 0.84433841 | G45: 0.68350123 | H45: 0.60889306 | I45: 0.61413263 | J45: 0.68182416 | K45: 0.68656196
A46: 56 Clerical and office support workers | B46: 6.1929712 | C46: 7.742106 | D46: 7.9992083 | E46: 9.314199 | F46: 11.289796 | G46: 13.058768 | H46: 10.818325 | I46: 12.562086 | J46: 12.968547 | K46: 11.477301
A47: 59 Other clerical and administrative workers | B47: 4.5082181 | C47: 4.4070898 | D47: 4.7595192 | E47: 4.6627566 | F47: 4.7725686 | G47: 4.9947189 | H47: 4.2650428 | I47: 4.7922317 | J47: 4.2438472 | K47: 3.9496966
A48: 6 Sales workers | B48: 3.6918232 | C48: 3.6015876 | D48: 3.2621401 | E48: 3.5541572 | F48: 3.7805202 | G48: 3.615964 | H48: 3.3741251 | I48: 3.6423449 | J48: 3.945395 | K48: 3.4965805
A49: 60 Sales workers, nfd | B49: NP | C49: NP | D49: NP | E49: NP | F49: NP | G49: NP | H49: NP | I49: NP | J49: NP | K49: NP
A50: 61 Sales representatives and agents | B50: 1.7088218 | C50: 1.662778 | D50: 1.7165608 | E50: 2.1280514 | F50: 2.1223733 | G50: 1.9514405 | H50: 1.630558 | I50: 2.1199114 | J50: 2.0835893 | K50: 1.789055
A51: 62 Sales assistants and salespersons | B51: 4.559218 | C51: 4.4680325 | D51: 4.0909995 | E51: 4.4127574 | F51: 4.9030998 | G51: 4.3418252 | H51: 4.289568 | I51: 4.292869 | J51: 5.0180866 | K51: 4.4277273
A52: 63 Sales support workers | B52: 3.3739698 | C52: 3.3591618 | D52: 2.6069245 | E52: 2.5853748 | F52: 2.429861 | G52: 3.1875952 | H52: 2.3945567 | I52: 3.0565445 | J52: 2.5687658 | K52: 2.6124381
A53: 7 Machinery operators and drivers | B53: 10.940347 | C53: 10.749709 | D53: 9.9713949 | E53: 10.546835 | F53: 11.17718 | G53: 11.6691 | H53: 12.18148 | I53: 11.847842 | J53: 12.386291 | K53: 12.64432
A54: 70 Machinery operators and drivers, nfd | B54: NP | C54: NP | D54: NP | E54: 1.2991334 | F54: NP | G54: NP | H54: NP | I54: NP | J54: NP | K54: 1.4965867
A55: 71 Machine and stationary plant operators | B55: 9.6001335 | C55: 9.6017146 | D55: 9.5698009 | E55: 9.6186091 | F55: 10.527391 | G55: 11.257627 | H55: 10.093308 | I55: 10.79825 | J55: 11.229606 | K55: 12.275803
A56: 72 Mobile plant operators | B56: 8.7790903 | C56: 8.6395989 | D56: 7.2072421 | E56: 7.2017302 | F56: 7.9396213 | G56: 8.0345827 | H56: 8.4693005 | I56: 8.4985585 | J56: 8.9602126 | K56: 8.9640199
A57: 73 Road and rail drivers | B57: 12.213162 | C57: 11.944538 | D57: 10.834538 | E57: 11.712316 | F57: 12.217612 | G57: 12.638143 | H57: 13.558436 | I57: 13.49149 | J57: 14.466919 | K57: 13.272132
A58: 74 Storepersons | B58: 12.49368 | C58: 11.942182 | D58: 11.661105 | E58: 13.348745 | F58: 13.555371 | G58: 13.908595 | H58: 15.821794 | I58: 13.375964 | J58: 13.584787 | K58: 15.407229
A59: 8 Labourers | B59: 17.494947 | C59: 16.263653 | D59: 16.507827 | E59: 16.803008 | F59: 18.091295 | G59: 21.56456 | H59: 25.038407 | I59: 23.459863 | J59: 23.560992 | K59: 20.184436
A60: 80 Labourers, nfd | B60: 0.98753894 | C60: 0.5190326 | D60: 0.4361318 | E60: 1.2523264 | F60: 0.86583405 | G60: 1.4241916 | H60: NP | I60: 0.63974459 | J60: NP | K60: 0.51487959
A61: 81 Cleaners and laundry workers | B61: 12.454882 | C61: 11.952771 | D61: 12.087669 | E61: 12.645913 | F61: 13.130788 | G61: 14.51767 | H61: 13.141754 | I61: 13.662558 | J61: 14.243101 | K61: 14.481058
A62: 82 Construction and mining labourers | B62: 12.498592 | C62: 11.659553 | D62: 11.153194 | E62: 12.683659 | F62: 14.473206 | G62: 14.886825 | H62: 19.860849 | I62: 14.551052 | J62: 16.8962 | K62: 15.764389
A63: 83 Factory process workers | B63: 13.184101 | C63: 11.957749 | D63: 12.100927 | E63: 12.889435 | F63: 13.866862 | G63: 15.539222 | H63: 16.660731 | I63: 17.652325 | J63: 19.20369 | K63: 17.748658
A64: 84 Farm, forestry and garden workers | B64: 14.943415 | C64: 14.747097 | D64: 15.972637 | E64: 17.448143 | F64: 19.133865 | G64: 19.577321 | H64: 21.194453 | I64: 19.016761 | J64: 19.944657 | K64: 19.460641
A65: 85 Food preparation assistants | B65: 9.7971863 | C65: 9.2944158 | D65: 7.9861668 | E65: 9.1502166 | F65: 9.5280847 | G65: 10.75769 | H65: 8.4614145 | I65: 8.2037516 | J65: 9.0275787 | K65: 8.7987234
A66: 89 Other labourers | B66: 42.372764 | C66: 36.386869 | D66: 39.536324 | E66: 35.998022 | F66: 37.701522 | G66: 49.081725 | H66: 67.69395 | I66: 62.14079 | J66: 55.00573 | K66: 41.878314
A67: Total | B67: 5.525779 | C67: 5.5478452 | D67: 5.536012 | E67: 5.8725322 | F67: 6.1774396 | G67: 6.6165099 | H67: 6.8464626 | I67: 6.907593 | J67: 7.0000187 | K67: 6.6859746

Sheet Table 2.3
A1: ='Cover page'!$A$25 -> Table 2.3. Claims (incidence rate) by Occupation (ANZSCO Sub major group), 10 years to 2024-25
A2: Return to Cover page
A3: Time period scope restriction | B3: TRUE
A4: ClaimType_Label | B4: Serious claims
A6: Claims (incidence rate)
B7: 2015-16 | C7: 2016-17 | D7: 2017-18 | E7: 2018-19 | F7: 2019-20 | G7: 2020-21 | H7: 2021-22 | I7: 2022-23 | J7: 2023-24 | K7: 2024-25p
A8: 1 Managers | B8: 3.3756356 | C8: 3.4833342 | D8: 3.5212697 | E8: 4.1161288 | F8: 4.3142423 | G8: 4.1491042 | H8: 3.8790286 | I8: 4.1141063 | J8: 4.7157448 | K8: 4.5431323
A9: 10 Managers, nfd | B9: NP | C9: NP | D9: NP | E9: NP | F9: NP | G9: NP | H9: NP | I9: NP | J9: 1.6341217 | K9: NP
A10: 11 Chief executives, general managers and legislators | B10: 4.906436 | C10: 6.3072242 | D10: 6.3351682 | E10: 4.7568085 | F10: 7.6571856 | G10: 8.2105873 | H10: 6.9700382 | I10: 6.5143834 | J10: 8.0142567 | K10: 7.0770087
A11: 12 Farmers and farm managers | B11: 5.3523599 | C11: 6.259306 | D11: 5.6236242 | E11: 6.8058504 | F11: 5.9558324 | G11: 6.6675824 | H11: 6.5659819 | I11: 6.6361504 | J11: 6.5634091 | K11: 5.9252943
A12: 13 Specialist managers | B12: 3.0716431 | C12: 2.9374462 | D12: 3.1331075 | E12: 4.005623 | F12: 3.896028 | G12: 3.541207 | H12: 3.0700773 | I12: 3.562595 | J12: 3.9292637 | K12: 3.7785541
A13: 14 Hospitality, retail and service managers | B13: 3.5136955 | C13: 3.6100982 | D13: 3.3161592 | E13: 3.7549995 | F13: 4.1078145 | G13: 3.9885401 | H13: 4.1854477 | I13: 4.1648623 | J13: 5.1136678 | K13: 5.1684115
A14: 2 Professionals | B14: 3.622286 | C14: 3.8927997 | D14: 3.7498981 | E14: 4.0380762 | F14: 3.9833972 | G14: 4.5067407 | H14: 4.5774988 | I14: 5.1715953 | J14: 4.9206532 | K14: 4.6513383
A15: 20 Professionals, nfd | B15: NP | C15: NP | D15: NP | E15: NP | F15: NP | G15: NP | H15: NP | I15: NP | J15: NP | K15: NP
A16: 21 Arts and media professionals | B16: 3.7298639 | C16: 3.8966058 | D16: 4.0287116 | E16: 4.9441684 | F16: 4.4191916 | G16: 4.2940694 | H16: 4.2553851 | I16: 4.4338196 | J16: 4.2834794 | K16: 4.7035547
A17: 22 Business, human resource and marketing professionals | B17: 1.9005113 | C17: 2.1138585 | D17: 1.9063315 | E17: 1.778282 | F17: 1.6758757 | G17: 2.2999131 | H17: 2.010463 | I17: 2.7959143 | J17: 2.3092686 | K17: 2.3297472
A18: 23 Design, engineering, science and transport professionals | B18: 3.3556118 | C18: 3.6263664 | D18: 3.3548958 | E18: 3.2615247 | F18: 2.9326519 | G18: 2.6709613 | H18: 2.8689159 | I18: 2.8920024 | J18: 3.252511 | K18: 3.0216033
A19: 24 Education professionals | B19: 5.4844355 | C19: 6.0828083 | D19: 5.6683092 | E19: 6.6125453 | F19: 6.4352924 | G19: 7.0526828 | H19: 7.7095711 | I19: 10.222398 | J19: 9.3759703 | K19: 7.9252078
A20: 25 Health professionals | B20: 5.4047534 | C20: 5.7320691 | D20: 5.870423 | E20: 6.4556219 | F20: 6.4439682 | G20: 8.1144874 | H20: 8.0820176 | I20: 7.6365568 | J20: 7.3726375 | K20: 7.2613113
A21: 26 ICT professionals | B21: 0.58839645 | C21: 0.56438801 | D21: 0.51257388 | E21: 0.49601772 | F21: 0.5689075 | G21: 0.39590397 | H21: 0.33197487 | I21: 0.40408092 | J21: 0.45565547 | K21: 0.41941342
A22: 27 Legal, social and welfare professionals | B22: 3.4751205 | C22: 3.380073 | D22: 3.1197891 | E22: 3.8087435 | F22: 4.2144612 | G22: 3.9362045 | H22: 4.044854 | I22: 4.7492117 | J22: 5.3556249 | K22: 4.6053505
A23: 3 Technicians and trades workers | B23: 12.810871 | C23: 13.291107 | D23: 12.650009 | E23: 13.201499 | F23: 14.332504 | G23: 14.546647 | H23: 14.585493 | I23: 14.497445 | J23: 15.369064 | K23: 15.534959
A24: 30 Technicians and trades workers, nfd | B24: NP | C24: NP | D24: NP | E24: NP | F24: 2.2554098 | G24: NP | H24: NP | I24: NP | J24: NP | K24: 0.73470849
A25: 31 Engineering, ICT and science technicians | B25: 3.6418357 | C25: 3.9318778 | D25: 4.0666105 | E25: 3.748731 | F25: 3.6497217 | G25: 3.534585 | H25: 4.1801526 | I25: 4.7165486 | J25: 4.5999992 | K25: 4.7255955
A26: 32 Automotive and engineering trades workers | B26: 14.806198 | C26: 15.496617 | D26: 14.32268 | E26: 15.327681 | F26: 16.698491 | G26: 16.063332 | H26: 15.866075 | I26: 15.313438 | J26: 17.416934 | K26: 17.018573
A27: 33 Construction trades workers | B27: 18.848201 | C27: 20.085782 | D27: 18.97752 | E27: 18.666964 | F27: 21.470627 | G27: 22.983581 | H27: 23.210027 | I27: 22.038094 | J27: 22.808376 | K27: 23.529839
A28: 34 Electrotechnology and telecommunications trades workers | B28: 8.4944916 | C28: 9.3028116 | D28: 9.4591948 | E28: 10.084944 | F28: 10.39808 | G28: 10.517876 | H28: 11.097035 | I28: 10.167965 | J28: 11.435398 | K28: 11.452038
A29: 35 Food trades workers | B29: 13.354679 | C29: 13.22461 | D29: 11.369934 | E29: 12.477754 | F29: 13.00414 | G29: 14.137521 | H29: 13.452075 | I29: 14.468135 | J29: 13.794008 | K29: 14.273485
A30: 36 Skilled animal and horticultural workers | B30: 20.594159 | C30: 18.223459 | D30: 16.616228 | E30: 19.55334 | F30: 20.651506 | G30: 22.790163 | H30: 22.869242 | I30: 22.520122 | J30: 24.138569 | K30: 27.073488
A31: 39 Other technicians and trades workers | B31: 14.352792 | C31: 15.670671 | D31: 14.755294 | E31: 15.913723 | F31: 18.417301 | G31: 18.580778 | H31: 16.74935 | I31: 17.798039 | J31: 20.504307 | K31: 19.565407
A32: 4 Community and personal service workers | B32: 13.399431 | C32: 13.841799 | D32: 13.88948 | E32: 16.019371 | F32: 17.585304 | G32: 19.531157 | H32: 20.965562 | I32: 20.946753 | J32: 20.061291 | K32: 19.938091
A33: 40 Community and personal service workers, nfd | B33: NP | C33: NP | D33: NP | E33: NP | F33: NP | G33: NP | H33: NP | I33: NP | J33: NP | K33: NP
A34: 41 Health and welfare support workers | B34: 20.662731 | C34: 23.584076 | D34: 26.775839 | E34: 29.018078 | F34: 32.113549 | G34: 33.025255 | H34: 33.207523 | I34: 34.152577 | J34: 34.451997 | K34: 35.503213
A35: 42 Carers and aides | B35: 13.723802 | C35: 14.398532 | D35: 13.776395 | E35: 15.616145 | F35: 16.262371 | G35: 19.811162 | H35: 16.973332 | I35: 17.936361 | J35: 17.455923 | K35: 17.670077
A36: 43 Hospitality workers | B36: 5.5673182 | C36: 5.1992396 | D36: 5.6701871 | E36: 5.959551 | F36: 6.8903333 | G36: 6.7781978 | H36: 9.0271714 | I36: 6.945757 | J36: 6.6776751 | K36: 7.1364051
A37: 44 Protective service workers | B37: 30.102982 | C37: 28.710048 | D37: 29.677695 | E37: 37.162138 | F37: 40.03678 | G37: 41.235816 | H37: 56.855189 | I37: 64.887521 | J37: 57.74043 | K37: 53.093101
A38: 45 Sports and personal service workers | B38: 6.5791372 | C38: 7.4090042 | D38: 6.9827578 | E38: 7.9059721 | F38: 8.8693968 | G38: 8.1003182 | H38: 9.6986701 | I38: 8.9988391 | J38: 9.9656057 | K38: 9.7408338
A39: 5 Clerical and administrative workers | B39: 3.0641361 | C39: 2.9386745 | D39: 3.2106244 | E39: 3.1161273 | F39: 3.2375641 | G39: 3.4126418 | H39: 3.0472274 | I39: 3.2675095 | J39: 3.4066485 | K39: 3.2594015
A40: 50 Clerical and administrative workers, nfd | B40: NP | C40: NP | D40: NP | E40: NP | F40: NP | G40: NP | H40: NP | I40: NP | J40: NP | K40: NP
A41: 51 Office managers and program administrators | B41: 1.3407354 | C41: 1.4101955 | D41: 1.676502 | E41: 1.4684611 | F41: 1.4137474 | G41: 1.6333328 | H41: 1.3432072 | I41: 1.549516 | J41: 1.7232645 | K41: 1.8465864
A42: 52 Personal assistants and secretaries | B42: 1.456653 | C42: 1.7316102 | D42: 1.7202723 | E42: 1.4449504 | F42: 1.6926026 | G42: 1.5087746 | H42: 1.4420624 | I42: 1.4995131 | J42: 1.6403015 | K42: 1.7682716
A43: 53 General clerical workers | B43: 2.8085103 | C43: 2.164956 | D43: 1.915689 | E43: 1.8757919 | F43: 2.0402713 | G43: 2.0203807 | H43: 1.8986365 | I43: 2.0399194 | J43: 2.3272303 | K43: 2.0971379
A44: 54 Inquiry clerks and receptionists | B44: 1.8001456 | C44: 1.6514773 | D44: 1.8456564 | E44: 1.6824687 | F44: 1.6647332 | G44: 1.9017887 | H44: 1.8416943 | I44: 1.5805363 | J44: 1.9582014 | K44: 1.845862
A45: 55 Numerical clerks | B45: 1.2507214 | C45: 1.0881397 | D45: 1.1402144 | E45: 1.2509328 | F45: 1.2402578 | G45: 1.0294428 | H45: 0.9301887 | I45: 0.92921257 | J45: 1.0413994 | K45: 1.0560065
A46: 56 Clerical and office support workers | B46: 9.7760018 | C46: 11.985926 | D46: 12.941528 | E46: 14.348496 | F46: 17.902543 | G46: 20.361494 | H46: 16.175703 | I46: 19.1805 | J46: 19.921431 | K46: 17.821305
A47: 59 Other clerical and administrative workers | B47: 7.8270413 | C47: 7.409665 | D47: 8.2136579 | E47: 8.0196472 | F47: 8.1031174 | G47: 8.428602 | H47: 7.18467 | I47: 8.112383 | J47: 7.1146655 | K47: 6.6709513
A48: 6 Sales workers | B48: 4.6661914 | C48: 4.6189733 | D48: 4.1916526 | E48: 4.4692766 | F48: 4.7591313 | G48: 4.4872977 | H48: 4.1604403 | I48: 4.512328 | J48: 4.8606962 | K48: 4.3115781
A49: 60 Sales workers, nfd | B49: NP | C49: NP | D49: NP | E49: NP | F49: NP | G49: NP | H49: NP | I49: NP | J49: NP | K49: NP
A50: 61 Sales representatives and agents | B50: 3.2637311 | C50: 3.207311 | D50: 3.2635221 | E50: 3.9948233 | F50: 3.9702282 | G50: 3.6747646 | H50: 2.9817142 | I50: 3.9746251 | J50: 3.9041646 | K50: 3.3708121
A51: 62 Sales assistants and salespersons | B51: 5.3244976 | C51: 5.3046421 | D51: 4.9090969 | E51: 5.2098554 | F51: 5.7719218 | G51: 5.0688435 | H51: 4.9233139 | I51: 4.9871108 | J51: 5.7010382 | K51: 4.9282314
A52: 63 Sales support workers | B52: 3.3491312 | C52: 3.439658 | D52: 2.6676297 | E52: 2.5818617 | F52: 2.4482675 | G52: 3.0656803 | H52: 2.3812659 | I52: 3.0516336 | J52: 2.5933887 | K52: 2.723183
A53: 7 Machinery operators and drivers | B53: 21.170541 | C53: 20.99488 | D53: 19.538388 | E53: 20.182928 | F53: 20.83828 | G53: 21.890841 | H53: 22.60062 | I53: 22.505283 | J53: 23.133291 | K53: 23.709488
A54: 70 Machinery operators and drivers, nfd | B54: NP | C54: NP | D54: NP | E54: 2.6710671 | F54: NP | G54: NP | H54: NP | I54: NP | J54: NP | K54: 3.9698335
A55: 71 Machine and stationary plant operators | B55: 19.6395 | C55: 19.538671 | D55: 19.426224 | E55: 19.847883 | F55: 20.978218 | G55: 22.550679 | H55: 20.484496 | I55: 22.155708 | J55: 23.381561 | K55: 25.57918
A56: 72 Mobile plant operators | B56: 17.344991 | C56: 17.261652 | D56: 14.902657 | E56: 14.451616 | F56: 15.60254 | G56: 15.640367 | H56: 16.409033 | I56: 16.836416 | J56: 17.474007 | K56: 17.763996
A57: 73 Road and rail drivers | B57: 24.184549 | C57: 23.988106 | D57: 21.537574 | E57: 22.276531 | F57: 22.62062 | G57: 23.828791 | H57: 25.3298 | I57: 25.821216 | J57: 26.83506 | K57: 24.899863
A58: 74 Storepersons | B58: 20.762567 | C58: 20.058716 | D58: 19.800915 | E58: 22.059831 | F58: 22.167468 | G58: 22.904148 | H58: 25.001286 | I58: 21.919278 | J58: 21.634473 | K58: 24.413807
A59: 8 Labourers | B59: 24.945399 | C59: 23.210595 | D59: 23.671434 | E59: 24.249163 | F59: 24.979861 | G59: 29.951723 | H59: 33.796317 | I59: 33.222839 | J59: 32.652366 | K59: 27.972935
A60: 80 Labourers, nfd | B60: 1.5682916 | C60: 0.80821319 | D60: 0.77786586 | E60: 2.0089667 | F60: 1.4061562 | G60: 2.3625678 | H60: NP | I60: 1.0003671 | J60: NP | K60: 0.84670387
A61: 81 Cleaners and laundry workers | B61: 14.542474 | C61: 14.126808 | D61: 14.63906 | E61: 15.406629 | F61: 15.051417 | G61: 16.929403 | H61: 15.720244 | I61: 17.119874 | J61: 17.962284 | K61: 18.03221
A62: 82 Construction and mining labourers | B62: 25.094177 | C62: 22.578759 | D62: 22.15593 | E62: 25.3681 | F62: 27.134744 | G62: 28.573806 | H62: 36.168398 | I62: 29.218713 | J62: 32.621666 | K62: 30.151915
A63: 83 Factory process workers | B63: 22.142784 | C63: 20.597229 | D63: 20.635317 | E63: 22.504173 | F63: 23.252281 | G63: 25.576776 | H63: 26.972751 | I63: 28.594404 | J63: 30.591593 | K63: 29.405425
A64: 84 Farm, forestry and garden workers | B64: 24.849022 | C64: 24.441151 | D64: 27.429211 | E64: 29.008987 | F64: 31.226576 | G64: 31.800894 | H64: 33.655708 | I64: 30.501779 | J64: 32.057064 | K64: 31.416224
A65: 85 Food preparation assistants | B65: 9.2009711 | C65: 8.685907 | D65: 7.4868412 | E65: 8.5549916 | F65: 8.9049193 | G65: 9.8744379 | H65: 7.7838276 | I65: 7.7491483 | J65: 8.2197897 | K65: 8.0498633
A66: 89 Other labourers | B66: 57.556158 | C66: 50.298322 | D66: 51.786101 | E66: 48.147962 | F66: 48.484002 | G66: 65.196946 | H66: 89.503267 | I66: 85.956106 | J66: 72.894251 | K66: 54.374029
A67: Total | B67: 9.127712 | C67: 9.1363686 | D67: 9.1434861 | E67: 9.616914 | F67: 10.003785 | G67: 10.698495 | H67: 10.975627 | I67: 11.210217 | J67: 11.239198 | K67: 10.717333

Sheet Table 2.4
A1: ='Cover page'!$A$26 -> Table 2.4. Claims (median compensation) by Occupation (ANZSCO Sub major group), 10 years to 2024-25
A2: Return to Cover page
A3: Time period scope restriction | B3: TRUE
A4: ClaimType_Label | B4: Serious claims
A6: Claims (median compensation paid $)
B7: 2015-16 | C7: 2016-17 | D7: 2017-18 | E7: 2018-19 | F7: 2019-20 | G7: 2020-21 | H7: 2021-22 | I7: 2022-23 | J7: 2023-24 | K7: 2024-25p
A8: 1 Managers | B8: 18581 | C8: 21077 | D8: 21738 | E8: 22789 | F8: 23458 | G8: 23726.5 | H8: 26363 | I8: 30976.5 | J8: 34832 | K8: NP
A9: 10 Managers, nfd | B9: NP | C9: NP | D9: NP | E9: NP | F9: NP | G9: NP | H9: NP | I9: NP | J9: 49706 | K9: NP
A10: 11 Chief executives, general managers and legislators | B10: 25153 | C10: 26622 | D10: 31074 | E10: 38950.5 | F10: 37968 | G10: 37393 | H10: 36468.5 | I10: 50021 | J10: 47940 | K10: NP
A11: 12 Farmers and farm managers | B11: 11198 | C11: 16910 | D11: 14253 | E11: 15586.5 | F11: 11865 | G11: 13039 | H11: 15348 | I11: 18267 | J11: 22455 | K11: NP
A12: 13 Specialist managers | B12: 21033.5 | C12: 23697.5 | D12: 25031 | E12: 24972.5 | F12: 25276 | G12: 24816 | H12: 33295 | I12: 37453 | J12: 41557 | K12: NP
A13: 14 Hospitality, retail and service managers | B13: 14558 | C13: 16527 | D13: 17038.5 | E13: 17801 | F13: 20165.5 | G13: 20865 | H13: 18017 | I13: 21669 | J13: 24623 | K13: NP
A14: 2 Professionals | B14: 14052.5 | C14: 15449 | D14: 16424 | E14: 17376 | F14: 18423 | G14: 19242 | H14: 15607 | I14: 16576 | J14: 22562.5 | K14: NP
A15: 20 Professionals, nfd | B15: NP | C15: NP | D15: NP | E15: NP | F15: NP | G15: NP | H15: NP | I15: NP | J15: NP | K15: NP
A16: 21 Arts and media professionals | B16: 14830 | C16: 19847 | D16: 15959 | E16: 22584 | F16: 20119 | G16: 19726 | H16: 19531.5 | I16: 24585 | J16: 24233 | K16: NP
A17: 22 Business, human resource and marketing professionals | B17: 17255.5 | C17: 17539 | D17: 20814 | E17: 22276 | F17: 30327 | G17: 23664 | H17: 20715 | I17: 26266.5 | J17: 37777.5 | K17: NP
A18: 23 Design, engineering, science and transport professionals | B18: 15516.5 | C18: 16072.5 | D18: 17157 | E18: 20964 | F18: 16551 | G18: 19036 | H18: 17462 | I18: 21035 | J18: 24641 | K18: NP
A19: 24 Education professionals | B19: 12940 | C19: 15420.5 | D19: 17055 | E19: 17776 | F19: 17814.5 | G19: 19957 | H19: 12419 | I19: 13561 | J19: 22601 | K19: NP
A20: 25 Health professionals | B20: 11991 | C20: 12677 | D20: 13034.5 | E20: 13511 | F20: 15076 | G20: 15469.5 | H20: 14460 | I20: 13295.5 | J20: 15204.5 | K20: NP
A21: 26 ICT professionals | B21: 17801 | C21: 21500 | D21: 21759 | E21: 24813 | F21: 28017 | G21: 27414 | H21: 30069 | I21: 32188.5 | J21: 45222 | K21: NP
A22: 27 Legal, social and welfare professionals | B22: 18589 | C22: 22437 | D22: 25675.5 | E22: 24923 | F22: 27194 | G22: 36776.5 | H22: 32588 | I22: 37463 | J22: 38581 | K22: NP
A23: 3 Technicians and trades workers | B23: 13316 | C23: 13968 | D23: 14473 | E23: 14718 | F23: 15283 | G23: 15482.5 | H23: 16310 | I23: 17622 | J23: 18450 | K23: NP
A24: 30 Technicians and trades workers, nfd | B24: NP | C24: NP | D24: NP | E24: NP | F24: 12657.5 | G24: NP | H24: NP | I24: NP | J24: NP | K24: NP
A25: 31 Engineering, ICT and science technicians | B25: 17469 | C25: 19757.5 | D25: 19399 | E25: 19777 | F25: 21813.5 | G25: 20341 | H25: 21937 | I25: 22634 | J25: 26115.5 | K25: NP
A26: 32 Automotive and engineering trades workers | B26: 14868.5 | C26: 14876 | D26: 14992 | E26: 16054 | F26: 16146 | G26: 16238 | H26: 18400 | I26: 20049 | J26: 19914.5 | K26: NP
A27: 33 Construction trades workers | B27: 13641.5 | C27: 14559 | D27: 14830 | E27: 15906 | F27: 16567 | G27: 16320 | H27: 17035 | I27: 17669 | J27: 19028 | K27: NP
A28: 34 Electrotechnology and telecommunications trades workers | B28: 14870.5 | C28: 15182 | D28: 16684 | E28: 15813 | F28: 16223 | G28: 16713 | H28: 16551 | I28: 19218 | J28: 19787 | K28: NP
A29: 35 Food trades workers | B29: 8713 | C29: 9892 | D29: 9702.5 | E29: 9766 | F29: 10672 | G29: 10650 | H29: 9858 | I29: 12161 | J29: 11677 | K29: NP
A30: 36 Skilled animal and horticultural workers | B30: 10216 | C30: 10492 | D30: 11349 | E30: 11313 | F30: 11743 | G30: 13183.5 | H30: 13368 | I30: 14270.5 | J30: 15001 | K30: NP
A31: 39 Other technicians and trades workers | B31: 15040 | C31: 14932 | D31: 16830 | E31: 14150 | F31: 16040.5 | G31: 16239.5 | H31: 18866 | I31: 20052 | J31: 21591 | K31: NP
A32: 4 Community and personal service workers | B32: 9912 | C32: 11011 | D32: 12110 | E32: 12939 | F32: 13104 | G32: 14764 | H32: 11045 | I32: 12752 | J32: 16620 | K32: NP
A33: 40 Community and personal service workers, nfd | B33: NP | C33: NP | D33: NP | E33: NP | F33: NP | G33: NP | H33: NP | I33: NP | J33: NP | K33: NP
A34: 41 Health and welfare support workers | B34: 10182.5 | C34: 10952 | D34: 12499 | E34: 13074 | F34: 13647 | G34: 15717.5 | H34: 15572 | I34: 15633 | J34: 18994 | K34: NP
A35: 42 Carers and aides | B35: 7736 | C35: 8096 | D35: 8799 | E35: 9187 | F35: 9099 | G35: 10238 | H35: 9116 | I35: 9341 | J35: 11717 | K35: NP
A36: 43 Hospitality workers | B36: 5942 | C36: 6986 | D36: 7844 | E36: 8484 | F36: 7138 | G36: 7920 | H36: 2954 | I36: 8543.5 | J36: 9777 | K36: NP
A37: 44 Protective service workers | B37: 17841 | C37: 21396.5 | D37: 23605 | E37: 26749 | F37: 28400 | G37: 32817 | H37: 17456 | I37: 21765 | J37: 33915.5 | K37: NP
A38: 45 Sports and personal service workers | B38: 11462 | C38: 13569 | D38: 14244 | E38: 14374.5 | F38: 15814.5 | G38: 16818 | H38: 15512 | I38: 15657 | J38: 16449.5 | K38: NP
A39: 5 Clerical and administrative workers | B39: 16669 | C39: 18949 | D39: 19548 | E39: 20343 | F39: 22141 | G39: 22452 | H39: 23972 | I39: 25386 | J39: 30626 | K39: NP
A40: 50 Clerical and administrative workers, nfd | B40: NP | C40: NP | D40: NP | E40: NP | F40: NP | G40: NP | H40: NP | I40: NP | J40: NP | K40: NP
A41: 51 Office managers and program administrators | B41: 20989 | C41: 27115 | D41: 28724 | E41: 28451 | F41: 28875 | G41: 29178 | H41: 47714 | I41: 44133 | J41: 45554.5 | K41: NP
A42: 52 Personal assistants and secretaries | B42: 20700 | C42: 22536 | D42: 21577 | E42: 17024 | F42: 20497 | G42: 25181 | H42: 31641 | I42: 30609 | J42: 37934 | K42: NP
A43: 53 General clerical workers | B43: 12751 | C43: 12640 | D43: 12919 | E43: 17126.5 | F43: 21234.5 | G43: 19938 | H43: 20393 | I43: 18484 | J43: 23608 | K43: NP
A44: 54 Inquiry clerks and receptionists | B44: 14522.5 | C44: 15212 | D44: 18609 | E44: 17502 | F44: 17406 | G44: 18128 | H44: 19066 | I44: 18314 | J44: 29718 | K44: NP
A45: 55 Numerical clerks | B45: 17626 | C45: 21371 | D45: 24238.5 | E45: 26076 | F45: 26227.5 | G45: 32917 | H45: 34659 | I45: 38625 | J45: 43608 | K45: NP
A46: 56 Clerical and office support workers | B46: 14785 | C46: 17697.5 | D46: 16739 | E46: 15284.5 | F46: 18289 | G46: 16713 | H46: 17259 | I46: 20421.5 | J46: 22893 | K46: NP
A47: 59 Other clerical and administrative workers | B47: 19230.5 | C47: 20023 | D47: 20808 | E47: 23370 | F47: 24916 | G47: 26551.5 | H47: 28905 | I47: 27881.5 | J47: 34993 | K47: NP
A48: 6 Sales workers | B48: 11271 | C48: 12073.5 | D48: 12864 | E48: 12915 | F48: 14026 | G48: 14859 | H48: 12821 | I48: 15083 | J48: 15812 | K48: NP
A49: 60 Sales workers, nfd | B49: NP | C49: NP | D49: NP | E49: NP | F49: NP | G49: NP | H49: NP | I49: NP | J49: NP | K49: NP
A50: 61 Sales representatives and agents | B50: 18216 | C50: 19241 | D50: 21300.5 | E50: 21224 | F50: 22637.5 | G50: 26512 | H50: 27494 | I50: 29811 | J50: 28346 | K50: NP
A51: 62 Sales assistants and salespersons | B51: 10271 | C51: 10866 | D51: 11495 | E51: 11171 | F51: 12578 | G51: 12945.5 | H51: 11501.5 | I51: 13511.5 | J51: 13875 | K51: NP
A52: 63 Sales support workers | B52: 12802 | C52: 12724.5 | D52: 15442 | E52: 13622.5 | F52: 18556 | G52: 19494 | H52: 15787.5 | I52: 19157.5 | J52: 23637 | K52: NP
A53: 7 Machinery operators and drivers | B53: 16432.5 | C53: 17060 | D53: 18024 | E53: 19056 | F53: 20349 | G53: 21040 | H53: 17750 | I53: 22258 | J53: 24524.5 | K53: NP
A54: 70 Machinery operators and drivers, nfd | B54: NP | C54: NP | D54: NP | E54: 11197 | F54: NP | G54: NP | H54: NP | I54: NP | J54: NP | K54: NP
A55: 71 Machine and stationary plant operators | B55: 20928 | C55: 22232.5 | D55: 22789.5 | E55: 24047 | F55: 24019 | G55: 25636 | H55: 26018 | I55: 28491 | J55: 28514 | K55: NP
A56: 72 Mobile plant operators | B56: 15513.5 | C56: 15820.5 | D56: 16542 | E56: 20969.5 | F56: 21589 | G56: 21665.5 | H56: 22068 | I56: 24243 | J56: 22358 | K56: NP
A57: 73 Road and rail drivers | B57: 17365.5 | C57: 18047.5 | D57: 19251 | E57: 19853 | F57: 21865 | G57: 23177.5 | H57: 21581.5 | I57: 25337 | J57: 27920.5 | K57: NP
A58: 74 Storepersons | B58: 11466 | C58: 12072 | D58: 12779 | E58: 12800.5 | F58: 13681.5 | G58: 13081 | H58: 6649 | I58: 11761 | J58: 16945 | K58: NP
A59: 8 Labourers | B59: 11743.5 | C59: 12734.5 | D59: 13431 | E59: 13760.5 | F59: 13727 | G59: 13693.5 | H59: 13554 | I59: 14507.5 | J59: 14468.5 | K59: NP
A60: 80 Labourers, nfd | B60: 22999 | C60: 82291 | D60: 33818 | E60: 38853 | F60: 44999 | G60: 42647 | H60: NP | I60: 151829 | J60: NP | K60: NP
A61: 81 Cleaners and laundry workers | B61: 10447 | C61: 11041.5 | D61: 11113 | E61: 11493.5 | F61: 12144 | G61: 13774 | H61: 12718.5 | I61: 14590 | J61: 16180 | K61: NP
A62: 82 Construction and mining labourers | B62: 18579.5 | C62: 17688 | D62: 18504 | E62: 20256 | F62: 20778 | G62: 19651 | H62: 19604 | I62: 21363 | J62: 23944 | K62: NP
A63: 83 Factory process workers | B63: 11880.5 | C63: 13184.5 | D63: 12896 | E63: 13501 | F63: 12951 | G63: 13987 | H63: 13686 | I63: 15048.5 | J63: 15947 | K63: NP
A64: 84 Farm, forestry and garden workers | B64: 11725 | C64: 12504.5 | D64: 12846 | E64: 12117 | F64: 12070.5 | G64: 11807 | H64: 13462.5 | I64: 14204.5 | J64: 15594.5 | K64: NP
A65: 85 Food preparation assistants | B65: 5374 | C65: 6085 | D65: 6512 | E65: 6889 | F65: 7164 | G65: 6687.5 | H65: 6542 | I65: 9771.5 | J65: 10012 | K65: NP
A66: 89 Other labourers | B66: 11488 | C66: 12894 | D66: 14110 | E66: 14370 | F66: 14176 | G66: 13657 | H66: 13147 | I66: 13736 | J66: 12147 | K66: NP
A67: Total | B67: 12958 | C67: 14014.5 | D67: 14685 | E67: 15272.5 | F67: 15788 | G67: 16368 | H67: 14898 | I67: 16589 | J67: 19007 | K67: NP

Sheet Table 2.5
A1: ='Cover page'!$A$27 -> Table 2.5. Claims (median time lost) by Occupation (ANZSCO Sub major group), 10 years to 2024-25
A2: Return to Cover page
A3: Time period scope restriction | B3: TRUE
A4: ClaimType_Label | B4: Serious claims
A6: Claims (median time lost weeks)
B7: 2015-16 | C7: 2016-17 | D7: 2017-18 | E7: 2018-19 | F7: 2019-20 | G7: 2020-21 | H7: 2021-22 | I7: 2022-23 | J7: 2023-24 | K7: 2024-25p
A8: 1 Managers | B8: 7.72 | C8: 8.23 | D8: 9 | E8: 8.6 | F8: 9.145 | G8: 9.46 | H8: 10.395 | I8: 11.2 | J8: 12.78 | K8: NP
A9: 10 Managers, nfd | B9: NP | C9: NP | D9: NP | E9: NP | F9: NP | G9: NP | H9: NP | I9: NP | J9: 26.69 | K9: NP
A10: 11 Chief executives, general managers and legislators | B10: 9.28 | C10: 9.535 | D10: 11.4 | E10: 14 | F10: 14.79 | G10: 15.66 | H10: 14 | I10: 17.54 | J10: 19 | K10: NP
A11: 12 Farmers and farm managers | B11: 5.5 | C11: 7 | D11: 6.5 | E11: 6.4 | F11: 6 | G11: 6 | H11: 7.29 | I11: 7.72 | J11: 7.54 | K11: NP
A12: 13 Specialist managers | B12: 8 | C12: 8.61 | D12: 9.6 | E12: 8.53 | F12: 8.6 | G12: 9 | H12: 11.8 | I12: 11.61 | J12: 14 | K12: NP
A13: 14 Hospitality, retail and service managers | B13: 7.21 | C13: 7.85 | D13: 8.09 | E13: 8.355 | F13: 10 | G13: 9.795 | H13: 8.4 | I13: 10 | J13: 10.61 | K13: NP
A14: 2 Professionals | B14: 6 | C14: 6.44 | D14: 7 | E14: 7.2 | F14: 7.6 | G14: 8.21 | H14: 6.4 | I14: 6.61 | J14: 9.11 | K14: NP
A15: 20 Professionals, nfd | B15: NP | C15: NP | D15: NP | E15: NP | F15: NP | G15: NP | H15: NP | I15: NP | J15: NP | K15: NP
A16: 21 Arts and media professionals | B16: 6.1 | C16: 8.71 | D16: 8.09 | E16: 9.8 | F16: 9.21 | G16: 10 | H16: 9.1 | I16: 10.185 | J16: 10.715 | K16: NP
A17: 22 Business, human resource and marketing professionals | B17: 6.61 | C17: 6.515 | D17: 8 | E17: 8.9 | F17: 11.4 | G17: 9 | H17: 7.795 | I17: 9.85 | J17: 14.945 | K17: NP
A18: 23 Design, engineering, science and transport professionals | B18: 5.79 | C18: 6.2 | D18: 7.2 | E18: 8 | F18: 6.14 | G18: 6.945 | H18: 6.825 | I18: 7.8 | J18: 8.93 | K18: NP
A19: 24 Education professionals | B19: 4.61 | C19: 5.6 | D19: 6 | E19: 6.39 | F19: 6.19 | G19: 6.99 | H19: 4.2 | I19: 4.4 | J19: 7.875 | K19: NP
A20: 25 Health professionals | B20: 6.47 | C20: 6.68 | D20: 7.11 | E20: 6.595 | F20: 7.69 | G20: 8.22 | H20: 7.13 | I20: 6.6 | J20: 7.17 | K20: NP
A21: 26 ICT professionals | B21: 6.645 | C21: 8.58 | D21: 6.5 | E21: 7.4 | F21: 8.5 | G21: 10.98 | H21: 9.12 | I21: 10.74 | J21: 11.4 | K21: NP
A22: 27 Legal, social and welfare professionals | B22: 10 | C22: 11.79 | D22: 13.86 | E22: 11.79 | F22: 13.615 | G22: 17.1 | H22: 16.29 | I22: 17.58 | J22: 18.79 | K22: NP
A23: 3 Technicians and trades workers | B23: 5.86 | C23: 6 | D23: 6.6 | E23: 6.335 | F23: 6.61 | G23: 6.895 | H23: 7 | I23: 7.3 | J23: 7.29 | K23: NP
A24: 30 Technicians and trades workers, nfd | B24: NP | C24: NP | D24: NP | E24: NP | F24: 5.24 | G24: NP | H24: NP | I24: NP | J24: NP | K24: NP
A25: 31 Engineering, ICT and science technicians | B25: 6.615 | C25: 7.5 | D25: 8.17 | E25: 7.205 | F25: 8.76 | G25: 8.39 | H25: 9.045 | I25: 8.49 | J25: 8.6 | K25: NP
A26: 32 Automotive and engineering trades workers | B26: 5.8 | C26: 5.96 | D26: 6 | E26: 6 | F26: 6 | G26: 6.4 | H26: 6.86 | I26: 7.04 | J26: 7 | K26: NP
A27: 33 Construction trades workers | B27: 6.21 | C27: 6.61 | D27: 7.21 | E27: 7.79 | F27: 7.875 | G27: 7.8 | H27: 8 | I27: 8 | J27: 8.35 | K27: NP
A28: 34 Electrotechnology and telecommunications trades workers | B28: 5.79 | C28: 6.16 | D28: 6.6 | E28: 6.2 | F28: 6.6 | G28: 6.83 | H28: 6.61 | I28: 7.43 | J28: 7.2 | K28: NP
A29: 35 Food trades workers | B29: 4.61 | C29: 5 | D29: 5 | E29: 4.8 | F29: 5 | G29: 5.39 | H29: 5 | I29: 5.6 | J29: 5.25 | K29: NP
A30: 36 Skilled animal and horticultural workers | B30: 5.525 | C30: 5.79 | D30: 6.185 | E30: 5.84 | F30: 6 | G30: 6.725 | H30: 7 | I30: 7.185 | J30: 6.895 | K30: NP
A31: 39 Other technicians and trades workers | B31: 6.05 | C31: 6.2 | D31: 7.405 | E31: 6.38 | F31: 7 | G31: 7.04 | H31: 8.2 | I31: 8 | J31: 8 | K31: NP
A32: 4 Community and personal service workers | B32: 6.29 | C32: 6.33 | D32: 7 | E32: 7 | F32: 7.18 | G32: 8.21 | H32: 6.2 | I32: 6.71 | J32: 8.4 | K32: NP
A33: 40 Community and personal service workers, nfd | B33: NP | C33: NP | D33: NP | E33: NP | F33: NP | G33: NP | H33: NP | I33: NP | J33: NP | K33: NP
A34: 41 Health and welfare support workers | B34: 6.96 | C34: 6.72 | D34: 7.62 | E34: 7.4 | F34: 7.4 | G34: 8.79 | H34: 8.6 | I34: 8.39 | J34: 9.2 | K34: NP
A35: 42 Carers and aides | B35: 5.32 | C35: 5.6 | D35: 6 | E35: 6.08 | F35: 6 | G35: 7 | H35: 6.2 | I35: 6 | J35: 7 | K35: NP
A36: 43 Hospitality workers | B36: 5.58 | C36: 4.32 | D36: 4.89 | E36: 5.36 | F36: 4.6 | G36: 5 | H36: 2.285 | I36: 5.155 | J36: 5.59 | K36: NP
A37: 44 Protective service workers | B37: 8.4 | C37: 8.33 | D37: 8.79 | E37: 9.375 | F37: 9.88 | G37: 12.075 | H37: 6.28 | I37: 7.2 | J37: 12.39 | K37: NP
A38: 45 Sports and personal service workers | B38: 7 | C38: 8 | D38: 9 | E38: 7.87 | F38: 9.12 | G38: 9.66 | H38: 10 | I38: 9.375 | J38: 8.14 | K38: NP
A39: 5 Clerical and administrative workers | B39: 7.4 | C39: 8.07 | D39: 8.39 | E39: 8.905 | F39: 9.39 | G39: 10.11 | H39: 10.87 | I39: 10.395 | J39: 12.86 | K39: NP
A40: 50 Clerical and administrative workers, nfd | B40: NP | C40: NP | D40: NP | E40: NP | F40: NP | G40: NP | H40: NP | I40: NP | J40: NP | K40: NP
A41: 51 Office managers and program administrators | B41: 6.72 | C41: 9.015 | D41: 10 | E41: 12 | F41: 9.8 | G41: 11.62 | H41: 20.135 | I41: 15.905 | J41: 15.83 | K41: NP
A42: 52 Personal assistants and secretaries | B42: 10.16 | C42: 10.28 | D42: 7.89 | E42: 7.855 | F42: 10.07 | G42: 9.955 | H42: 12.77 | I42: 14.985 | J42: 17.12 | K42: NP
A43: 53 General clerical workers | B43: 7.79 | C43: 7.84 | D43: 7.55 | E43: 8.2 | F43: 10.2 | G43: 10.345 | H43: 10.74 | I43: 8.66 | J43: 12 | K43: NP
A44: 54 Inquiry clerks and receptionists | B44: 8.04 | C44: 8.35 | D44: 9.73 | E44: 12 | F44: 11.745 | G44: 10.475 | H44: 11.21 | I44: 9.76 | J44: 15.44 | K44: NP
A45: 55 Numerical clerks | B45: 8.21 | C45: 9.235 | D45: 10.8 | E45: 10.02 | F45: 12.25 | G45: 15.665 | H45: 16 | I45: 14.875 | J45: 18.2 | K45: NP
A46: 56 Clerical and office support workers | B46: 6.6 | C46: 8 | D46: 8.02 | E46: 6.82 | F46: 8.385 | G46: 7.8 | H46: 8 | I46: 8.86 | J46: 10 | K46: NP
A47: 59 Other clerical and administrative workers | B47: 7.39 | C47: 7.6 | D47: 8.155 | E47: 9 | F47: 8.6 | G47: 10.985 | H47: 11.455 | I47: 10.1 | J47: 13.49 | K47: NP
A48: 6 Sales workers | B48: 6.8 | C48: 7.19 | D48: 8.2 | E48: 9.205 | F48: 9.5 | G48: 10 | H48: 8.8 | I48: 9.785 | J48: 9.27 | K48: NP
A49: 60 Sales workers, nfd | B49: NP | C49: NP | D49: NP | E49: NP | F49: NP | G49: NP | H49: NP | I49: NP | J49: NP | K49: NP
A50: 61 Sales representatives and agents | B50: 7.4 | C50: 8.33 | D50: 8.6 | E50: 8.635 | F50: 10 | G50: 10.94 | H50: 13 | I50: 11.3 | J50: 11.2 | K50: NP
A51: 62 Sales assistants and salespersons | B51: 6.68 | C51: 7 | D51: 8.06 | E51: 9.58 | F51: 9.2 | G51: 9.89 | H51: 8.13 | I51: 9 | J51: 8.745 | K51: NP
A52: 63 Sales support workers | B52: 7.225 | C52: 7.21 | D52: 8.2 | E52: 8.225 | F52: 10.5 | G52: 11.12 | H52: 10.6 | I52: 11.61 | J52: 12.98 | K52: NP
A53: 7 Machinery operators and drivers | B53: 7.215 | C53: 7.6 | D53: 8.28 | E53: 8.2 | F53: 8.81 | G53: 9.48 | H53: 8.42 | I53: 9.6 | J53: 10.2 | K53: NP
A54: 70 Machinery operators and drivers, nfd | B54: NP | C54: NP | D54: NP | E54: 6.99 | F54: NP | G54: NP | H54: NP | I54: NP | J54: NP | K54: NP
A55: 71 Machine and stationary plant operators | B55: 7.8 | C55: 8.23 | D55: 8.6 | E55: 8.86 | F55: 9.155 | G55: 9.76 | H55: 10.39 | I55: 10.53 | J55: 10.21 | K55: NP
A56: 72 Mobile plant operators | B56: 6.8 | C56: 6.86 | D56: 7.39 | E56: 8.16 | F56: 8.66 | G56: 9.2 | H56: 9.31 | I56: 9.75 | J56: 9.37 | K56: NP
A57: 73 Road and rail drivers | B57: 8.2 | C57: 8.36 | D57: 9.4 | E57: 9 | F57: 10 | G57: 10.95 | H57: 10.2 | I57: 11.14 | J57: 11.6 | K57: NP
A58: 74 Storepersons | B58: 5.21 | C58: 5.6 | D58: 6.2 | E58: 6 | F58: 6.21 | G58: 7.05 | H58: 4 | I58: 6.2 | J58: 8 | K58: NP
A59: 8 Labourers | B59: 6 | C59: 6.4 | D59: 7 | E59: 7 | F59: 7 | G59: 7 | H59: 6.6 | I59: 6.81 | J59: 6.53 | K59: NP
A60: 80 Labourers, nfd | B60: 10.48 | C60: 35.72 | D60: 21.26 | E60: 19.64 | F60: 17.25 | G60: 23 | H60: NP | I60: 37.2 | J60: NP | K60: NP
A61: 81 Cleaners and laundry workers | B61: 7.39 | C61: 7.51 | D61: 8.2 | E61: 8.04 | F61: 9 | G61: 10 | H61: 9.39 | I61: 10.205 | J61: 10.5 | K61: NP
A62: 82 Construction and mining labourers | B62: 7.71 | C62: 7.8 | D62: 8.2 | E62: 8.78 | F62: 8.55 | G62: 8.6 | H62: 8.4 | I62: 9 | J62: 9.6 | K62: NP
A63: 83 Factory process workers | B63: 5.41 | C63: 6 | D63: 6.6 | E63: 6.2 | F63: 6 | G63: 7 | H63: 6.995 | I63: 7.21 | J63: 6.8 | K63: NP
A64: 84 Farm, forestry and garden workers | B64: 6.195 | C64: 6.6 | D64: 7 | E64: 6.4 | F64: 6.4 | G64: 6.4 | H64: 7 | I64: 6.85 | J64: 7.36 | K64: NP
A65: 85 Food preparation assistants | B65: 4.4 | C65: 4.49 | D65: 4.66 | E65: 5 | F65: 4.93 | G65: 5.1 | H65: 5 | I65: 6.14 | J65: 5.8 | K65: NP
A66: 89 Other labourers | B66: 5.79 | C66: 6 | D66: 6.79 | E66: 7 | F66: 6.97 | G66: 6.36 | H66: 5.92 | I66: 5.8 | J66: 5 | K66: NP
A67: Total | B67: 6.32 | C67: 6.61 | D67: 7.2 | E67: 7.2 | F67: 7.5 | G67: 8 | H67: 7.05 | I67: 7.55 | J67: 8.21 | K67: NP

Sheet Table 3.1
A1: ='Cover page'!$A$29 -> Table 3.1. Claims (count) by Nature (TOOCS Sub major group), 10 years to 2024-25
A2: Return to Cover page
A3: Time period scope restriction | B3: TRUE
A4: ClaimType_Label | B4: Serious claims
A6: Claims (count)
B7: 2015-16 | C7: 2016-17 | D7: 2017-18 | E7: 2018-19 | F7: 2019-20 | G7: 2020-21 | H7: 2021-22 | I7: 2022-23 | J7: 2023-24 | K7: 2024-25p
A8: 0 Injuries | B8: 75314 | C8: 76862 | D8: 78718 | E8: 83070 | F8: 83543 | G8: 92462 | H8: 87672 | I8: 94347 | J8: 99610 | K8: 98035
A9: A Intracranial injuries | B9: 597 | C9: 711 | D9: 763 | E9: 997 | F9: 1029 | G9: 1155 | H9: 1138 | I9: 1460 | J9: 1774 | K9: 1846
A10: A1 Intracranial injuries | B10: 597 | C10: 711 | D10: 763 | E10: 997 | F10: 1029 | G10: 1155 | H10: 1138 | I10: 1460 | J10: 1774 | K10: 1846
A11: B Fractures | B11: 10455 | C11: 11437 | D11: 11864 | E11: 12155 | F11: 12976 | G11: 13828 | H11: 13910 | I11: 14569 | J11: 15421 | K11: 15247
A12: B1 Fractures | B12: 10455 | C12: 11437 | D12: 11864 | E12: 12155 | F12: 12976 | G12: 13828 | H12: 13910 | I12: 14569 | J12: 15421 | K12: 15247
A13: C Wounds, lacerations, amputations and internal organ damage | B13: 15404 | C13: 15441 | D13: 16137 | E13: 17652 | F13: 18157 | G13: 19061 | H13: 19019 | I13: 21267 | J13: 21496 | K13: 21453
A14: C1 Wounds, lacerations, amputations and internal organ damage | B14: 15404 | C14: 15441 | D14: 16137 | E14: 17652 | F14: 18157 | G14: 19061 | H14: 19019 | I14: 21267 | J14: 21496 | K14: 21453
A15: D Burn | B15: 1490 | C15: 1508 | D15: 1592 | E15: 1729 | F15: 1772 | G15: 1824 | H15: 1822 | I15: 1963 | J15: 2122 | K15: 2001
A16: D1 Burn | B16: 1490 | C16: 1508 | D16: 1592 | E16: 1729 | F16: 1772 | G16: 1824 | H16: 1822 | I16: 1963 | J16: 2122 | K16: 2001
A17: E Injury to nerves and spinal cord | B17: 153 | C17: 142 | D17: 126 | E17: 172 | F17: 225 | G17: 230 | H17: 149 | I17: 186 | J17: 239 | K17: 207
A18: E1 Injury to nerves and spinal cord | B18: 153 | C18: 142 | D18: 126 | E18: 172 | F18: 225 | G18: 230 | H18: 149 | I18: 186 | J18: 239 | K18: 207
A19: F Traumatic joint/ligament and muscle/tendon injury | B19: 44677 | C19: 44614 | D19: 44935 | E19: 46857 | F19: 46658 | G19: 53506 | H19: 48904 | I19: 51321 | J19: 54727 | K19: 53918
... A53: Total | B53: 102564 | C53: 104431 | D53: 107949 | E53: 116879 | F53: 121277 | G53: 131735 | H53: 134650 | I53: 145745 | J53: 150973 | K53: 147174

Sheet Table 3.2
A1: ='Cover page'!$A$30 -> Table 3.2. Claims (median compensation) by Nature (TOOCS Sub major group), 10 years to 2024-25
A2: Return to Cover page
A3: Time period scope restriction | B3: TRUE
A4: ClaimType_Label | B4: Serious claims
A6: Claims (median compensation paid)
B7: 2015-16 | C7: 2016-17 | D7: 2017-18 | E7: 2018-19 | F7: 2019-20 | G7: 2020-21 | H7: 2021-22 | I7: 2022-23 | J7: 2023-24 | K7: 2024-25p
A8: 0 Injuries | B8: 10885 | C8: 11772 | D8: 12090 | E8: 12325 | F8: 12551.5 | G8: 12472 | H8: 13449 | I8: 14464 | J8: 15151.5 | K8: NP
A9: A Intracranial injuries | B9: 9909 | C9: 9855.5 | D9: 11238 | E9: 9459 | F9: 10684 | G9: 9705 | H9: 9035.5 | I9: 9664 | J9: 10374 | K9: NP
A10: A1 Intracranial injuries | B10: 9909 | C10: 9855.5 | D10: 11238 | E10: 9459 | F10: 10684 | G10: 9705 | H10: 9035.5 | I10: 9664 | J10: 10374 | K10: NP
A11: B Fractures | B11: 15985 | C11: 16752 | D11: 17307 | E11: 18480 | F11: 18681.5 | G11: 18515 | H11: 19586 | I11: 21054 | J11: 21991 | K11: NP
A12: B1 Fractures | B12: 15985 | C12: 16752 | D12: 17307 | E12: 18480 | F12: 18681.5 | G12: 18515 | H12: 19586 | I12: 21054 | J12: 21991 | K12: NP
A13: C Wounds, lacerations, amputations and internal organ damage | B13: 7717 | C13: 8703 | D13: 8891 | E13: 8700.5 | F13: 7750 | G13: 8348 | H13: 9727 | I13: 10189 | J13: 10168 | K13: NP
A14: C1 Wounds, lacerations, amputations and internal organ damage | B14: 7717 | C14: 8703 | D14: 8891 | E14: 8700.5 | F14: 7750 | G14: 8348 | H14: 9727 | I14: 10189 | J14: 10168 | K14: NP
A15: D Burn | B15: 3353 | C15: 3369 | D15: 3433.5 | E15: 3442 | F15: 3454 | G15: 3311.5 | H15: 3706.5 | I15: 3906 | J15: 4389 | K15: NP
A16: D1 Burn | B16: 3353 | C16: 3369 | D16: 3433.5 | E16: 3442 | F16: 3454 | G16: 3311.5 | H16: 3706.5 | I16: 3906 | J16: 4389 | K16: NP
A17: E Injury to nerves and spinal cord | B17: 29809.5 | C17: 23919.5 | D17: 63576 | E17: 29027 | F17: 34072 | G17: 38060 | H17: 30507 | I17: 50730.5 | J17: 36128 | K17: NP
A18: E1 Injury to nerves and spinal cord | B18: 29809.5 | C18: 23919.5 | D18: 63576 | E18: 29027 | F18: 34072 | G18: 38060 | H18: 30507 | I18: 50730.5 | J18: 36128 | K18: NP
A19: F Traumatic joint/ligament and muscle/tendon injury | B19: 11809.5 | C19: 12670 | D19: 13070 | E19: 13504.5 | F19: 14602 | G19: 14024.5 | H19: 14772 | I19: 16170 | J19: 17180 | K19: NP
... A53: Total | B53: 12958 | C53: 14014.5 | D53: 14685 | E53: 15272.5 | F53: 15788 | G53: 16368 | H53: 14898 | I53: 16589 | J53: 19007 | K53: NP

Sheet Table 3.3
A1: ='Cover page'!$A$31 -> Table 3.3. Claims (median time lost) by Nature (TOOCS Sub major group), 10 years to 2024-25
A2: Return to Cover page
A3: Time period scope restriction | B3: TRUE
A4: ClaimType_Label | B4: Serious claims
A6: Claims (median time lost)
B7: 2015-16 | C7: 2016-17 | D7: 2017-18 | E7: 2018-19 | F7: 2019-20 | G7: 2020-21 | H7: 2021-22 | I7: 2022-23 | J7: 2023-24 | K7: 2024-25p
A8: 0 Injuries | B8: 5.2 | C8: 5.46 | D8: 5.85 | E8: 5.85 | F8: 6 | G8: 6 | H8: 6.4 | I8: 6.4 | J8: 6.5 | K8: NP
A9: A Intracranial injuries | B9: 5.4 | C9: 5.23 | D9: 5.76 | E9: 4.4 | F9: 4.41 | G9: 4.67 | H9: 4.4 | I9: 4.4 | J9: 5.21 | K9: NP
A10: A1 Intracranial injuries | B10: 5.4 | C10: 5.23 | D10: 5.76 | E10: 4.4 | F10: 4.41 | G10: 4.67 | H10: 4.4 | I10: 4.4 | J10: 5.21 | K10: NP
A11: B Fractures | B11: 8.37 | C11: 8.6 | D11: 9 | E11: 9.35 | F11: 9.46 | G11: 9.41 | H11: 10 | I11: 10 | J11: 9.96 | K11: NP
A12: B1 Fractures | B12: 8.37 | C12: 8.6 | D12: 9 | E12: 9.35 | F12: 9.46 | G12: 9.41 | H12: 10 | I12: 10 | J12: 9.96 | K12: NP
A13: C Wounds, lacerations, amputations and internal organ damage | B13: 3.2 | C13: 3.32 | D13: 3.4 | E13: 3.25 | F13: 3 | G13: 3.07 | H13: 3.65 | I13: 3.61 | J13: 3.4 | K13: NP
A14: C1 Wounds, lacerations, amputations and internal organ damage | B14: 3.2 | C14: 3.32 | D14: 3.4 | E14: 3.25 | F14: 3 | G14: 3.07 | H14: 3.65 | I14: 3.61 | J14: 3.4 | K14: NP
A15: D Burn | B15: 2.405 | C15: 2.215 | D15: 2.28 | E15: 2.2 | F15: 2 | G15: 2.315 | H15: 2.4 | I15: 2.46 | J15: 2.575 | K15: NP
A16: D1 Burn | B16: 2.405 | C16: 2.215 | D16: 2.28 | E16: 2.2 | F16: 2 | G16: 2.315 | H16: 2.4 | I16: 2.46 | J16: 2.575 | K16: NP
A17: E Injury to nerves and spinal cord | B17: 11.6 | C17: 11.79 | D17: 25.12 | E17: 9.195 | F17: 14.48 | G17: 14.445 | H17: 11.6 | I17: 16.1 | J17: 13.4 | K17: NP
A18: E1 Injury to nerves and spinal cord | B18: 11.6 | C18: 11.79 | D18: 25.12 | E18: 9.195 | F18: 14.48 | G18: 14.445 | H18: 11.6 | I18: 16.1 | J18: 13.4 | K18: NP
A19: F Traumatic joint/ligament and muscle/tendon injury | B19: 5.62 | C19: 5.99 | D19: 6.33 | E19: 6.57 | F19: 7 | G19: 7 | H19: 7.275 | I19: 7.5 | J19: 7.61 | K19: NP
... A53: Total | B53: 6.32 | C53: 6.61 | D53: 7.2 | E53: 7.2 | F53: 7.5 | G53: 8 | H53: 7.05 | I53: 7.55 | J53: 8.21 | K53: NP

Sheet Table 4.1
A1: ='Cover page'!$A$33 -> Table 4.1. Claims (count) by Mechanism (TOOCS Sub major group), 10 years to 2024-25
A2: Return to Cover page
A3: Time period scope restriction | B3: TRUE
A4: ClaimType_Label | B4: Serious claims
A6: Claims (count)
B7: 2015-16 | C7: 2016-17 | D7: 2017-18 | E7: 2018-19 | F7: 2019-20 | G7: 2020-21 | H7: 2021-22 | I7: 2022-23 | J7: 2023-24 | K7: 2024-25p
A8: 0 Falls, trips and slips of a person | B8: 22982 | C8: 24397 | D8: 24795 | E8: 26328 | F8: 27777 | G8: 30191 | H8: 29439 | I8: 31589 | J8: 32769 | K8: 32702
A9: 01 Falls from a height | B9: 6354 | C9: 6721 | D9: 6536 | E9: 6813 | F9: 6881 | G9: 6748 | H9: 6939 | I9: 7452 | J9: 7971 | K9: 8169
A10: 02 Falls on the same level | B10: 14748 | C10: 15651 | D10: 16425 | E10: 17394 | F10: 18831 | G10: 21042 | H10: 20222 | I10: 21920 | J10: 22382 | K10: 22046
A11: 03 Stepping, kneeling or sitting on objects | B11: 1880 | C11: 2025 | D11: 1834 | E11: 2121 | F11: 2065 | G11: 2401 | H11: 2278 | I11: 2217 | J11: 2416 | K11: 2487
A12: 1 Hitting objects with a part of the body | B12: 7369 | C12: 7703 | D12: 7474 | E12: 7718 | F12: 8565 | G12: 9471 | H12: 8756 | I12: 9448 | J12: 10075 | K12: 10014
A13: 11 Hitting stationary objects | B13: 3314 | C13: 3447 | D13: 3403 | E13: 3766 | F13: 3997 | G13: 4388 | H13: 4339 | I13: 4676 | J13: 5143 | K13: 5116
A14: 12 Hitting moving objects | B14: 4017 | C14: 4217 | D14: 4019 | E14: 3900 | F14: 4519 | G14: 5022 | H14: 4346 | I14: 4686 | J14: 4849 | K14: 4836
A15: 13 Rubbing and chafing | B15: 38 | C15: 39 | D15: 52 | E15: 52 | F15: 49 | G15: 61 | H15: 71 | I15: 86 | J15: 83 | K15: 62
A16: 2 Being hit by moving objects | B16: 15031 | C16: 15703 | D16: 16530 | E16: 18295 | F16: 19084 | G16: 20027 | H16: 20039 | I16: 22929 | J16: 23793 | K16: 23824
A17: 21 Being hit by falling objects | B17: 3312 | C17: 3472 | D17: 3459 | E17: 3632 | F17: 3815 | G17: 3770 | H17: 3746 | I17: 4338 | J17: 4484 | K17: 4553
A18: 22 Being bitten by an animal | B18: 272 | C18: 235 | D18: 298 | E18: 328 | F18: 400 | G18: 499 | H18: 500 | I18: 563 | J18: 574 | K18: 614
A19: 23 Being hit by an animal | B19: 648 | C19: 666 | D19: 662 | E19: 692 | F19: 751 | G19: 796 | H19: 744 | I19: 738 | J19: 829 | K19: 826
... A39: 53 Exposure to environmental heat | B39: 41 | C39: 28 | D39: 43 | E39: 31 | F39: 57 | G39: 43 | H39: 50 | I39: 51 | J39: 73 | K39: 87
A40: 54 Exposure to environmental cold | B40: 6 | C40: 5 | D40: 5 | E40: 9 | F40: 8 | G40: NP | H40: NP | I40: NP | J40: NP | K40: 7
A41: 55 Exposure to non-ionising radiation | B41: 43 | C41: 55 | D41: 39 | E41: 53 | F41: 49 | G41: 48 | H41: 32 | I41: 49 | J41: 54 | K41: 55
A42: 56 Exposure to ionising radiation | B42: 6 | C42: 7 | D42: NP | E42: NP | F42: NP | G42: NP | H42: NP | I42: NP | J42: NP | K42: NP
A43: 57 Contact with electricity | B43: 150 | C43: 137 | D43: 124 | E43: 139 | F43: 147 | G43: 162 | H43: 143 | I43: 155 | J43: 148 | K43: 151
A44: 58 Drowning/immersion | B44: NP | C44: NP | D44: NP | E44: NP | F44: NP | G44: NP | H44: NP | I44: 5 | J44: NP | K44: NP
A45: 59 Exposure to other and unspecified environmental factors | B45: 56 | C45: 39 | D45: 50 | E45: 65 | F45: 85 | G45: 107 | H45: 79 | I45: 56 | J45: 76 | K45: 100
A46: 6 Chemicals and other substances | B46: 774 | C46: 770 | D46: 777 | E46: 1046 | F46: 1076 | G46: 1066 | H46: 1145 | I46: 1063 | J46: 1241 | K46: 1147
A47: 61 Single contact with chemical or substance | B47: 496 | C47: 504 | D47: 514 | E47: 604 | F47: 639 | G47: 673 | H47: 850 | I47: 689 | J47: 811 | K47: 760
A48: 62 Long term contact with chemicals or substances | B48: 71 | C48: 78 | D48: 89 | E48: 248 | F48: 226 | G48: 208 | H48: 149 | I48: 179 | J48: 179 | K48: 156
A49: 63 Insect and spider bites and stings | B49: 144 | C49: 124 | D49: 102 | E49: 131 | F49: 140 | G49: 109 | H49: 95 | I49: 138 | J49: 177 | K49: 164
A50: 64 Contact with poisonous parts of plant or marine life | B50: 6 | C50: 6 | D50: 8 | E50: 7 | F50: 9 | G50: 9 | H50: 10 | I50: 7 | J50: 9 | K50: 9
A51: 69 Other and unspecified contact with chemical or substance | B51: 57 | C51: 58 | D51: 64 | E51: 56 | F51: 62 | G51: 67 | H51: 41 | I51: 50 | J51: 65 | K51: 58
A52: 7 Biological factors | B52: 306 | C52: 326 | D52: 303 | E52: 426 | F52: 488 | G52: 686 | H52: 10517 | I52: 8877 | J52: 4028 | K52: 2300
A53: 71 Contact with, or exposure to, biological factors of non-human origin | B53: 142 | C53: 156 | D53: 125 | E53: 196 | F53: 176 | G53: 138 | H53: 664 | I53: 500 | J53: 292 | K53: 250
A54: 72 Contact with, or exposure to, biological factors of human origin | B54: 136 | C54: 126 | D54: 142 | E54: 195 | F54: 284 | G54: 364 | H54: 9654 | I54: 8207 | J54: 3624 | K54: 1964
A55: 79 Contact with, or exposure to, biological factors of unknown origin | B55: 28 | C55: 44 | D55: 36 | E55: 35 | F55: 28 | G55: 184 | H55: 199 | I55: 170 | J55: 112 | K55: 86
A56: 8 Mental stress | B56: 6392 | C56: 7144 | D56: 8079 | E56: 10146 | F56: 10787 | G56: 11848 | H56: 11827 | I56: 14769 | J56: 17681 | K56: 16978
A57: 80 Sexual harassment | B57: NP | C57: NP | D57: 32 | E57: 52 | F57: 45 | G57: 63 | H57: 53 | I57: 137 | J57: 295 | K57: 435
A58: 81 Exposure to a traumatic event | B58: 517 | C58: 534 | D58: 719 | E58: 897 | F58: 1109 | G58: 1290 | H58: 1482 | I58: 1622 | J58: 1950 | K58: 2103
A59: 82 Exposure to violence and harassment | B59: 720 | C59: 887 | D59: 1034 | E59: 1430 | F59: 1539 | G59: 1524 | H59: 1529 | I59: 2559 | J59: 2707 | K59: 3007
A60: 83 Other harassment not further defined | B60: 119 | C60: 121 | D60: 146 | E60: 113 | F60: 151 | G60: 174 | H60: 178 | I60: 204 | J60: 142 | K60: 113
A61: 84 Work pressure | B61: 1428 | C61: 1658 | D61: 2040 | E61: 2462 | F61: 2735 | G61: 2941 | H61: 2755 | I61: 3500 | J61: 4304 | K61: 4503
A62: 85 Suicide or attempted suicide | B62: 19 | C62: 19 | D62: 28 | E62: 27 | F62: 45 | G62: 38 | H62: 43 | I62: 63 | J62: 30 | K62: 13
A63: 86 Other mental stress factors | B63: 360 | C63: 481 | D63: 1108 | E63: 1519 | F63: 1292 | G63: 1546 | H63: 1670 | I63: 1762 | J63: 2183 | K63: 1398
A64: 87 Work related harassment and/or workplace bullying | B64: 1407 | C64: 1583 | D64: 2968 | E64: 3644 | F64: 3814 | G64: 4173 | H64: 3898 | I64: 4869 | J64: 5965 | K64: 5371
A65: 88 Racial harassment | B65: NP | C65: NP | D65: NP | E65: NP | F65: 7 | G65: 12 | H65: 7 | I65: 18 | J65: 36 | K65: 26
A66: 89 Mental stress related to novel coronavirus (COVID-19) | B66: NP | C66: NP | D66: NP | E66: NP | F66: 50 | G66: 87 | H66: 212 | I66: 35 | J66: 69 | K66: 9
A67: 8_ Mental stress not further defined | B67: 1822 | C67: 1861 | D67: NP | E67: NP | F67: NP | G67: NP | H67: NP | I67: NP | J67: NP | K67: NP
A68: 9 Vehicle incidents and other | B68: 6661 | C68: 6871 | D68: 7801 | E68: 8416 | F68: 6492 | G68: 7128 | H68: 6841 | I68: 6798 | J68: 6604 | K68: 6360
A69: 91 Slide or cave-in | B69: 15 | C69: 14 | D69: 9 | E69: 9 | F69: 15 | G69: 13 | H69: 13 | I69: 19 | J69: 14 | K69: 12
A70: 92 Vehicle incident | B70: 2454 | C70: 2562 | D70: 2572 | E70: 2715 | F70: 2634 | G70: 2758 | H70: 2642 | I70: 2925 | J70: 3135 | K70: 2974
A71: 93 Rollover | B71: 62 | C71: 51 | D71: 52 | E71: 62 | F71: 47 | G71: 40 | H71: 50 | I71: 55 | J71: 58 | K71: 64
A72: 98 Other and multiple mechanisms of incident | B72: 1233 | C72: 1589 | D72: 1932 | E72: 1875 | F72: 1044 | G72: 1337 | H72: 1568 | I72: 1452 | J72: 1640 | K72: 1661
A73: 99 Unspecified mechanisms of incident | B73: 2897 | C73: 2655 | D73: 3236 | E73: 3755 | F73: 2752 | G73: 2980 | H73: 2568 | I73: 2347 | J73: 1757 | K73: 1649
A74: Total | B74: 102564 | C74: 104431 | D74: 107949 | E74: 116879 | F74: 121277 | G74: 131735 | H74: 134650 | I74: 145745 | J74: 150973 | K74: 147174

Sheet Table 4.2
A1: ='Cover page'!$A$34 -> Table 4.2. Claims (median compensation) by Mechanism (TOOCS Sub major group), 10 years to 2024-25
A2: Return to Cover page
A3: Time period scope restriction | B3: TRUE
A4: ClaimType_Label | B4: Serious claims
A6: Median compensation paid ($) NP
B7: 2015-16 | C7: 2016-17 | D7: 2017-18 | E7: 2018-19 | F7: 2019-20 | G7: 2020-21 | H7: 2021-22 | I7: 2022-23 | J7: 2023-24 | K7: 2024-25p
A8: 0 Falls, trips and slips of a person | B8: 14039 | C8: 14617 | D8: 15150.5 | E8: 15788 | F8: 16198 | G8: 16275 | H8: 17143 | I8: 18156.5 | J8: 19100 | K8: NP
A9: 01 Falls from a height | B9: 17278 | C9: 18398 | D9: 19463 | E9: 19922 | F9: 21415 | G9: 21789 | H9: 22943 | I9: 22829 | J9: 25250 | K9: NP
A10: 02 Falls on the same level | B10: 13116 | C10: 13285 | D10: 13771 | E10: 14585 | F10: 14799.5 | G10: 14646.5 | H10: 15394 | I10: 16705 | J10: 17342.5 | K10: NP
A11: 03 Stepping, kneeling or sitting on objects | B11: 11743 | C11: 13815 | D11: 13850 | E11: 14456 | F11: 16457 | G11: 16495 | H11: 17066 | I11: 18594.5 | J11: 18991.5 | K11: NP
A12: 1 Hitting objects with a part of the body | B12: 7533 | C12: 8505 | D12: 8609 | E12: 8481 | F12: 8223 | G12: 8691 | H12: 9624 | I12: 9820 | J12: 10239.5 | K12: NP
A13: 11 Hitting stationary objects | B13: 7692 | C13: 8792 | D13: 8352.5 | E13: 8338 | F13: 8236 | G13: 8437.5 | H13: 9966.5 | I13: 9826.5 | J13: 10344 | K13: NP
A14: 12 Hitting moving objects | B14: 7306 | C14: 8351 | D14: 8812.5 | E14: 8609 | F14: 8238 | G14: 8774 | H14: 9423 | I14: 9749.5 | J14: 10132.5 | K14: NP
A15: 13 Rubbing and chafing | B15: 12084.5 | C15: 8215 | D15: 8403 | E15: 7418 | F15: 5707.5 | G15: 10093 | H15: 5673 | I15: 10047 | J15: 10106 | K15: NP
A16: 2 Being hit by moving objects | B16: 9913 | C16: 10989 | D16: 11004 | E16: 11256 | F16: 11046 | G16: 11245 | H16: 12240 | I16: 12750 | J16: 13469.5 | K16: NP
A17: 21 Being hit by falling objects | B17: 9079 | C17: 10123 | D17: 10131 | E17: 9906.5 | F17: 10945.5 | G17: 10931 | H17: 12008 | I17: 12218 | J17: 12528 | K17: NP
A18: 22 Being bitten by an animal | B18: 6782.5 | C18: 8138 | D18: 8114 | E18: 8618 | F18: 8135 | G18: 8327.5 | H18: 9781.5 | I18: 8638 | J18: 8120 | K18: NP
A19: 23 Being hit by an animal | B19: 9479 | C19: 11222 | D19: 12128 | E19: 11252 | F19: 10495.5 | G19: 11250.5 | H19: 12410.5 | I19: 11333 | J19: 15402 | K19: NP
... A39: 53 Exposure to environmental heat | B39: 5310 | C39: 5253.5 | D39: 12132 | E39: 6283 | F39: 3518 | G39: 4119 | H39: 7810.5 | I39: 4996.5 | J39: 5376 | K39: NP
A40: 54 Exposure to environmental cold | B40: 13930 | C40: 16585 | D40: 6990 | E40: 12252 | F40: 51198 | G40: NP | H40: NP | I40: NP | J40: NP | K40: NP
A41: 55 Exposure to non-ionising radiation | B41: 10666 | C41: 10441 | D41: 10934 | E41: 9691 | F41: 8220 | G41: 5211.5 | H41: 10506 | I41: 12258 | J41: 9423.5 | K41: NP
A42: 56 Exposure to ionising radiation | B42: 4827.5 | C42: 8647 | D42: NP | E42: NP | F42: NP | G42: NP | H42: NP | I42: NP | J42: NP | K42: NP
A43: 57 Contact with electricity | B43: 20861 | C43: 12064 | D43: 11444 | E43: 15305.5 | F43: 16288.5 | G43: 10757 | H43: 12855.5 | I43: 7871 | J43: 17518.5 | K43: NP
A44: 58 Drowning/immersion | B44: NP | C44: NP | D44: NP | E44: NP | F44: NP | G44: NP | H44: NP | I44: 10811 | J44: NP | K44: NP
A45: 59 Exposure to other and unspecified environmental factors | B45: 18477 | C45: 7540 | D45: 12567 | E45: 14206.5 | F45: 14579 | G45: 9957 | H45: 5715 | I45: 11383 | J45: 10287 | K45: NP
A46: 6 Chemicals and other substances | B46: 4355.5 | C46: 5565.5 | D46: 6257 | E46: 8724.5 | F46: 6673 | G46: 6322 | H46: 8037 | I46: 7180.5 | J46: 7252 | K46: NP
A47: 61 Single contact with chemical or substance | B47: 3944 | C47: 5038 | D47: 4866.5 | E47: 5077 | F47: 4665.5 | G47: 4392.5 | H47: 7602.5 | I47: 5718.5 | J47: 5824 | K47: NP
A48: 62 Long term contact with chemicals or substances | B48: 25652.5 | C48: 18493 | D48: 39525 | E48: 464364 | F48: 214817 | G48: 88060 | H48: 30419.5 | I48: 63112 | J48: 55543 | K48: NP
A49: 63 Insect and spider bites and stings | B49: 2945 | C49: 4989 | D49: 5272.5 | E49: 5222 | F49: 2624 | G49: 2963 | H49: 2577 | I49: 5920 | J49: 4746 | K49: NP
A50: 64 Contact with poisonous parts of plant or marine life | B50: 23891 | C50: 12706.5 | D50: 4860.5 | E50: 5785 | F50: 4046 | G50: 4567 | H50: 6958.5 | I50: 5551 | J50: 20309 | K50: NP
A51: 69 Other and unspecified contact with chemical or substance | B51: 6536 | C51: 7807.5 | D51: 6969.5 | E51: 3903.5 | F51: 3572 | G51: 7969.5 | H51: 6781 | I51: 7854 | J51: 5990 | K51: NP
A52: 7 Biological factors | B52: 6301 | C52: 6870 | D52: 5428.5 | E52: 4805 | F52: 7064 | G52: 7093 | H52: 1925 | I52: 1940 | J52: 1920.5 | K52: NP
A53: 71 Contact with, or exposure to, biological factors of non-human origin | B53: 9833 | C53: 7179 | D53: 6083 | E53: 4582 | F53: 8925 | G53: 10805 | H53: 1940.5 | I53: 2243 | J53: 3707.5 | K53: NP
A54: 72 Contact with, or exposure to, biological factors of human origin | B54: 3682 | C54: 5179 | D54: 4537.5 | E54: 5219 | F54: 6247 | G54: 5412 | H54: 1913 | I54: 1924 | J54: 1873 | K54: NP
A55: 79 Contact with, or exposure to, biological factors of unknown origin | B55: 6300.5 | C55: 6307 | D55: 8125 | E55: 3655 | F55: 8017 | G55: 7199 | H55: 4567 | I55: 6886 | J55: 4355 | K55: NP
A56: 8 Mental stress | B56: 38391.5 | C56: 42825 | D56: 47996 | E56: 57607 | F56: 63874 | G56: 70266 | H56: 78822 | I56: 76866 | J56: 69376.5 | K56: NP
A57: 80 Sexual harassment | B57: NP | C57: NP | D57: 79978 | E57: 86244.5 | F57: 45915 | G57: 67296 | H57: 72779 | I57: 66142 | J57: 55699 | K57: NP
A58: 81 Exposure to a traumatic event | B58: 62866 | C58: 48846 | D58: 61303 | E58: 75353 | F58: 63272 | G58: 73366 | H58: 84685 | I58: 69330 | J58: 65085 | K58: NP
A59: 82 Exposure to violence and harassment | B59: 19656.5 | C59: 24233.5 | D59: 27784 | E59: 32356 | F59: 33589 | G59: 35341 | H59: 54787 | I59: 66074 | J59: 53222 | K59: NP
A60: 83 Other harassment not further defined | B60: 40865 | C60: 35342 | D60: 28840 | E60: 37337 | F60: 55251 | G60: 47456 | H60: 48878 | I60: 34636 | J60: 41926 | K60: NP
A61: 84 Work pressure | B61: 36964 | C61: 46699 | D61: 53815 | E61: 66869 | F61: 72245 | G61: 70993.5 | H61: 73903 | I61: 78088 | J61: 77605 | K61: NP
A62: 85 Suicide or attempted suicide | B62: 27517 | C62: 80223 | D62: 114874 | E62: 194611 | F62: 149808 | G62: 152062 | H62: 237843 | I62: 128589 | J62: 82650.5 | K62: NP
A63: 86 Other mental stress factors | B63: 43190 | C63: 56017 | D63: 49781.5 | E63: 61790 | F63: 77795 | G63: 117085 | H63: 121013 | I63: 108255 | J63: 87069.5 | K63: NP
A64: 87 Work related harassment and/or workplace bullying | B64: 39898 | C64: 47507.5 | D64: 49014 | E64: 57464 | F64: 66620 | G64: 72494.5 | H64: 76685 | I64: 74476 | J64: 68819.5 | K64: NP
A65: 88 Racial harassment | B65: NP | C65: NP | D65: NP | E65: NP | F65: 17471 | G65: 61491 | H65: 47518 | I65: 59295.5 | J65: 37598.5 | K65: NP
A66: 89 Mental stress related to novel coronavirus (COVID-19) | B66: NP | C66: NP | D66: NP | E66: NP | F66: 62868 | G66: 59208 | H66: 67819 | I66: 63866 | J66: 1586 | K66: NP
A67: 8_ Mental stress not further defined | B67: 41310.5 | C67: 40749 | D67: NP | E67: NP | F67: NP | G67: NP | H67: NP | I67: NP | J67: NP | K67: NP
A68: 9 Vehicle incidents and other | B68: 13225 | C68: 15042 | D68: 15879.5 | E68: 16078 | F68: 17018 | G68: 17949 | H68: 18349.5 | I68: 19484.5 | J68: 19304.5 | K68: NP
A69: 91 Slide or cave-in | B69: 23572 | C69: 33399.5 | D69: 39125 | E69: 28200 | F69: 13922 | G69: 10364 | H69: 13719 | I69: 32176 | J69: 41604.5 | K69: NP
A70: 92 Vehicle incident | B70: 15682 | C70: 16059.5 | D70: 19015 | E70: 17020 | F70: 19122.5 | G70: 18077.5 | H70: 21054 | I70: 22712 | J70: 23609 | K70: NP
A71: 93 Rollover | B71: 27847.5 | C71: 51215 | D71: 27359 | E71: 42558 | F71: 16565 | G71: 29296 | H71: 26910 | I71: 36872 | J71: 21534.5 | K71: NP
A72: 98 Other and multiple mechanisms of incident | B72: 13253 | C72: 14635 | D72: 14520 | E72: 16195 | F72: 17010.5 | G72: 17102 | H72: 14405 | I72: 15863.5 | J72: 16808 | K72: NP
A73: 99 Unspecified mechanisms of incident | B73: 11863 | C73: 14275 | D73: 15249 | E73: 15338.5 | F73: 15653 | G73: 18234.5 | H73: 18793 | I73: 18617 | J73: 16140 | K73: NP
A74: Total | B74: 12958 | C74: 14014.5 | D74: 14685 | E74: 15272.5 | F74: 15788 | G74: 16368 | H74: 14898 | I74: 16589 | J74: 19007 | K74: NP

Sheet Table 4.3
A1: ='Cover page'!$A$35 -> Table 4.3. Claims (median time lost) by Mechanism (TOOCS Sub major group), 10 years to 2024-25
A2: Return to Cover page
A3: Time period scope restriction | B3: TRUE
A4: ClaimType_Label | B4: Serious claims
A6: Median time lost (working weeks) NP
B7: 2015-16 | C7: 2016-17 | D7: 2017-18 | E7: 2018-19 | F7: 2019-20 | G7: 2020-21 | H7: 2021-22 | I7: 2022-23 | J7: 2023-24 | K7: 2024-25p
A8: 0 Falls, trips and slips of a person | B8: 7 | C8: 7.2 | D8: 7.8 | E8: 7.89 | F8: 8 | G8: 8.36 | H8: 8.69 | I8: 8.69 | J8: 8.79 | K8: NP
A9: 01 Falls from a height | B9: 8.24 | C9: 8.8 | D9: 9.46 | E9: 9.6 | F9: 10.14 | G9: 10.4 | H9: 10.67 | I9: 10.605 | J9: 11 | K9: NP
A10: 02 Falls on the same level | B10: 6.63 | C10: 6.6 | D10: 7.08 | E10: 7.21 | F10: 7.39 | G10: 7.71 | H10: 8 | I10: 8 | J10: 8 | K10: NP
A11: 03 Stepping, kneeling or sitting on objects | B11: 7 | C11: 7.84 | D11: 8.39 | E11: 7.6 | F11: 9 | G11: 8.8 | H11: 9.39 | I11: 9.4 | J11: 9.28 | K11: NP
A12: 1 Hitting objects with a part of the body | B12: 3.2 | C12: 3.21 | D12: 3.25 | E12: 3.2 | F12: 3 | G12: 3.2 | H12: 3.66 | I12: 3.6 | J12: 3.64 | K12: NP
A13: 11 Hitting stationary objects | B13: 3.68 | C13: 3.8 | D13: 3.88 | E13: 3.61 | F13: 3.4 | G13: 3.79 | H13: 4.19 | I13: 4 | J13: 4 | K13: NP
A14: 12 Hitting moving objects | B14: 3 | C14: 3 | D14: 3 | E14: 3 | F14: 2.8 | G14: 3 | H14: 3.2 | I14: 3.2 | J14: 3.21 | K14: NP
A15: 13 Rubbing and chafing | B15: 4 | C15: 3.53 | D15: 4.2 | E15: 3.835 | F15: 3 | G15: 5.03 | H15: 2.8 | I15: 4.785 | J15: 4.14 | K15: NP
A16: 2 Being hit by moving objects | B16: 4.59 | C16: 5 | D16: 5 | E16: 4.98 | F16: 4.8 | G16: 5 | H16: 5.39 | I16: 5.21 | J16: 5.32 | K16: NP
A17: 21 Being hit by falling objects | B17: 4.4 | C17: 5 | D17: 5.4 | E17: 5 | F17: 5.46 | G17: 5.355 | H17: 6 | I17: 5.48 | J17: 5.4 | K17: NP
A18: 22 Being bitten by an animal | B18: 2.4 | C18: 2.74 | D18: 2.2 | E18: 2.515 | F18: 2.355 | G18: 2.08 | H18: 2.465 | I18: 2.22 | J18: 2.2 | K18: NP
A19: 23 Being hit by an animal | B19: 5.2 | C19: 6.415 | D19: 7.075 | E19: 5.81 | F19: 5.8 | G19: 5.715 | H19: 7 | I19: 6.395 | J19: 6.63 | K19: NP
... A39: 53 Exposure to environmental heat | B39: 2.32 | C39: 2.49 | D39: 3.8 | E39: 2.61 | F39: 2.2 | G39: 2.2 | H39: 2.5 | I39: 2.2 | J39: 2.29 | K39: NP
A40: 54 Exposure to environmental cold | B40: 9.04 | C40: 11 | D40: 1.8 | E40: 11.44 | F40: 21.695 | G40: NP | H40: NP | I40: NP | J40: NP | K40: NP
A41: 55 Exposure to non-ionising radiation | B41: 3.4 | C41: 2.76 | D41: 1.8 | E41: 2.71 | F41: 2.14 | G41: 1.865 | H41: 3.8 | I41: 3.17 | J41: 2.4 | K41: NP
A42: 56 Exposure to ionising radiation | B42: 2.16 | C42: 2 | D42: NP | E42: NP | F42: NP | G42: NP | H42: NP | I42: NP | J42: NP | K42: NP
A43: 57 Contact with electricity | B43: 7.9 | C43: 4.6 | D43: 5.4 | E43: 5.21 | F43: 5.8 | G43: 4.335 | H43: 5.65 | I43: 2.6 | J43: 6.09 | K43: NP
A44: 58 Drowning/immersion | B44: NP | C44: NP | D44: NP | E44: NP | F44: NP | G44: NP | H44: NP | I44: 2.59 | J44: NP | K44: NP
A45: 59 Exposure to other and unspecified environmental factors | B45: 10.045 | C45: 4.2 | D45: 6.37 | E45: 4.21 | F45: 6.6 | G45: 10.79 | H45: 2.2 | I45: 3.485 | J45: 3.79 | K45: NP
A46: 6 Chemicals and other substances | B46: 2.6 | C46: 2.86 | D46: 3.09 | E46: 3.805 | F46: 3.2 | G46: 3.295 | H46: 3.82 | I46: 3.4 | J46: 3.21 | K46: NP
A47: 61 Single contact with chemical or substance | B47: 2.525 | C47: 2.455 | D47: 2.8 | E47: 2.8 | F47: 2.21 | G47: 2.46 | H47: 3.735 | I47: 3 | J47: 2.8 | K47: NP
A48: 62 Long term contact with chemicals or substances | B48: 12 | C48: 8.625 | D48: 15.2 | E48: 74.26 | F48: 85.03 | G48: 24.945 | H48: 16 | I48: 20.21 | J48: 22.6 | K48: NP
A49: 63 Insect and spider bites and stings | B49: 1.8 | C49: 2.49 | D49: 2.08 | E49: 2.14 | F49: 1.775 | G49: 2 | H49: 1.86 | I49: 2.12 | J49: 2.17 | K49: NP
A50: 64 Contact with poisonous parts of plant or marine life | B50: 13.28 | C50: 2.765 | D50: 3.545 | E50: 1.8 | F50: 3 | G50: 2.36 | H50: 3.315 | I50: 1.51 | J50: 12.39 | K50: NP
A51: 69 Other and unspecified contact with chemical or substance | B51: 5 | C51: 4.3 | D51: 3.105 | E51: 2.205 | F51: 2.24 | G51: 4.51 | H51: 4 | I51: 2.905 | J51: 4 | K51: NP
A52: 7 Biological factors | B52: 3.6 | C52: 3.37 | D52: 2.8 | E52: 2.58 | F52: 3.765 | G52: 5 | H52: 1.26 | I52: 1.2 | J52: 1.19 | K52: NP
A53: 71 Contact with, or exposure to, biological factors of non-human origin | B53: 4.315 | C53: 3.71 | D53: 2.87 | E53: 2.52 | F53: 4 | G53: 4 | H53: 1.265 | I53: 1.4 | J53: 2 | K53: NP
A54: 72 Contact with, or exposure to, biological factors of human origin | B54: 3 | C54: 2.79 | D54: 2.6 | E54: 2.4 | F54: 3.385 | G54: 4.92 | H54: 1.26 | I54: 1.13 | J54: 1.12 | K54: NP
A55: 79 Contact with, or exposure to, biological factors of unknown origin | B55: 3.795 | C55: 3.585 | D55: 3 | E55: 3.91 | F55: 4 | G55: 5.9 | H55: 1.8 | I55: 1.39 | J55: 2 | K55: NP
A56: 8 Mental stress | B56: 20.65 | C56: 23 | D56: 27 | E56: 30.13 | F56: 34.2 | G56: 37.51 | H56: 40.8 | I56: 38.84 | J56: 35 | K56: NP
A57: 80 Sexual harassment | B57: NP | C57: NP | D57: 22.435 | E57: 41.6 | F57: 33.4 | G57: 36.2 | H57: 40.08 | I57: 32.59 | J57: 33.62 | K57: NP
A58: 81 Exposure to a traumatic event | B58: 26.6 | C58: 22.15 | D58: 34.21 | E58: 35.47 | F58: 35.04 | G58: 37.98 | H58: 43.065 | I58: 36.605 | J58: 35 | K58: NP
A59: 82 Exposure to violence and harassment | B59: 11.6 | C59: 12 | D59: 15.71 | E59: 17.585 | F59: 18.43 | G59: 20.07 | H59: 28.8 | I59: 33.38 | J59: 27.6 | K59: NP
A60: 83 Other harassment not further defined | B60: 17.4 | C60: 21 | D60: 16.49 | E60: 21.6 | F60: 38 | G60: 25.675 | H60: 30.25 | I60: 17.84 | J60: 22.775 | K60: NP
A61: 84 Work pressure | B61: 18.1 | C61: 22 | D61: 27.01 | E61: 33 | F61: 36.6 | G61: 34.05 | H61: 36.71 | I61: 37 | J61: 35.39 | K61: NP
A62: 85 Suicide or attempted suicide | B62: 9.87 | C62: 23.18 | D62: 65.685 | E62: 122.95 | F62: 86.26 | G62: 53.115 | H62: 126.39 | I62: 96.12 | J62: 41.485 | K62: NP
A63: 86 Other mental stress factors | B63: 22.045 | C63: 23.54 | D63: 29.235 | E63: 33.4 | F63: 43.795 | G63: 64.925 | H63: 72.59 | I63: 61.41 | J63: 51.68 | K63: NP
A64: 87 Work related harassment and/or workplace bullying | B64: 17.68 | C64: 22.7 | D64: 28.21 | E64: 31.625 | F64: 38.09 | G64: 41.37 | H64: 40.51 | I64: 38.39 | J64: 35.21 | K64: NP
A65: 88 Racial harassment | B65: NP | C65: NP | D65: NP | E65: NP | F65: 5.71 | G65: 33.005 | H65: 21.2 | I65: 33 | J65: 17.375 | K65: NP
A66: 89 Mental stress related to novel coronavirus (COVID-19) | B66: NP | C66: NP | D66: NP | E66: NP | F66: 28.8 | G66: 47.8 | H66: 39.895 | I66: 73 | J66: 1 | K66: NP
A67: 8_ Mental stress not further defined | B67: 28 | C67: 31 | D67: NP | E67: NP | F67: NP | G67: NP | H67: NP | I67: NP | J67: NP | K67: NP
A68: 9 Vehicle incidents and other | B68: 6.8 | C68: 7.4 | D68: 7.67 | E68: 7.255 | F68: 7.45 | G68: 8.4 | H68: 8 | I68: 8.2 | J68: 8.07 | K68: NP
A69: 91 Slide or cave-in | B69: 8.84 | C69: 5.9 | D69: 15.42 | E69: 16.35 | F69: 5.46 | G69: 3 | H69: 4.93 | I69: 11.8 | J69: 10.71 | K69: NP
A70: 92 Vehicle incident | B70: 8.4 | C70: 8.8 | D70: 9.295 | E70: 8 | F70: 9.04 | G70: 9 | H70: 10.19 | I70: 10.2 | J70: 9.84 | K70: NP
A71: 93 Rollover | B71: 10.96 | C71: 13.8 | D71: 12.595 | E71: 17.79 | F71: 7.4 | G71: 11.385 | H71: 18.31 | I71: 8.65 | J71: 6.455 | K71: NP
A72: 98 Other and multiple mechanisms of incident | B72: 7.07 | C72: 7.01 | D72: 7.2 | E72: 8.2 | F72: 7.125 | G72: 9.2 | H72: 6.395 | I72: 7.2 | J72: 7.97 | K72: NP
A73: 99 Unspecified mechanisms of incident | B73: 5.79 | C73: 6.29 | D73: 6.88 | E73: 6.4 | F73: 6.4 | G73: 7.6 | H73: 7.44 | I73: 7 | J73: 6 | K73: NP
A74: Total | B74: 6.32 | C74: 6.61 | D74: 7.2 | E74: 7.2 | F74: 7.5 | G74: 8 | H74: 7.05 | I74: 7.55 | J74: 8.21 | K74: NP

Sheet Table 5.1
A1: ='Cover page'!$A$37 -> Table 5.1. Claims (count) by Bodily location (TOOCS Sub major group), 10 years to 2024-25
A2: Return to Cover page
A3: Time period scope restriction | B3: TRUE
A4: ClaimType_Label | B4: Serious claims
A6: Claims (count)
B7: 2015-16 | C7: 2016-17 | D7: 2017-18 | E7: 2018-19 | F7: 2019-20 | G7: 2020-21 | H7: 2021-22 | I7: 2022-23 | J7: 2023-24 | K7: 2024-25p
A8: 1 Head | B8: 3125 | C8: 3218 | D8: 3340 | E8: 4023 | F8: 4394 | G8: 4656 | H8: 4368 | I8: 5305 | J8: 5941 | K8: 6060
A9: 11 Cranium | B9: 870 | C9: 1016 | D9: 1038 | E9: 1312 | F9: 1369 | G9: 1519 | H9: 1429 | I9: 1806 | J9: 2091 | K9: 2141
A10: 12 Eye | B10: 727 | C10: 720 | D10: 801 | E10: 857 | F10: 1002 | G10: 1022 | H10: 910 | I10: 1049 | J10: 1084 | K10: 1117
A11: 13 Ear | B11: 104 | C11: 107 | D11: 138 | E11: 135 | F11: 161 | G11: 150 | H11: 132 | I11: 156 | J11: 197 | K11: 199
A12: 14 Mouth | B12: 155 | C12: 162 | D12: 153 | E12: 210 | F12: 244 | G12: 248 | H12: 186 | I12: 253 | J12: 255 | K12: 250
A13: 15 Nose | B13: 197 | C13: 217 | D13: 190 | E13: 233 | F13: 236 | G13: 288 | H13: 298 | I13: 337 | J13: 311 | K13: 325
A14: 16 Face, not elsewhere specified | B14: 572 | C14: 526 | D14: 523 | E14: 621 | F14: 645 | G14: 693 | H14: 709 | I14: 802 | J14: 925 | K14: 949
A15: 18 Head- multiple locations | B15: 119 | C15: 151 | D15: 153 | E15: 144 | F15: 133 | G15: 119 | H15: 151 | I15: 206 | J15: 266 | K15: 250
A16: 19 Head - unspecified locations | B16: 381 | C16: 319 | D16: 344 | E16: 511 | F16: 604 | G16: 617 | H16: 553 | I16: 696 | J16: 812 | K16: 829
A17: 2 Neck | B17: 1969 | C17: 2122 | D17: 2134 | E17: 2466 | F17: 2579 | G17: 2722 | H17: 2505 | I17: 2552 | J17: 2793 | K17: 2848
A18: 21 Neck | B18: 1969 | C18: 2122 | D18: 2134 | E18: 2466 | F18: 2579 | G18: 2722 | H18: 2505 | I18: 2552 | J18: 2793 | K18: 2848
A19: 3 Trunk | B19: 24707 | C19: 24282 | D19: 24379 | E19: 25918 | F19: 26852 | G19: 28568 | H19: 26482 | I19: 28147 | J19: 30284 | K19: 30002
... A55: 73 Digestive system | B55: 17 | C55: 16 | D55: 16 | E55: 25 | F55: 17 | G55: 13 | H55: 12 | I55: 23 | J55: 13 | K55: 22
A56: 74 Genitourinary system | B56: NP | C56: NP | D56: NP | E56: NP | F56: NP | G56: NP | H56: 7 | I56: 5 | J56: 11 | K56: NP
A57: 75 Nervous system | B57: 11 | C57: NP | D57: 9 | E57: 8 | F57: 19 | G57: 21 | H57: 15 | I57: 15 | J57: 8 | K57: 13
A58: 78 Other and multiple systemic conditions | B58: 158 | C58: 166 | D58: 148 | E58: 165 | F58: 187 | G58: 185 | H58: 197 | I58: 170 | J58: 130 | K58: 181
A59: 79 Unspecified systemic conditions | B59: 24 | C59: 29 | D59: 14 | E59: 17 | F59: 8 | G59: 12 | H59: 22 | I59: 6 | J59: 13 | K59: 7
A60: 8 Non-physical locations | B60: 6789 | C60: 7638 | D60: 8503 | E60: 10607 | F60: 11372 | G60: 12586 | H60: 12531 | I60: 15510 | J60: 18479 | K60: 17892
A61: 80 Psychological system | B61: 6789 | C61: 7638 | D61: 8503 | E61: 10607 | F61: 11372 | G61: 12586 | H61: 12531 | I61: 15510 | J61: 18479 | K61: 17892
A62: 9 Unspecified locations | B62: 642 | C62: 592 | D62: 697 | E62: 613 | F62: 532 | G62: 582 | H62: 633 | I62: 644 | J62: 641 | K62: 666
A63: 90 Unspecified locations | B63: 642 | C63: 592 | D63: 697 | E63: 613 | F63: 532 | G63: 582 | H63: 633 | I63: 644 | J63: 641 | K63: 666
A64: Total | B64: 102564 | C64: 104431 | D64: 107949 | E64: 116879 | F64: 121277 | G64: 131735 | H64: 134650 | I64: 145745 | J64: 150973 | K64: 147174

Sheet Table 5.2
A1: ='Cover page'!$A$38 -> Table 5.2. Claims (median compensation) by Bodily location (TOOCS Sub major group), 10 years to 2024-25
A2: Return to Cover page
A3: Time period scope restriction | B3: TRUE
A4: ClaimType_Label | B4: Serious claims
A6: Claims (median compensation paid)
B7: 2015-16 | C7: 2016-17 | D7: 2017-18 | E7: 2018-19 | F7: 2019-20 | G7: 2020-21 | H7: 2021-22 | I7: 2022-23 | J7: 2023-24 | K7: 2024-25p
A8: 1 Head | B8: 6708.5 | C8: 7016 | D8: 7803 | E8: 6866.5 | F8: 6078.5 | G8: 6377 | H8: 7013 | I8: 7866 | J8: 7781.5 | K8: NP
A9: 11 Cranium | B9: 9680.5 | C9: 8883.5 | D9: 10627 | E9: 8633 | F9: 9510 | G9: 8489 | H9: 9018 | I9: 9780 | J9: 10478 | K9: NP
A10: 12 Eye | B10: 3102 | C10: 3373 | D10: 3477 | E10: 3404 | F10: 2668 | G10: 2859.5 | H10: 3600 | I10: 3709.5 | J10: 3552 | K10: NP
A11: 13 Ear | B11: 7872 | C11: 9421 | D11: 11489 | E11: 9624 | F11: 7421 | G11: 23043.5 | H11: 14168.5 | I11: 15326 | J11: 10231 | K11: NP
A12: 14 Mouth | B12: 10416.5 | C12: 12259 | D12: 13604 | E12: 10046 | F12: 11502.5 | G12: 9635 | H12: 10510 | I12: 10677 | J12: 10432 | K12: NP
A13: 15 Nose | B13: 8273 | C13: 9955 | D13: 9445 | E13: 8669 | F13: 9500.5 | G13: 7917 | H13: 8182.5 | I13: 11025 | J13: 10655.5 | K13: NP
A14: 16 Face, not elsewhere specified | B14: 8171 | C14: 7965 | D14: 9492 | E14: 8401 | F14: 8297 | G14: 8851 | H14: 9783.5 | I14: 10431 | J14: 9988 | K14: NP
A15: 18 Head- multiple locations | B15: 12955 | C15: 9710 | D15: 8552 | E15: 19083 | F15: 8257 | G15: 9747 | H15: 10004 | I15: 11775 | J15: 14695 | K15: NP
A16: 19 Head - unspecified locations | B16: 5301 | C16: 6807 | D16: 7202 | E16: 5498.5 | F16: 4325.5 | G16: 4810.5 | H16: 5536 | I16: 5642 | J16: 4977.5 | K16: NP
A17: 2 Neck | B17: 13702.5 | C17: 16023.5 | D17: 17713 | E17: 17777 | F17: 18548.5 | G17: 18382 | H17: 20250 | I17: 22394.5 | J17: 24319.5 | K17: NP
A18: 21 Neck | B18: 13702.5 | C18: 16023.5 | D18: 17713 | E18: 17777 | F18: 18548.5 | G18: 18382 | H18: 20250 | I18: 22394.5 | J18: 24319.5 | K18: NP
A19: 3 Trunk | B19: 10168 | C19: 10396 | D19: 11027 | E19: 11317 | F19: 11873 | G19: 12330 | H19: 13273 | I19: 14464 | J19: 15588.5 | K19: NP
... A55: 73 Digestive system | B55: 4032 | C55: 2418 | D55: 11940 | E55: 7565 | F55: 5874 | G55: 8237 | H55: 4708 | I55: 3108 | J55: 5784.5 | K55: NP
A56: 74 Genitourinary system | B56: NP | C56: NP | D56: NP | E56: NP | F56: NP | G56: NP | H56: 178281 | I56: 18444 | J56: 38831 | K56: NP
A57: 75 Nervous system | B57: 11071 | C57: NP | D57: 28009 | E57: 13280.5 | F57: 121806 | G57: 135111 | H57: 168049 | I57: 112096 | J57: 57339 | K57: NP
A58: 78 Other and multiple systemic conditions | B58: 10363 | C58: 13442 | D58: 15787 | E58: 8959.5 | F58: 12451.5 | G58: 13107 | H58: 14618 | I58: 9324 | J58: 15852.5 | K58: NP
A59: 79 Unspecified systemic conditions | B59: 9560.5 | C59: 6831 | D59: 24908 | E59: 4422.5 | F59: 17984 | G59: 15559.5 | H59: 3370.5 | I59: 26783 | J59: 71279.5 | K59: NP
A60: 8 Non-physical locations | B60: 37092 | C60: 42111 | D60: 47533.5 | E60: 55808 | F60: 62462 | G60: 67991 | H60: 75716 | I60: 74336 | J60: 68603.5 | K60: NP
A61: 80 Psychological system | B61: 37092 | C61: 42111 | D61: 47533.5 | E61: 55808 | F61: 62462 | G61: 67991 | H61: 75716 | I61: 74336 | J61: 68603.5 | K61: NP
A62: 9 Unspecified locations | B62: 8537 | C62: 10570 | D62: 9834.5 | E62: 7592.5 | F62: 7246.5 | G62: 7880 | H62: 6985 | I62: 12292 | J62: 10137 | K62: NP
A63: 90 Unspecified locations | B63: 8537 | C63: 10570 | D63: 9834.5 | E63: 7592.5 | F63: 7246.5 | G63: 7880 | H63: 6985 | I63: 12292 | J63: 10137 | K63: NP
A64: Total | B64: 12958 | C64: 14014.5 | D64: 14685 | E64: 15272.5 | F64: 15788 | G64: 16368 | H64: 14898 | I64: 16589 | J64: 19007 | K64: NP

Sheet Table 5.3
A1: ='Cover page'!$A$39 -> Table 5.3. Claims (median time lost) by Bodily location (TOOCS Sub major group), 10 years to 2024-25
A2: Return to Cover page
A3: Time period scope restriction | B3: TRUE
A4: ClaimType_Label | B4: Serious claims
A6: Claims (median time lost)
B7: 2015-16 | C7: 2016-17 | D7: 2017-18 | E7: 2018-19 | F7: 2019-20 | G7: 2020-21 | H7: 2021-22 | I7: 2022-23 | J7: 2023-24 | K7: 2024-25p
A8: 1 Head | B8: 2.96 | C8: 3 | D8: 3.155 | E8: 2.81 | F8: 2.6 | G8: 2.61 | H8: 3.17 | I8: 3.04 | J8: 3 | K8: NP
A9: 11 Cranium | B9: 4.955 | C9: 4.315 | D9: 5.21 | E9: 4 | F9: 4.08 | G9: 4 | H9: 4.22 | I9: 4.4 | J9: 5.2 | K9: NP
A10: 12 Eye | B10: 2 | C10: 1.85 | D10: 2 | E10: 1.8 | F10: 1.6 | G10: 1.625 | H10: 2 | I10: 2 | J10: 1.8 | K10: NP
A11: 13 Ear | B11: 2.715 | C11: 3.71 | D11: 3.63 | E11: 3.2 | F11: 4 | G11: 8.685 | H11: 5.74 | I11: 4.585 | J11: 4 | K11: NP
A12: 14 Mouth | B12: 2.2 | C12: 3.195 | D12: 2.6 | E12: 2.38 | F12: 2.26 | G12: 2.1 | H12: 2.6 | I12: 2.4 | J12: 2.4 | K12: NP
A13: 15 Nose | B13: 2.79 | C13: 3 | D13: 3.08 | E13: 3.33 | F13: 3.045 | G13: 2.77 | H13: 3.6 | I13: 3.56 | J13: 3.39 | K13: NP
A14: 16 Face, not elsewhere specified | B14: 3.045 | C14: 3.2 | D14: 3.69 | E14: 2.96 | F14: 3.2 | G14: 3 | H14: 4 | I14: 3.6 | J14: 3.4 | K14: NP
A15: 18 Head- multiple locations | B15: 4.4 | C15: 4 | D15: 3.02 | E15: 5.8 | F15: 3.6 | G15: 4.6 | H15: 4.21 | I15: 4.1 | J15: 5 | K15: NP
A16: 19 Head - unspecified locations | B16: 3.2 | C16: 3.26 | D16: 3.4 | E16: 2.79 | F16: 2.17 | G16: 2.2 | H16: 2.61 | I16: 2.4 | J16: 2.2 | K16: NP
A17: 2 Neck | B17: 7.55 | C17: 8.205 | D17: 9.21 | E17: 8.45 | F17: 8.8 | G17: 8.75 | H17: 10 | I17: 9.8 | J17: 9.99 | K17: NP
A18: 21 Neck | B18: 7.55 | C18: 8.205 | D18: 9.21 | E18: 8.45 | F18: 8.8 | G18: 8.75 | H18: 10 | I18: 9.8 | J18: 9.99 | K18: NP
A19: 3 Trunk | B19: 5.58 | C19: 5.6 | D19: 6 | E19: 6 | F19: 6.2 | G19: 6.6 | H19: 6.97 | I19: 7.14 | J19: 7.2 | K19: NP
... A55: 73 Digestive system | B55: 2.44 | C55: 1.8 | D55: 3.66 | E55: 2.4 | F55: 3.2 | G55: 3.89 | H55: 1.825 | I55: 2 | J55: 2.6 | K55: NP
A56: 74 Genitourinary system | B56: NP | C56: NP | D56: NP | E56: NP | F56: NP | G56: NP | H56: 14 | I56: 14.8 | J56: 9.79 | K56: NP
A57: 75 Nervous system | B57: 8.26 | C57: NP | D57: 11.18 | E57: 7.88 | F57: 16.34 | G57: 79 | H57: 76.2 | I57: 21.79 | J57: 32.105 | K57: NP
A58: 78 Other and multiple systemic conditions | B58: 4.555 | C58: 6.53 | D58: 5.445 | E58: 4.71 | F58: 5.04 | G58: 5.2 | H58: 6.15 | I58: 4.52 | J58: 7.26 | K58: NP
A59: 79 Unspecified systemic conditions | B59: 5.47 | C59: 3.6 | D59: 26.705 | E59: 4 | F59: 5.22 | G59: 7.865 | H59: 1.855 | I59: 13.2 | J59: 8.05 | K59: NP
A60: 8 Non-physical locations | B60: 20.2 | C60: 23 | D60: 26.9 | E60: 29.4 | F60: 33.775 | G60: 36.38 | H60: 39.8 | I60: 37.61 | J60: 34.84 | K60: NP
A61: 80 Psychological system | B61: 20.2 | C61: 23 | D61: 26.9 | E61: 29.4 | F61: 33.775 | G61: 36.38 | H61: 39.8 | I61: 37.61 | J61: 34.84 | K61: NP
A62: 9 Unspecified locations | B62: 3.805 | C62: 4.6 | D62: 4.29 | E62: 4 | F62: 3.395 | G62: 4 | H62: 3.8 | I62: 5.58 | J62: 4.6 | K62: NP
A63: 90 Unspecified locations | B63: 3.805 | C63: 4.6 | D63: 4.29 | E63: 4 | F63: 3.395 | G63: 4 | H63: 3.8 | I63: 5.58 | J63: 4.6 | K63: NP
A64: Total | B64: 6.32 | C64: 6.61 | D64: 7.2 | E64: 7.2 | F64: 7.5 | G64: 8 | H64: 7.05 | I64: 7.55 | J64: 8.21 | K64: NP

Sheet Table 6.1
A1: ='Cover page'!$A$41 -> Table 6.1. Claims (count) by Agency (TOOCS Sub major group), 10 years to 2024-25
A2: Return to Cover page
A3: Time period scope restriction | B3: TRUE
A4: ClaimType_Label | B4: Serious claims
A6: Claims (count)
B7: 2015-16 | C7: 2016-17 | D7: 2017-18 | E7: 2018-19 | F7: 2019-20 | G7: 2020-21 | H7: 2021-22 | I7: 2022-23 | J7: 2023-24 | K7: 2024-25p
A8: 1 Machinery and (mainly) fixed plant | B8: 4571 | C8: 4762 | D8: 4748 | E8: 4825 | F8: 4248 | G8: 4544 | H8: 4414 | I8: 4924 | J8: 5196 | K8: 5055
A9: 11 Cutting, slicing, sawing machinery | B9: 1310 | C9: 1319 | D9: 1278 | E9: 1252 | F9: 1052 | G9: 1146 | H9: 1143 | I9: 1280 | J9: 1252 | K9: 1257
A10: 12 Crushing, pressing, rolling machinery | B10: 264 | C10: 281 | D10: 274 | E10: 241 | F10: 226 | G10: 194 | H10: 229 | I10: 260 | J10: 289 | K10: 263
A11: 13 Heating, cooking, baking equipment | B11: 215 | C11: 243 | D11: 238 | E11: 232 | F11: 209 | G11: 231 | H11: 205 | I11: 268 | J11: 336 | K11: 271
A12: 14 Cooling refrigeration plant and equipment | B12: 158 | C12: 175 | D12: 151 | E12: 156 | F12: 175 | G12: 174 | H12: 183 | I12: 227 | J12: 248 | K12: 287
A13: 15 Conveyors and lifting plant | B13: 1509 | C13: 1584 | D13: 1632 | E13: 1669 | F13: 1456 | G13: 1611 | H13: 1573 | I13: 1758 | J13: 1837 | K13: 1796
A14: 16 Electrical installation | B14: 406 | C14: 467 | D14: 462 | E14: 551 | F14: 445 | G14: 448 | H14: 431 | I14: 471 | J14: 505 | K14: 540
A15: 17 Radiation-based equipment | B15: 49 | C15: 53 | D15: 49 | E15: 61 | F15: 32 | G15: 63 | H15: 45 | I15: 59 | J15: 70 | K15: 75
A16: 18 Filling and bottling/packaging plant | B16: 49 | C16: 46 | D16: 39 | E16: 57 | F16: 52 | G16: 57 | H16: 58 | I16: 57 | J16: 64 | K16: 64
A17: 19 Other plant and machinery | B17: 611 | C17: 594 | D17: 625 | E17: 606 | F17: 601 | G17: 620 | H17: 547 | I17: 544 | J17: 595 | K17: 502
A18: 2 Mobile plant and transport | B18: 8605 | C18: 8896 | D18: 8970 | E18: 9463 | F18: 8420 | G18: 9035 | H18: 8435 | I18: 9261 | J18: 10011 | K18: 9802
A19: 21 Self-propelled plant | B19: 591 | C19: 687 | D19: 707 | E19: 716 | F19: 745 | G19: 720 | H19: 701 | I19: 806 | J19: 864 | K19: 810
... A45: 53 Chemical products | B45: 423 | C45: 443 | D45: 488 | E45: 526 | F45: 531 | G45: 545 | H45: 518 | I45: 489 | J45: 575 | K45: 551
A46: 54 Immunobiologicals | B46: NP | C46: NP | D46: NP | E46: NP | F46: NP | G46: 32 | H46: 177 | I46: 18 | J46: 9 | K46: 8
A47: 6 Materials and substances | B47: 14481 | C47: 14508 | D47: 15466 | E47: 16126 | F47: 12708 | G47: 14131 | H47: 13544 | I47: 14322 | J47: 14944 | K47: 14807
A48: 61 Non-metallic minerals and substances | B48: 1519 | C48: 1511 | D48: 1612 | E48: 1823 | F48: 1580 | G48: 1757 | H48: 1718 | I48: 1831 | J48: 1942 | K48: 1852
A49: 62 Other materials and objects | B49: 11674 | C49: 11766 | D49: 12561 | E49: 12958 | F49: 9783 | G49: 10963 | H49: 10548 | I49: 11032 | J49: 11353 | K49: 11196
A50: 63 Other substances | B50: 1288 | C50: 1231 | D50: 1293 | E50: 1345 | F50: 1345 | G50: 1411 | H50: 1278 | I50: 1459 | J50: 1649 | K50: 1759
A51: 7 Environmental agencies | B51: 18275 | C51: 19333 | D51: 19051 | E51: 20799 | F51: 18073 | G51: 19739 | H51: 18713 | I51: 19683 | J51: 21212 | K51: 20987
A52: 71 Outdoor environment | B52: 11405 | C52: 12287 | D52: 12041 | E52: 13213 | F52: 11551 | G52: 12738 | H52: 12297 | I52: 12879 | J52: 13935 | K52: 13854
A53: 72 Indoor environment | B53: 6705 | C53: 6819 | D53: 6789 | E53: 7364 | F53: 6344 | G53: 6850 | H53: 6228 | I53: 6565 | J53: 7051 | K53: 6950
A54: 73/74 Underground environment | B54: 165 | C54: 227 | D54: 221 | E54: 222 | F54: 178 | G54: 151 | H54: 188 | I54: 239 | J54: 226 | K54: 183
A55: 8 Animal, human and biological agencies | B55: 12764 | C55: 13350 | D55: 13687 | E55: 16085 | F55: 12973 | G55: 14747 | H55: 23365 | I55: 23709 | J55: 21131 | K55: 20720
A56: 81 Live four-legged animals | B56: 1662 | C56: 1580 | D56: 1590 | E56: 1775 | F56: 1526 | G56: 1756 | H56: 1664 | I56: 1643 | J56: 1802 | K56: 1844
A57: 82 Other live animals | B57: 285 | C57: 258 | D57: 216 | E57: 272 | F57: 277 | G57: 257 | H57: 242 | I57: 352 | J57: 331 | K57: 337
A58: 83 Non-living animals | B58: 366 | C58: 340 | D58: 347 | E58: 317 | F58: 360 | G58: 343 | H58: 348 | I58: 373 | J58: 362 | K58: 366
... A64: Total | B64: 102564 | C64: 104431 | D64: 107949 | E64: 116879 | F64: 121277 | G64: 131735 | H64: 134650 | I64: 145745 | J64: 150973 | K64: 147174

Sheet Table 6.2
A1: ='Cover page'!$A$42 -> Table 6.2. Claims (median compensation) by Agency (TOOCS Sub major group), 10 years to 2024-25
A2: Return to Cover page
A3: Time period scope restriction | B3: TRUE
A4: ClaimType_Label | B4: Serious claims
A6: Claims (median compensation paid)
B7: 2015-16 | C7: 2016-17 | D7: 2017-18 | E7: 2018-19 | F7: 2019-20 | G7: 2020-21 | H7: 2021-22 | I7: 2022-23 | J7: 2023-24 | K7: 2024-25p
A8: 1 Machinery and (mainly) fixed plant | B8: 14063.5 | C8: 15076.5 | D8: 15075 | E8: 15100.5 | F8: 14365 | G8: 14478.5 | H8: 15168 | I8: 16329 | J8: 16715 | K8: NP
A9: 11 Cutting, slicing, sawing machinery | B9: 12684 | C9: 13954 | D9: 13770 | E9: 13723.5 | F9: 12586.5 | G9: 12847.5 | H9: 14702.5 | I9: 15557 | J9: 15481.5 | K9: NP
A10: 12 Crushing, pressing, rolling machinery | B10: 16408 | C10: 17280 | D10: 15019.5 | E10: 17110.5 | F10: 15327 | G10: 14526.5 | H10: 17964 | I10: 17205.5 | J10: 18241 | K10: NP
A11: 13 Heating, cooking, baking equipment | B11: 7314.5 | C11: 12619 | D11: 10025 | E11: 6286 | F11: 6126 | G11: 6110 | H11: 5785 | I11: 7256 | J11: 8576.5 | K11: NP
A12: 14 Cooling refrigeration plant and equipment | B12: 13896.5 | C12: 15161 | D12: 12247.5 | E12: 13109 | F12: 9628 | G12: 13905 | H12: 8825 | I12: 13815 | J12: 15909.5 | K12: NP
A13: 15 Conveyors and lifting plant | B13: 15606 | C13: 16140.5 | D13: 17388.5 | E13: 16874 | F13: 18934 | G13: 16825 | H13: 16657 | I13: 18457 | J13: 19706 | K13: NP
A14: 16 Electrical installation | B14: 18662.5 | C14: 15642 | D14: 17717.5 | E14: 16372 | F14: 14991 | G14: 16771 | H14: 16176 | I14: 16854 | J14: 17319 | K14: NP
A15: 17 Radiation-based equipment | B15: 11183 | C15: 23241 | D15: 12591 | E15: 16809 | F15: 19937.5 | G15: 28693 | H15: 13638 | I15: 19116 | J15: 16732.5 | K15: NP
A16: 18 Filling and bottling/packaging plant | B16: 10668 | C16: 14379 | D16: 8729 | E16: 20117 | F16: 10083.5 | G16: 21141 | H16: 12320 | I16: 17413 | J16: 15293.5 | K16: NP
A17: 19 Other plant and machinery | B17: 14889.5 | C17: 15577 | D17: 16919.5 | E17: 17295 | F17: 16310 | G17: 15201 | H17: 16424 | I17: 17562 | J17: 16806 | K17: NP
A18: 2 Mobile plant and transport | B18: 14497 | C18: 15904 | D18: 16258 | E18: 17190 | F18: 16650 | G18: 17354 | H18: 17994 | I18: 18502 | J18: 19531 | K18: NP
A19: 21 Self-propelled plant | B19: 22737 | C19: 27332 | D19: 24673 | E19: 27120 | F19: 25525 | G19: 34606.5 | H19: 31163 | I19: 29023 | J19: 31732.5 | K19: NP
... A45: 53 Chemical products | B45: 5952 | C45: 8054 | D45: 9492 | E45: 7384.5 | F45: 6755 | G45: 7190 | H45: 6145.5 | I45: 6675 | J45: 7349 | K45: NP
A46: 54 Immunobiologicals | B46: NP | C46: NP | D46: NP | E46: NP | F46: NP | G46: 9920.5 | H46: 28039 | I46: 33693 | J46: 127135 | K46: NP
A47: 6 Materials and substances | B47: 11716 | C47: 12663 | D47: 13332 | E47: 13366 | F47: 11646 | G47: 11609 | H47: 12517 | I47: 13029.5 | J47: 13704.5 | K47: NP
A48: 61 Non-metallic minerals and substances | B48: 12019 | C48: 13534.5 | D48: 14644 | E48: 16856 | F48: 14643 | G48: 12838 | H48: 15852 | I48: 15168 | J48: 16035.5 | K48: NP
A49: 62 Other materials and objects | B49: 12120 | C49: 13200.5 | D49: 13912 | E49: 13838.5 | F49: 11958 | G49: 12020.5 | H49: 12903 | I49: 13559 | J49: 14043 | K49: NP
A50: 63 Other substances | B50: 6636.5 | C50: 7605 | D50: 6537 | E50: 5935 | F50: 6132 | G50: 6692 | H50: 6009 | I50: 7005 | J50: 9385 | K50: NP
A51: 7 Environmental agencies | B51: 13581 | C51: 14418 | D51: 14899 | E51: 15325 | F51: 14806 | G51: 14471 | H51: 15656 | I51: 17262 | J51: 18356.5 | K51: NP
A52: 71 Outdoor environment | B52: 13827 | C52: 14857 | D52: 15530.5 | E52: 15900 | F52: 15200 | G52: 15027 | H52: 16622 | I52: 17670 | J52: 19429 | K52: NP
A53: 72 Indoor environment | B53: 13092 | C53: 13552 | D53: 13843 | E53: 14123.5 | F53: 13770 | G53: 13216 | H53: 13782 | I53: 16282 | J53: 16194 | K53: NP
A54: 73/74 Underground environment | B54: 21902 | C54: 19565.5 | D54: 15587 | E54: 24123 | F54: 24790 | G54: 28929 | H54: 21547 | I54: 21458 | J54: 20885 | K54: NP
A55: 8 Animal, human and biological agencies | B55: 12347.5 | C55: 14035 | D55: 14940 | E55: 15533.5 | F55: 12329 | G55: 13250 | H55: 4295 | I55: 5735 | J55: 11876 | K55: NP
A56: 81 Live four-legged animals | B56: 10385 | C56: 11931 | D56: 11487 | E56: 11622.5 | F56: 11137 | G56: 10452 | H56: 11863 | I56: 11889.5 | J56: 12530.5 | K56: NP
A57: 82 Other live animals | B57: 4536 | C57: 9289 | D57: 7070 | E57: 5922 | F57: 6634 | G57: 7047 | H57: 5485.5 | I57: 8656.5 | J57: 9544 | K57: NP
A58: 83 Non-living animals | B58: 10161 | C58: 11804 | D58: 12001 | E58: 13608 | F58: 10850.5 | G58: 13106 | H58: 14386.5 | I58: 14411 | J58: 15563 | K58: NP
... A64: Total | B64: 12958 | C64: 14014.5 | D64: 14685 | E64: 15272.5 | F64: 15788 | G64: 16368 | H64: 14898 | I64: 16589 | J64: 19007 | K64: NP

Sheet Table 6.3
A1: ='Cover page'!$A$43 -> Table 6.3. Claims (median time lost) by Agency (TOOCS Sub major group), 10 years to 2024-25
A2: Return to Cover page
A3: Time period scope restriction | B3: TRUE
A4: ClaimType_Label | B4: Serious claims
A6: Claims (median time lost)
B7: 2015-16 | C7: 2016-17 | D7: 2017-18 | E7: 2018-19 | F7: 2019-20 | G7: 2020-21 | H7: 2021-22 | I7: 2022-23 | J7: 2023-24 | K7: 2024-25p
A8: 1 Machinery and (mainly) fixed plant | B8: 5.6 | C8: 6.005 | D8: 6.2 | E8: 6.21 | F8: 5.27 | G8: 5.85 | H8: 5.86 | I8: 5.655 | J8: 6 | K8: NP
A9: 11 Cutting, slicing, sawing machinery | B9: 5 | C9: 5.07 | D9: 5.335 | E9: 5 | F9: 3.965 | G9: 4.46 | H9: 4.8 | I9: 4.905 | J9: 4.765 | K9: NP
A10: 12 Crushing, pressing, rolling machinery | B10: 5.79 | C10: 7.18 | D10: 6 | E10: 8 | F10: 5.215 | G10: 6 | H10: 6 | I10: 6.095 | J10: 6.2 | K10: NP
A11: 13 Heating, cooking, baking equipment | B11: 3.5 | C11: 7 | D11: 4.09 | E11: 3.095 | F11: 3.8 | G11: 3 | H11: 3.86 | I11: 3.415 | J11: 3.99 | K11: NP
A12: 14 Cooling refrigeration plant and equipment | B12: 5.57 | C12: 4.2 | D12: 5 | E12: 6.435 | F12: 4 | G12: 6.54 | H12: 4.24 | I12: 5.68 | J12: 7.24 | K12: NP
A13: 15 Conveyors and lifting plant | B13: 6.4 | C13: 7 | D13: 7.325 | E13: 7 | F13: 7 | G13: 7 | H13: 7 | I13: 7 | J13: 7.38 | K13: NP
A14: 16 Electrical installation | B14: 6.22 | C14: 6.2 | D14: 7.205 | E14: 7.21 | F14: 5.4 | G14: 6.5 | H14: 6.5 | I14: 5.25 | J14: 6.1 | K14: NP
A15: 17 Radiation-based equipment | B15: 3.84 | C15: 5.86 | D15: 5.4 | E15: 12.1 | F15: 5.45 | G15: 9.22 | H15: 6 | I15: 5.24 | J15: 6.625 | K15: NP
